BEGIN:VCALENDAR
VERSION:2.0
PRODID:-//Eventi in Toscana By Toscana Tascabile - ECPv6.15.12.2//NONSGML v1.0//EN
CALSCALE:GREGORIAN
METHOD:PUBLISH
X-WR-CALNAME:Eventi in Toscana By Toscana Tascabile
X-ORIGINAL-URL:https://www.eventiintoscana.it
X-WR-CALDESC:Eventi per Eventi in Toscana By Toscana Tascabile
REFRESH-INTERVAL;VALUE=DURATION:PT1H
X-Robots-Tag:noindex
X-PUBLISHED-TTL:PT1H
BEGIN:VTIMEZONE
TZID:Europe/Rome
BEGIN:DAYLIGHT
TZOFFSETFROM:+0100
TZOFFSETTO:+0200
TZNAME:CEST
DTSTART:20180325T010000
END:DAYLIGHT
BEGIN:STANDARD
TZOFFSETFROM:+0200
TZOFFSETTO:+0100
TZNAME:CET
DTSTART:20181028T010000
END:STANDARD
BEGIN:DAYLIGHT
TZOFFSETFROM:+0100
TZOFFSETTO:+0200
TZNAME:CEST
DTSTART:20190331T010000
END:DAYLIGHT
BEGIN:STANDARD
TZOFFSETFROM:+0200
TZOFFSETTO:+0100
TZNAME:CET
DTSTART:20191027T010000
END:STANDARD
BEGIN:DAYLIGHT
TZOFFSETFROM:+0100
TZOFFSETTO:+0200
TZNAME:CEST
DTSTART:20200329T010000
END:DAYLIGHT
BEGIN:STANDARD
TZOFFSETFROM:+0200
TZOFFSETTO:+0100
TZNAME:CET
DTSTART:20201025T010000
END:STANDARD
END:VTIMEZONE
BEGIN:VEVENT
DTSTART;TZID=Europe/Rome:20190901T080000
DTEND;TZID=Europe/Rome:20190930T230000
DTSTAMP:20260422T001438
CREATED:20190902T133209Z
LAST-MODIFIED:20190915T191101Z
UID:278619-1567324800-1569884400@www.eventiintoscana.it
SUMMARY:Vivi Fortezza\, il programma di Settembre - Siena
DESCRIPTION:Con settembre giunge a conclusione Vivi Fortezza 2019\, la programmazione di eventi per rivalorizzare la Fortezza Medicea di Siena. Le attività proposte hanno spaziato dai concerti ai laboratori creativi per bambini\, non dimenticando lo sport. Il settembre di Vivi Fortezza continuerà con la stessa idea di eventi adatti sia a chi vuole stimolare il corpo e a chi la mente. \nPROGRAMMA DI SETTEMBRE \nDomenica 1 \n19/21.30 – Aperitivo \nLunedì 2 \n9.30/10.30 – Yoga \n19/21.30 – Aperitivo \nMartedì 3 \n18.45/19.45 – Freeletics \n19/21.30 – Aperitivo \n22.30 – Concerto Banda Città del Palio (Anfiteatro stage) \nMercoledì 4 \n19/21.30 – Aperitivo \nGiovedì 5 \n9.30/10.30 – Yoga \n19/21.30 – Aperitivo \nVenerdì 6 \n19/21.30 – Aperitivo \n21 – Concerto Kokoroko+Savana Funk (Anfiteatro stage) (a pagamento) \nSabato 7 \n9/10 – Freeletics \n19/21.30 – Aperitivo \nDomenica 8 \n19/21.30 – Aperitivo con sfilata di moda \n21 – Cena con il concerto del soprano canadese Anne-Marie Faniel (Anfiteatro stage) \nLunedì 9 \n9.30/10.30 – Yoga \n19/21.30 – Aperitivo \nMartedì 10 \n18.45/19.45 – Freeletics \n19/21.30 – Aperitivo \n21 – Concerto Satoyama (Bastione S. Domenico) \nMercoledì 11 \n19/21.30 – Aperitivo \nGiovedì 12 \n9.30/10.30 – Yoga \n17/20.30 – Fitness day con il Comitato palestre senesi \n19/21.30 – Aperitivo \nVenerdì 13 \n19/21.30 – Aperitivo \n21 – Concerto The Bluebeaters+Skagnozzi (Anfiteatro stage) \nSabato 14 \n9/10 – Freeletics \n19/21.30 – Aperitivo \nDomenica 15 \n19/21.30 – Aperitivo \n21 – Concerto Lorenzo Kruger (Bastione S. Domenico) \nLunedì 16 \n19/21.30 – Aperitivo \nMartedì 17 \n10.30/11.30 – Ginnastica post parto \n18.45/19.45 – Freeletics \n19/21.30 – Aperitivo \n21 – Concerto Handlogic (Bastione S. Domenico) \nMercoledì 18 \n18/19 – Crossfit \n18.30/19.30 – Ginnastica pre parto \n19/21.30 – Aperitivo \nGiovedì 19 \n10.30/11.30 – Ginnastica post parto \n19/21.30 – Aperitivo \n21 – Dj set vintage con Mirco Roppolo \nVenerdì 20 \n19/21.30 – Aperitivo \n21 – Aspettando Bright: Concerto BowLand+Cucina Sonora (Anfiteatro stage) (a pagamento) \nSabato 21 \n9/10 – Freeletics \n9/19 – La fattoria in Fortezza \n19/21.30 – Aperitivo \n21 – Student welcome party con il dj set di Smerling \nDomenica 22 \n9/19 – La fattoria in Fortezza \n19/21.30 – Aperitivo \n21 – Serata latinoamericana con Latinando (Bastione S. Domenico) \nLunedì 23 \n19/21.30 – Aperitivo \n21 – Aspettando Bright: La lunga Notte dei ricercatori \nMartedì 24 \n10.30/11.30 – Ginnastica post parto \n18.45/19.45 – Freeletics \n19/21.30 – Aperitivo \n19 – Aspettando Bright: In vino veritas + Jazz concert \nMercoledì 25 \n18.30/19.30 – Ginnastica pre parto \n19/21.30 – Aperitivo \n21 – Aspettando Bright:  Star party della Notte dei ricercatori + Concerto Gli amici di Pippo (Cover band di Fabrizio De André) (Bastione S. Domenico) \nGiovedì 26 \n10.30/11.30 – Ginnastica post parto \n19/21.30 – Aperitivo \nVenerdì 27 \n19/21.30 – Aperitivo \n21 – Serata Musik Club revival con il gruppo Tegamata \nSabato 28 \n9/10 – Freeletics \n19/21.30 – Aperitivo \n19.30/20.30 – Presentazione del libro “Club confidential” di Lele Sacchi (Bastione S. Domenico) \n21 – Aspettando Bright: Dj set di Lele Sacchi+Antonio Markì (Bastione S. Domenico) \nDomenica 29 \n19/21.30 – Aperitivo \nLunedì 30 \n19/21.30 – Aperitivo
URL:https://www.eventiintoscana.it/evento/vivi-fortezza-programma-settembre-siena
LOCATION:Luogo Senza Nome\, Siena
CATEGORIES:Rassegne e Sagre,Siena
ATTACH;FMTTYPE=image/jpeg:https://www.eventiintoscana.it/wp-content/uploads/2019/09/Siena_pixabay.jpg
ORGANIZER;CN="Unnamed Organizzatore":MAILTO:info@vivifortezza.it
END:VEVENT
END:VCALENDAR