BEGIN:VCALENDAR
VERSION:2.0
PRODID:-//Eventi in Toscana By Toscana Tascabile - ECPv6.15.12.2//NONSGML v1.0//EN
CALSCALE:GREGORIAN
METHOD:PUBLISH
X-WR-CALNAME:Eventi in Toscana By Toscana Tascabile
X-ORIGINAL-URL:https://www.eventiintoscana.it
X-WR-CALDESC:Eventi per Eventi in Toscana By Toscana Tascabile
REFRESH-INTERVAL;VALUE=DURATION:PT1H
X-Robots-Tag:noindex
X-PUBLISHED-TTL:PT1H
BEGIN:VTIMEZONE
TZID:Europe/Rome
BEGIN:DAYLIGHT
TZOFFSETFROM:+0100
TZOFFSETTO:+0200
TZNAME:CEST
DTSTART:20180325T010000
END:DAYLIGHT
BEGIN:STANDARD
TZOFFSETFROM:+0200
TZOFFSETTO:+0100
TZNAME:CET
DTSTART:20181028T010000
END:STANDARD
BEGIN:DAYLIGHT
TZOFFSETFROM:+0100
TZOFFSETTO:+0200
TZNAME:CEST
DTSTART:20190331T010000
END:DAYLIGHT
BEGIN:STANDARD
TZOFFSETFROM:+0200
TZOFFSETTO:+0100
TZNAME:CET
DTSTART:20191027T010000
END:STANDARD
BEGIN:DAYLIGHT
TZOFFSETFROM:+0100
TZOFFSETTO:+0200
TZNAME:CEST
DTSTART:20200329T010000
END:DAYLIGHT
BEGIN:STANDARD
TZOFFSETFROM:+0200
TZOFFSETTO:+0100
TZNAME:CET
DTSTART:20201025T010000
END:STANDARD
END:VTIMEZONE
BEGIN:VEVENT
DTSTART;TZID=Europe/Rome:20190602T150000
DTEND;TZID=Europe/Rome:20190602T200000
DTSTAMP:20260422T121633
CREATED:20190513T154354Z
LAST-MODIFIED:20190602T174256Z
UID:275841-1559487600-1559505600@www.eventiintoscana.it
SUMMARY:Il Castello dei Balocchi - Monteriggioni (Siena)
DESCRIPTION:Domenica 2 giugno torna la sesta edizione di Monteriggioni Il Castello dei Balocchi\, l’appuntamento ludico in cui le famiglie possono svagarsi all’aria aperta godendo della meraviglia del Castello e vivendo un’esperienza all’insegna del gioco e del divertimento. Tema dell’edizione 2019: la magica Mary Poppins!\nIl castello di Monteriggioni si trasformerà così in un mondo fantastico che contraddice le leggi fisiche di quello reale\, pieno di personaggi incredibili e stravaganti che vi condurranno per mano attraverso racconti e magie. In questa storia\, le famiglie si ritroveranno a passeggiare con gli spazzacamini\, a cavallo di cavalli a bastone che prendono vita ma anche dentro la seriosa e autorevole banca di Mr. Banks. E tu sai già cosa farai dei 2 penny che avrai a disposizione? \nIl filo della narrazione si dipanerà sotto gli occhi dei visitatori passando da un episodio all’altro\, tra incontri di strani personaggi\, ostacoli da superare e storie da ascoltare. \nQuest’anno ad accogliervi nel castello ecco la tata governante… ha in mano un metro speciale che arriva direttamente dalla borsa di Mary Poppins…il metro indica che tipetto sei e ci racconta di te…chissà se avrai bisogno di tata Mary!? \nUna volta dentro il castello quindi\, le famiglie potranno decidere come iniziare il loro viaggio\, visitando poi tutte le aree gioco. Per aiutarle nel loro cammino avranno con sé la mappa dei luoghi…ma nessuna paura\, nel mondo di Mary c’è sempre uno spazzacamino pronto ad indicarti la via! \nLa street band itinerante suonerà per le strade allietando con la propria musica\, nella piazza principale e per le vie del borgo si svolgerà la mostra mercato per l’esposizione e la vendita dei manufatti artigianali. \nPiazza I° Maggio vi aspetterà con stand gastronomici. \nAppuntamenti da non perdere\nOre 15.00\nAll’arco di ingresso del castello\nHappening di apertura in compagnia dei personaggi del mondodi Mary Poppins \nOre 16.00 – ore 18.00\nNell’area “spettacoli sui tetti”\nSpettacolo di bolle di sapone dello spazzacamino \nDalle ore 16.30\nMusica itinerante per le vie del castello con la street band \nOre 19.30\nIn Piazza Roma\nGran finale \nAree gioco\nBASTA UN POCO DI ZUCCHERO… \ne la pillola va giù! Così canta Mary Poppins per ricordarci che con la dolcezza possiamo affrontare tutte le piccole difficoltà. Lo zucchero colora il mondo e lo rende più melodioso.\nEcco cosa serve in questa area creativa: colori\, idee e un pizzico di fantasia per il laboratorio più dolce che ci sia…lo zucchero diventa colore per disegni e quadretti da decorare che potrai attaccare nella tua cameretta. \nSPETTACOLI SUI TETTI \nIn quest’area potrai assistere a spettacoli e storie che emozioneranno grandi e piccini.\nLo spazzacamino è il protagonista di quest’area dove la meraviglia fa da padrone!\nChi meglio di lui che vive sui tetti conosce il romanticismo di albe e tramonti\, la leggerezza dell’aria e l’incanto del fumo dei comignoli che sale\, che se lo segui con lo sguardo sembra farti volare?\nLo spazzacamino vi guiderà in un viaggio alla scoperta del mondo delle bolle di sapone. Tra magia e poesia passando dalle micro bolle a quelle giganti\, dalle bolle con le mani o con strumenti strani\, scalando bolle vulcano e domando bolle di fuoco\, vi ritroverete sotto una pioggia di bolle e chissà forse anche dentro una di esse\, per poi volare via liberi nel cielo insieme ai vostri sogni. \nA SCUOLA DI GALATEO DAI PINGUINI CAMERIERI \nI pinguini sono dei veri maestri al servizio a tavola. Conoscono le buone maniere\, la galanteria e l’educazione. Per questo sono buoni amici di Mary Poppins.\nTu saprai essere un bambino altrettanto attento e scaltro nel portare tra mille ostacoli il vassoio con i bicchieri al tavolo da the? Sperimentati nel percorso a tema con prove ad ostacoli da superare per entrare anche tu nel club dei pinguini educati. \nIN SELLA ALLA GIOSTRA \nI cavalli hanno preso vita e sono usciti dalla giostra per fare una bella passeggiata al parco. In quest’area costruisci il tuo animale da corsa\, segui il percorso in sella al tuo destriero e arriva al foto finish!\nPotrai poi portare il tuo cavallino a bastone direttamente nella stalla di casa tua a condizione che continui a prendertene cura e a farlo correre con te ad ogni occasione. \nGIOCHI DI UNA VOLTA \nI giochi antichi di legno rivivono in piazza I° Maggio\, dove adulti e bambini possono cimentarsi in sfide\, rompicapo e giochi d’abilità. Tutti i giochi che allestiscono l’area sono giochi d’epoca costruiti artigianalmente in legno.\nEcco quindi biliardini\, flipper\, domino e giochi sonori\, costruzioni\, catapulte e giochi d’equilibrio\, trottole\, giochi di lancio e tutto ciò che i nostri nonni si costruivano da soli…una vera e propria ludoteca a cielo aperto. \nIN BANCA \nAnche solo due grami miseri semplici penny possono cambiare i sogni! E a volte possono riuscire anche nel difficile intento di far ridere Mr Banks…\nIn banca usa i tuoi penny al meglio e strappa un sorriso anche a chi deve ritrovare la fantasia in fondo al suo cuore! \nFINALMENTE MARY! \nDirettamente da Londra a Monteriggioni\, eccola finalmente! Bella\, ironica ed autoritaria\, avrà viaggiato fino a noi con il suo ombrello\, portata dal vento…Mary Poppins in persona ti affascinerà con storie\, la sua borsa magica infinita e il suo gioco del “tutto a posto!”\nSperiamo che la sua eccentrica cugina Topsy non stravolga il mondo soprasotto come è solita fare! Toccherà a voi aiutare Mary Poppins a rimettere in ordine le cose! \nBIGLIETTI \nBiglietto unico 6 euro per adulti e bambini.\nGratuito bambini sotto i due anni e disabili. \nNon è prevista la prevendita.\nLa biglietteria all’ingresso del castello sarà aperta dalle ore 14.45 alle ore 19.30\, per la vendita diretta dei biglietti e per la distribuzione della mappa del castello. \n  \n 
URL:https://www.eventiintoscana.it/evento/castello-dei-balocchi-monteriggioni-siena
LOCATION:Luogo Senza Nome\, Monteriggioni\, Siena
CATEGORIES:Rassegne e Sagre,Siena
ATTACH;FMTTYPE=image/jpeg:https://www.eventiintoscana.it/wp-content/uploads/2019/05/Monteriggioni-il-Castello-dei-Balocchi2-1.jpg
ORGANIZER;CN="Extempora":MAILTO:castellobalocchi@extempora.it  
END:VEVENT
END:VCALENDAR