BEGIN:VCALENDAR
VERSION:2.0
PRODID:-//Eventi in Toscana By Toscana Tascabile - ECPv6.15.12.2//NONSGML v1.0//EN
CALSCALE:GREGORIAN
METHOD:PUBLISH
X-ORIGINAL-URL:https://www.eventiintoscana.it
X-WR-CALDESC:Eventi per Eventi in Toscana By Toscana Tascabile
REFRESH-INTERVAL;VALUE=DURATION:PT1H
X-Robots-Tag:noindex
X-PUBLISHED-TTL:PT1H
BEGIN:VTIMEZONE
TZID:Europe/Rome
BEGIN:DAYLIGHT
TZOFFSETFROM:+0100
TZOFFSETTO:+0200
TZNAME:CEST
DTSTART:20160327T010000
END:DAYLIGHT
BEGIN:STANDARD
TZOFFSETFROM:+0200
TZOFFSETTO:+0100
TZNAME:CET
DTSTART:20161030T010000
END:STANDARD
BEGIN:DAYLIGHT
TZOFFSETFROM:+0100
TZOFFSETTO:+0200
TZNAME:CEST
DTSTART:20170326T010000
END:DAYLIGHT
BEGIN:STANDARD
TZOFFSETFROM:+0200
TZOFFSETTO:+0100
TZNAME:CET
DTSTART:20171029T010000
END:STANDARD
BEGIN:DAYLIGHT
TZOFFSETFROM:+0100
TZOFFSETTO:+0200
TZNAME:CEST
DTSTART:20180325T010000
END:DAYLIGHT
BEGIN:STANDARD
TZOFFSETFROM:+0200
TZOFFSETTO:+0100
TZNAME:CET
DTSTART:20181028T010000
END:STANDARD
END:VTIMEZONE
BEGIN:VEVENT
DTSTART;TZID=Europe/Rome:20171030T100000
DTEND;TZID=Europe/Rome:20171031T200000
DTSTAMP:20260420T024031
CREATED:20171027T084501Z
LAST-MODIFIED:20171027T084711Z
UID:253069-1509357600-1509480000@www.eventiintoscana.it
SUMMARY:Halloween Party - Centro Commerciale I Gigli (Firenze)
DESCRIPTION:Lunedì 30 (ore 15-19) e martedì 31 (ore 10-13 e 15-20)\, due giornate da brivido al Centro Commerciale i Gigli\, con truccabimbi\, spettacoli di micromagia\, lo scary photobooth e tanti gadget per i più piccoli! I più grandi invece potranno scoprire il loro futuro con la lettura dei tarocchi.
URL:https://www.eventiintoscana.it/evento/halloween-party-ai-gigli
LOCATION:Centro Commerciale I Gigli\, Via San Quirico\, 165\, Campi Bisenzio\, Toscana\, 50013\, Italia
CATEGORIES:Firenze,Rassegne e Sagre
ATTACH;FMTTYPE=image/jpeg:https://www.eventiintoscana.it/wp-content/uploads/2017/10/giglihalloween.jpg
END:VEVENT
END:VCALENDAR