BEGIN:VCALENDAR
VERSION:2.0
PRODID:-//Eventi in Toscana By Toscana Tascabile - ECPv6.15.12.2//NONSGML v1.0//EN
CALSCALE:GREGORIAN
METHOD:PUBLISH
X-WR-CALNAME:Eventi in Toscana By Toscana Tascabile
X-ORIGINAL-URL:https://www.eventiintoscana.it
X-WR-CALDESC:Eventi per Eventi in Toscana By Toscana Tascabile
REFRESH-INTERVAL;VALUE=DURATION:PT1H
X-Robots-Tag:noindex
X-PUBLISHED-TTL:PT1H
BEGIN:VTIMEZONE
TZID:Europe/Rome
BEGIN:DAYLIGHT
TZOFFSETFROM:+0100
TZOFFSETTO:+0200
TZNAME:CEST
DTSTART:20200329T010000
END:DAYLIGHT
BEGIN:STANDARD
TZOFFSETFROM:+0200
TZOFFSETTO:+0100
TZNAME:CET
DTSTART:20201025T010000
END:STANDARD
BEGIN:DAYLIGHT
TZOFFSETFROM:+0100
TZOFFSETTO:+0200
TZNAME:CEST
DTSTART:20210328T010000
END:DAYLIGHT
BEGIN:STANDARD
TZOFFSETFROM:+0200
TZOFFSETTO:+0100
TZNAME:CET
DTSTART:20211031T010000
END:STANDARD
BEGIN:DAYLIGHT
TZOFFSETFROM:+0100
TZOFFSETTO:+0200
TZNAME:CEST
DTSTART:20220327T010000
END:DAYLIGHT
BEGIN:STANDARD
TZOFFSETFROM:+0200
TZOFFSETTO:+0100
TZNAME:CET
DTSTART:20221030T010000
END:STANDARD
END:VTIMEZONE
BEGIN:VEVENT
DTSTART;VALUE=DATE:20210205
DTEND;VALUE=DATE:20210209
DTSTAMP:20260421T134708
CREATED:20210207T085855Z
LAST-MODIFIED:20210207T085855Z
UID:288719-1612483200-1612828799@www.eventiintoscana.it
SUMMARY:Firenze Home Texstyle digital edition - Firenze
DESCRIPTION:Dal 5 all’8 febbraio appuntamento con la versione digital del Firenze Home Textyle.\nUna cinquantina le aziende top partecipanti\, 60 i marchi leader rappresentati ma anche webinar storiche manifatture d’arte e collezioni museali. \nUn’edizione speciale\, tutta on line\, in attesa del ritorno alla fiera fisica nel 2022\, con la partecipazione di una cinquantina di aziende e 60 marchi leader rappresentati del comparto manifatturiero italiano del tessile per la casa\, nautica\, spa\, contract & hotellerie\, editoria tessile\, fragranze\, settori che in questi ultimi mesi stanno registrando sempre più l’interesse del pubblico.  \nIn campo\, a fianco delle imprese\, buyer di department store\, concept store\, architetti e interior designer\, key player del settore arredo tessile ma anche opinion leader\, giornalisti\, influencer e blogger a caccia di nuovi trend e mood del momento.  \nL’evento aprirà i battenti venerdì 5 fino a lunedì 8 febbraio e offrirà numerose opportunità: dalla visita agli stand virtuali degli espositori nei diversi padiglioni al live Meeting in modalità video call\, dagli Incontri B2B alla partecipazione a webinar per scoprire trend\, stili\, nuovi materiali e le ultime novità nei processi produttivi.  \nA seguire\, dal 9 febbraio al 21 giugno spazio al Business Goin’On dove sarà possibile approfondire i rapporti di business avviati nelle giornate di apertura\, continuare a programmare appuntamenti ed effettuare la votazione degli Espositori per Firenze Home Texstyle Awards 2021\, in programma il 22 giugno 2021.  \nFra i webinar in calendario (con iscrizione gratuita previa registrazione sul sito www.firenzehometexstyle.com) \, da non perdere sabato 6 febbraio alle ore 10\,00 l’incontro con il Dipartimento di Architettura – DIDA dell’Università di Firenze sul tema Design dell’innovazione tecnologica nel settore del tessile: racconti\, finalizzato a presentare alcuni scenari di innovazione nel settore del tessile abbinato al design attraverso la presentazione di progetti di ricerca condotti con aziende di settore. Sempre sabato\, per gli appassionati di collezionismo tessile\, alle ore 11\,00 la presentazione dei Tessuti e tappezzerie al Museo Stibbert a cura del Prof Enrico Colle\, soprintendente del prestigioso Museo fiorentino.
URL:https://www.eventiintoscana.it/evento/firenze-home-texstyle-digital-edition-firenze
CATEGORIES:Fiere e Mercatini,Firenze
ATTACH;FMTTYPE=image/jpeg:https://www.eventiintoscana.it/wp-content/uploads/2021/02/home-textyle.jpg
END:VEVENT
END:VCALENDAR