BEGIN:VCALENDAR
VERSION:2.0
PRODID:-//Eventi in Toscana By Toscana Tascabile - ECPv6.15.12.2//NONSGML v1.0//EN
CALSCALE:GREGORIAN
METHOD:PUBLISH
X-WR-CALNAME:Eventi in Toscana By Toscana Tascabile
X-ORIGINAL-URL:https://www.eventiintoscana.it
X-WR-CALDESC:Eventi per Eventi in Toscana By Toscana Tascabile
REFRESH-INTERVAL;VALUE=DURATION:PT1H
X-Robots-Tag:noindex
X-PUBLISHED-TTL:PT1H
BEGIN:VTIMEZONE
TZID:Europe/Rome
BEGIN:DAYLIGHT
TZOFFSETFROM:+0100
TZOFFSETTO:+0200
TZNAME:CEST
DTSTART:20170326T010000
END:DAYLIGHT
BEGIN:STANDARD
TZOFFSETFROM:+0200
TZOFFSETTO:+0100
TZNAME:CET
DTSTART:20171029T010000
END:STANDARD
BEGIN:DAYLIGHT
TZOFFSETFROM:+0100
TZOFFSETTO:+0200
TZNAME:CEST
DTSTART:20180325T010000
END:DAYLIGHT
BEGIN:STANDARD
TZOFFSETFROM:+0200
TZOFFSETTO:+0100
TZNAME:CET
DTSTART:20181028T010000
END:STANDARD
BEGIN:DAYLIGHT
TZOFFSETFROM:+0100
TZOFFSETTO:+0200
TZNAME:CEST
DTSTART:20190331T010000
END:DAYLIGHT
BEGIN:STANDARD
TZOFFSETFROM:+0200
TZOFFSETTO:+0100
TZNAME:CET
DTSTART:20191027T010000
END:STANDARD
END:VTIMEZONE
BEGIN:VEVENT
DTSTART;TZID=Europe/Rome:20180518T210000
DTEND;TZID=Europe/Rome:20180518T210000
DTSTAMP:20260424T013543
CREATED:20180408T090829Z
LAST-MODIFIED:20180520T000807Z
UID:264543-1526677200-1526677200@www.eventiintoscana.it
SUMMARY:Omaggio a Morricone - Musiche da Oscar - Teatro Verdi\, Montecatini Terme (Pistoia)
DESCRIPTION:Ensemble Le Muse. Andrea Albertini (direttore\, pianoforte). \nUna rassegna dalle più celebri colonne sonore\, selezionata tra le oltre 400 musiche da film che il maestro italiano ha composto. Musiche che diventano immagini\, tanto sono radicate nella memoria collettiva le scene di alcuni film che le colonne sonore di Morricone hanno contribuito a far diventare celeberrimi. Dalla lunga e incomparabile collaborazione con Sergio Leone fino alla produzione cinematografica più recente\, le musiche raffinate e semplici insieme di Ennio Morricone sono un autentico vocabolario di suggestioni che è sempre suggestivo sfogliare con i tempi diversi delle sue composizioni\, a volte liriche e a volte brillanti… ma sempre emozionanti.
URL:https://www.eventiintoscana.it/evento/omaggio-a-morricone-musiche-da-oscar-teatro-verdi-montecatini-terme-pistoia
LOCATION:Teatro Verdi\, Viale Giuseppe Verdi\, 45\, Montecatini Terme\, Toscana\, IT
CATEGORIES:Classica,Pistoia
ATTACH;FMTTYPE=image/jpeg:https://www.eventiintoscana.it/wp-content/uploads/2018/04/29217__TeatroVerdi_Montecatini.jpg
END:VEVENT
END:VCALENDAR