BEGIN:VCALENDAR
VERSION:2.0
PRODID:-//Eventi in Toscana By Toscana Tascabile - ECPv6.15.12.2//NONSGML v1.0//EN
CALSCALE:GREGORIAN
METHOD:PUBLISH
X-ORIGINAL-URL:https://www.eventiintoscana.it
X-WR-CALDESC:Eventi per Eventi in Toscana By Toscana Tascabile
REFRESH-INTERVAL;VALUE=DURATION:PT1H
X-Robots-Tag:noindex
X-PUBLISHED-TTL:PT1H
BEGIN:VTIMEZONE
TZID:Europe/Rome
BEGIN:DAYLIGHT
TZOFFSETFROM:+0100
TZOFFSETTO:+0200
TZNAME:CEST
DTSTART:20170326T010000
END:DAYLIGHT
BEGIN:STANDARD
TZOFFSETFROM:+0200
TZOFFSETTO:+0100
TZNAME:CET
DTSTART:20171029T010000
END:STANDARD
BEGIN:DAYLIGHT
TZOFFSETFROM:+0100
TZOFFSETTO:+0200
TZNAME:CEST
DTSTART:20180325T010000
END:DAYLIGHT
BEGIN:STANDARD
TZOFFSETFROM:+0200
TZOFFSETTO:+0100
TZNAME:CET
DTSTART:20181028T010000
END:STANDARD
BEGIN:DAYLIGHT
TZOFFSETFROM:+0100
TZOFFSETTO:+0200
TZNAME:CEST
DTSTART:20190331T010000
END:DAYLIGHT
BEGIN:STANDARD
TZOFFSETFROM:+0200
TZOFFSETTO:+0100
TZNAME:CET
DTSTART:20191027T010000
END:STANDARD
END:VTIMEZONE
BEGIN:VEVENT
DTSTART;TZID=Europe/Rome:20180804T080000
DTEND;TZID=Europe/Rome:20180805T230000
DTSTAMP:20260422T001209
CREATED:20180730T060150Z
LAST-MODIFIED:20180805T203907Z
UID:269055-1533369600-1533510000@www.eventiintoscana.it
SUMMARY:Histrionika - Mura Urbane\, Lucca
DESCRIPTION:Sabato 4 e domenica 5 agosto Histrionika torna sulle mura urbane di Lucca\, sui baluardi\, nelle cannoniere e in alcune parti dei sotterranei annessi .\nGli artisti saranno posizionati in diversi punti dell’area in cui si svilupperà l’evento e si alterneranno come previsto dagli orari indicati sulla programmazione. Anche quest’anno saranno presenti molti banchi dell’artigianato e sarà possibile sostare presso i punti ristoro presenti lungo il percorso.\nNovità di quest’anno sarà il “cambio moneta”\, all’ingresso sarà possibile cambiare Euro in Dobloni antichi per acquistare prodotti gastronomici all’interno della manifestazione.\n\nGuarda il sito ufficiale della manifestazione\, la pagina Facebook e il promo 2018
URL:https://www.eventiintoscana.it/evento/histrionika-lucca
LOCATION:Mura di Lucca\, Lucca
CATEGORIES:Fiere e Mercatini,Lucca
ATTACH;FMTTYPE=image/jpeg:https://www.eventiintoscana.it/wp-content/uploads/2016/02/histrionika-2018.jpg
END:VEVENT
END:VCALENDAR