BEGIN:VCALENDAR
VERSION:2.0
PRODID:-//Eventi in Toscana By Toscana Tascabile - ECPv6.15.12.2//NONSGML v1.0//EN
CALSCALE:GREGORIAN
METHOD:PUBLISH
X-WR-CALNAME:Eventi in Toscana By Toscana Tascabile
X-ORIGINAL-URL:https://www.eventiintoscana.it
X-WR-CALDESC:Eventi per Eventi in Toscana By Toscana Tascabile
REFRESH-INTERVAL;VALUE=DURATION:PT1H
X-Robots-Tag:noindex
X-PUBLISHED-TTL:PT1H
BEGIN:VTIMEZONE
TZID:Europe/Rome
BEGIN:DAYLIGHT
TZOFFSETFROM:+0100
TZOFFSETTO:+0200
TZNAME:CEST
DTSTART:20150329T010000
END:DAYLIGHT
BEGIN:STANDARD
TZOFFSETFROM:+0200
TZOFFSETTO:+0100
TZNAME:CET
DTSTART:20151025T010000
END:STANDARD
BEGIN:DAYLIGHT
TZOFFSETFROM:+0100
TZOFFSETTO:+0200
TZNAME:CEST
DTSTART:20160327T010000
END:DAYLIGHT
BEGIN:STANDARD
TZOFFSETFROM:+0200
TZOFFSETTO:+0100
TZNAME:CET
DTSTART:20161030T010000
END:STANDARD
BEGIN:DAYLIGHT
TZOFFSETFROM:+0100
TZOFFSETTO:+0200
TZNAME:CEST
DTSTART:20170326T010000
END:DAYLIGHT
BEGIN:STANDARD
TZOFFSETFROM:+0200
TZOFFSETTO:+0100
TZNAME:CET
DTSTART:20171029T010000
END:STANDARD
END:VTIMEZONE
BEGIN:VEVENT
DTSTART;TZID=Europe/Rome:20161028T000000
DTEND;TZID=Europe/Rome:20161101T000000
DTSTAMP:20260422T203845
CREATED:20160920T104308Z
LAST-MODIFIED:20161102T085633Z
UID:218559-1477612800-1477958400@www.eventiintoscana.it
SUMMARY:Gustatus - Orbetello (Grosseto)
DESCRIPTION:Undicesima edizione per Gustatus\nProfumi e sapori della tradizione contadina e lagunare scendo in piazza per cinque giorni! La rassegna enogastronomica è volta a valorizzare la cultura eno-agro-alimentare maremmana e toscana. \nAppuntamento dal 28 ottobre al 1° novembre 2016\nIl centro storico accoglierà per l’occasioni moltissimi stand di produttori. Sarà possibile degustare e infine acquistare prelibatezze uniche ma anche girovagare fra i mercatini tematici legati alle tradizioni.
URL:https://www.eventiintoscana.it/evento/gustatus-orbetello-orbetello-grosseto
LOCATION:Orbetello\, Orbetello\, Toscana\, Italia
CATEGORIES:Grosseto,Rassegne e Sagre
ATTACH;FMTTYPE=image/jpeg:https://www.eventiintoscana.it/wp-content/uploads/2016/09/17009__gustatus.jpg
ORGANIZER;CN="Gustatus":MAILTO:info@gustatus.it
END:VEVENT
END:VCALENDAR