BEGIN:VCALENDAR
VERSION:2.0
PRODID:-//Eventi in Toscana By Toscana Tascabile - ECPv6.15.12.2//NONSGML v1.0//EN
CALSCALE:GREGORIAN
METHOD:PUBLISH
X-ORIGINAL-URL:https://www.eventiintoscana.it
X-WR-CALDESC:Eventi per Eventi in Toscana By Toscana Tascabile
REFRESH-INTERVAL;VALUE=DURATION:PT1H
X-Robots-Tag:noindex
X-PUBLISHED-TTL:PT1H
BEGIN:VTIMEZONE
TZID:Europe/Rome
BEGIN:DAYLIGHT
TZOFFSETFROM:+0100
TZOFFSETTO:+0200
TZNAME:CEST
DTSTART:20160327T010000
END:DAYLIGHT
BEGIN:STANDARD
TZOFFSETFROM:+0200
TZOFFSETTO:+0100
TZNAME:CET
DTSTART:20161030T010000
END:STANDARD
BEGIN:DAYLIGHT
TZOFFSETFROM:+0100
TZOFFSETTO:+0200
TZNAME:CEST
DTSTART:20170326T010000
END:DAYLIGHT
BEGIN:STANDARD
TZOFFSETFROM:+0200
TZOFFSETTO:+0100
TZNAME:CET
DTSTART:20171029T010000
END:STANDARD
BEGIN:DAYLIGHT
TZOFFSETFROM:+0100
TZOFFSETTO:+0200
TZNAME:CEST
DTSTART:20180325T010000
END:DAYLIGHT
BEGIN:STANDARD
TZOFFSETFROM:+0200
TZOFFSETTO:+0100
TZNAME:CET
DTSTART:20181028T010000
END:STANDARD
END:VTIMEZONE
BEGIN:VEVENT
DTSTART;TZID=Europe/Rome:20170504T193000
DTEND;TZID=Europe/Rome:20170504T230000
DTSTAMP:20260420T060136
CREATED:20170503T111300Z
LAST-MODIFIED:20170505T074154Z
UID:240232-1493926200-1493938800@www.eventiintoscana.it
SUMMARY:Fuckup Nights: una notte per celebrare il fallimento - Impact Hub\, Firenze
DESCRIPTION:Appuntamento giovedì 4 maggio alle 19:30 all’Impact Hub Firenze (Via Panciatichi 16) per la prima Fuckup Nights\, evento in cui viene raccontato e celebrato il fallimento. Perché un fallimento può insegnare molto di più di un successo\, a chi lo vive e a chi lo ascolta\nLe FuckUp Nights sono un movimento globale partito da Città del Messico nel 2012\, durante il quale storie di imprese e progetti falliti vengono raccontate e celebrate. Il concept dell’evento si basa sull’idea che le persone possano imparare molto di più dalla conoscenza di esperienze fallimentari rispetto a quella di storie di successo: oggi le FuckUp Nights hanno raggiunto più di 200 città in 70 paesi del mondo. Questo evento viene festeggiato una volta al mese\, tutti i mesi\, con una partecipazione di oltre 10.000 persone in tutto il mondo e\, da questo mese\, anche a Firenze. \nLa prima FUN Firenze\, che avrà luogo giovedì 4 maggio dalle 19.30 alle 21.00 presso Impact Hub Firenze e BUH! Circolo culturale urbano ad ingresso gratuito previa iscrizione (http://bit.ly/FUNFIn) funzionerà in maniera molto semplice e diretta: all’evento partecipano 3-4 narratori\, ciascuno dei quali potrà condividere la sua personale esperienza\, creando poche slide che impegneranno ogni speaker per 6-7 minuti\, raccontando\, ad esempio\, che tipo di progetto era quello in cui si è “fallito”\, cos’è realmente andato storto\, quali insegnamenti sono stati evinti e cosa si sarebbe potuto fare… col senno di poi. \nAlla presentazione delle storie da parte dei singoli speaker seguirà una sessione di dibattito per ciascuna storia ed un aperitivo di networking al bar BUH! Circolo culturale urbano (per le consumazioni è necessaria la tessera ARCI). \nRiccardo Luciani di Impact Hub con la supervisione del regista Duccio Chiarini coordinerà il dibattito e modererà: \nDaniele Pario Perra – Il Tour Anarchico del Vaticano \nLeonardo Piras – La startup Grow the planet \nPietro Polsinelli – Il crowdfunding del gioco “Genio” \nDaniele Pario Perra è un designer e artista relazionale impegnato nel progetto Low Cost Design diventato una serie di libri\, mostre\, seminari e workshop sulla creatività spontanea \nLeonardo Piras è uno startupper seriale e al momento si occupa di Strategic Marketing per la startup innovativa Travel Appeal nata in H-Farm con sede fiorentina presso Impact Hub \nPietro Polsinelli è game designer\, sviluppatore e imprenditore\, esperto di metodologia Teamwork applicata in oltre 700 progetti di sviluppo e adozione software. \nChiunque voglia intervenire\, testimoniando la propria esperienza per dimostrare come il fallimento di un’impresa non impedisca il raggiungimento dello scopo in altri progetti e voglia raccontare e condividere quest’esperienza mostrando anche la parte più vulnerabile e curiosa del proprio vissuto\, può candidarsi alla FUN scrivendo a: florence@impacthub.net \nInformazioni dell’evento: \nImpact Hub Firenze con BUH! Circolo culturale urbano presenta: Fuckup Nights Firenze Vol. 1 \nL’evento è aperto a tutti e si tiene in Impact Hub Firenze (via Panciatichi 16 a Firenze Rifredi) dalle 19.30 alle 21.00 \nSegue aperitivo-networking presso il bar BUH! Circolo culturale urbano (con tessera ARCI) \nObbligatoria l’iscrizione qui: http://bit.ly/FUNFIn1
URL:https://www.eventiintoscana.it/evento/240232
LOCATION:Impact HUB\, Via Panciatichi 16\, Firenze
CATEGORIES:Firenze,Rassegne e Sagre
ATTACH;FMTTYPE=image/jpeg:https://www.eventiintoscana.it/wp-content/uploads/2017/05/impact-hub_650x300.jpg
ORGANIZER;CN="Impact HUB":MAILTO:florence@impacthub.net
END:VEVENT
END:VCALENDAR