BEGIN:VCALENDAR
VERSION:2.0
PRODID:-//Eventi in Toscana By Toscana Tascabile - ECPv6.15.12.2//NONSGML v1.0//EN
CALSCALE:GREGORIAN
METHOD:PUBLISH
X-ORIGINAL-URL:https://www.eventiintoscana.it
X-WR-CALDESC:Eventi per Eventi in Toscana By Toscana Tascabile
REFRESH-INTERVAL;VALUE=DURATION:PT1H
X-Robots-Tag:noindex
X-PUBLISHED-TTL:PT1H
BEGIN:VTIMEZONE
TZID:Europe/Rome
BEGIN:DAYLIGHT
TZOFFSETFROM:+0100
TZOFFSETTO:+0200
TZNAME:CEST
DTSTART:20150329T010000
END:DAYLIGHT
BEGIN:STANDARD
TZOFFSETFROM:+0200
TZOFFSETTO:+0100
TZNAME:CET
DTSTART:20151025T010000
END:STANDARD
BEGIN:DAYLIGHT
TZOFFSETFROM:+0100
TZOFFSETTO:+0200
TZNAME:CEST
DTSTART:20160327T010000
END:DAYLIGHT
BEGIN:STANDARD
TZOFFSETFROM:+0200
TZOFFSETTO:+0100
TZNAME:CET
DTSTART:20161030T010000
END:STANDARD
BEGIN:DAYLIGHT
TZOFFSETFROM:+0100
TZOFFSETTO:+0200
TZNAME:CEST
DTSTART:20170326T010000
END:DAYLIGHT
BEGIN:STANDARD
TZOFFSETFROM:+0200
TZOFFSETTO:+0100
TZNAME:CET
DTSTART:20171029T010000
END:STANDARD
BEGIN:DAYLIGHT
TZOFFSETFROM:+0100
TZOFFSETTO:+0200
TZNAME:CEST
DTSTART:20180325T010000
END:DAYLIGHT
BEGIN:STANDARD
TZOFFSETFROM:+0200
TZOFFSETTO:+0100
TZNAME:CET
DTSTART:20181028T010000
END:STANDARD
BEGIN:DAYLIGHT
TZOFFSETFROM:+0100
TZOFFSETTO:+0200
TZNAME:CEST
DTSTART:20190331T010000
END:DAYLIGHT
BEGIN:STANDARD
TZOFFSETFROM:+0200
TZOFFSETTO:+0100
TZNAME:CET
DTSTART:20191027T010000
END:STANDARD
BEGIN:DAYLIGHT
TZOFFSETFROM:+0100
TZOFFSETTO:+0200
TZNAME:CEST
DTSTART:20200329T010000
END:DAYLIGHT
BEGIN:STANDARD
TZOFFSETFROM:+0200
TZOFFSETTO:+0100
TZNAME:CET
DTSTART:20201025T010000
END:STANDARD
BEGIN:DAYLIGHT
TZOFFSETFROM:+0100
TZOFFSETTO:+0200
TZNAME:CEST
DTSTART:20210328T010000
END:DAYLIGHT
BEGIN:STANDARD
TZOFFSETFROM:+0200
TZOFFSETTO:+0100
TZNAME:CET
DTSTART:20211031T010000
END:STANDARD
END:VTIMEZONE
BEGIN:VEVENT
DTSTART;VALUE=DATE:20201011
DTEND;VALUE=DATE:20201019
DTSTAMP:20260421T035138
CREATED:20200922T150049Z
LAST-MODIFIED:20210702T073915Z
UID:287553-1602374400-1603065599@www.eventiintoscana.it
SUMMARY:Dal Bosco e dalla Pietra - Piazza Agnolo\, Firenzuola (Firenze)
DESCRIPTION:Nelle due domeniche 11 e 18 ottobre si tiene a Firenzuola Dal Bosco e dalla Pietra\, la tradizionale Mostra Mercato del Marrone e della Pietra Serena Lavorata\, che quest’anno festeggia i suoi primi 25 anni.\nCinque lustri di un evento sono un traguardo importante. Ed anche se quest’anno la pandemia ha comunque costretto a delle limitazioni ed a rivedere il programma iniziale\, ci saranno tutte le caratteristiche per festeggiare nella maniera adeguata la venticinquesima edizione. \nDal Bosco e dalla Pietra è la principale manifestazione annuale che si svolge nel Comune di Firenzuola\, volta a promuovere e pubblicizzare le due fondamentali attività economiche e di presidio del territorio: la coltura del bosco e l’estrazione e la lavorazione della pietra serena. \nQuest’anno si è cercato di trovare un connubio tra pietra serena\, territorio e comunità. Tre elementi indisgiungibili di un’unica realtà che determina le fortune e le sfortune della comunità firenzuolina. \nProgramma:\nPiazza Agnolo\, palcoscenico emblematico della manifestazione\, cercherà di rappresentare questo legame\, con una dedica particolare ai bambini\, materia essenziale de nostro futuro\, che potranno cimentarsi in un “Grande Giuoco dell’Oca”. \nUn portale in pietra lavorata inquadrerà una piazza allestita di richiami: alla qualità ormai maturata dall’apparato produttivo\, grazie all’intraprendenza ed all’ingegno; degli imprenditori e degli artigiani\, ad un equilibrato rapporto uomo ambiente che ha consentito lo sviluppo di un paesaggio ricco di biodiversità naturali e di rappresentazioni antropiche; ad una comunità solidale ed ospitale che cerca di rafforzare i propri vincoli territoriali attenta però verso l’esterno\, fiduciosa in un futuro migliore. \nAttorno all’allestimento di Piazza Agnolo\, si svilupperanno una serie di eventi dedicati all’intrattenimento ed alla promozione del territorio di Firenzuola nei suoi aspetti più significativi. \nPer la pietra lavorata\, ad esempio\, si potranno vedere esempi significativi della capacità tecnica dei laboratori del territorio. \nPer il bosco oltre il classico “marrone” saranno esposti altri prodotti naturali e biologica\, compresa la patata di montagna\, il farro\, il miele. L’eccellenza alimentare locale sarà celebrata quest’anno dalla Sezione di Castel del Rio e Firenzuola dell’Academia Italiana della Cucina il 15 ottobre con un aperitivo di presentazione ed una cena ecumenica dedicata a “fritti frittate e frittelle”. \nLa storia la cultura e la tradizione locale sarà presentata dal Museo della Pietra Serena con una mostra “De rerum natura” dedicata ad artisti della pietra\, mentre il 17 ottobre aprirà una mostra fotografica a tema del nascente fotografo Pascal Baracani. \nNel museo continueranno le usuali visite guidate al percorso espositivo della Rocca ed alle strutture difensive del San Gallo. \nIl Museo della Scuola e l’Ass.Pier Giuseppe Sozzi\, apriranno nella cappella dell’ex seminario\, una mostra storico letteraria “Nascita e Rinascita di Firenzuola”\, una raccolta di tracce storico letterarie locali\, mentre al Museo della Rocca presenteranno il 16 “I racconti di Firenzuola”\, narrazioni storico letterarie su Firenzuola seguita il giorno 17 da un incontro dibattito. \nNel pomeriggio dell’11 al salone della Società Sportiva sarà presentata una panoramica di tracciati trekking significativi presenti sul territorio\, oltre la nota Via degli Dei\, nonché nuovi progetti sentieristici in via di realizzazione. \nLa musica accompagnerà la festa per rallegrare l’ambiente in diverse occasioni\, l’evento di chiusura\, domenica 18 alle 17\, sarà la XX edizione della rassegna dei cori polifonici femminili organizzata presso la Chiesa della SS. Annunziata\, nel centro storico di Firenzuola. \nIl grande lavoro della Pro Loco ha permesso di organizzare\, nel massimo della sicurezza e del rispetto delle regole di prevenzione anti COVID19\, questo importante evento anche nel 2020\, dimostrando la voglia di questo territorio di far festa\, di proseguire nelle proprie tradizioni e nella voglia di promuovere le proprie eccellenze. \nInsomma\, una suggestiva occasione per vivere tra artigianato\, prodotti\, natura e cultura\, questo bel borgo\, Terranuova Fiorentina\, nel cuore della Romagna Toscana\, in uno dei periodi più piacevoli per visitarlo.
URL:https://www.eventiintoscana.it/evento/dal-bosco-e-dalla-pietra-piazza-agnolo-firenzuola-firenze
CATEGORIES:Feste e Folklore,Firenze
ATTACH;FMTTYPE=image/jpeg:https://www.eventiintoscana.it/wp-content/uploads/2020/09/dal-bosco-e-dalla-pietra-firenzuola.jpg
END:VEVENT
BEGIN:VEVENT
DTSTART;TZID=Europe/Rome:20191006T100000
DTEND;TZID=Europe/Rome:20191012T170000
DTSTAMP:20260421T035138
CREATED:20190930T085744Z
LAST-MODIFIED:20190930T085744Z
UID:279388-1570356000-1570899600@www.eventiintoscana.it
SUMMARY:I seccatoi e il castagneto secolare di Moscheta - Badia di Moscheta\, Firenzuola (Firenze)
DESCRIPTION:Domenica 6 e sabato 12 ottobre I seccatoi e il castagneto secolare di Moscheta è un’escursione e raccolta di marroni nei Castagneti di Moscheta con le guide ambientali del Museo.\nInfo e prenotazioni: tel. 055 814490 – 333 4446351 \n 
URL:https://www.eventiintoscana.it/evento/seccatoi-castagneto-secolare-moscheta-badia-moscheta-firenzuola-firenze
LOCATION:Luogo Senza Nome\,  Badia di Moscheta\, \, Firenzuola (Firenze)
CATEGORIES:Firenze,Natura e Sport,Rassegne e Sagre
ATTACH;FMTTYPE=image/jpeg:https://www.eventiintoscana.it/wp-content/uploads/2019/09/raccogliere-castagne_pixabay.jpg
END:VEVENT
BEGIN:VEVENT
DTSTART;TZID=Europe/Rome:20190915T100000
DTEND;TZID=Europe/Rome:20190915T200000
DTSTAMP:20260421T035138
CREATED:20190829T093513Z
LAST-MODIFIED:20190829T093513Z
UID:278108-1568541600-1568577600@www.eventiintoscana.it
SUMMARY:W la patata - Centro storico\, Firenzuola (Firenze)
DESCRIPTION:Domenica 15 settembre nel centro storico di Firenzuola si tiene W la patata\, la Mostra mercato delle patate firenzuoline.\nContestualmente si tiene anche la Terza edizione della gara del tortello firenzuolino. Stand gastronomici e mercatino con produttori locali. \n 
URL:https://www.eventiintoscana.it/evento/w-la-patata-centro-storico-firenzuola-firenze
LOCATION:Centro storico\, Firenzuola (Firenze)
CATEGORIES:Firenze,Rassegne e Sagre
ATTACH;FMTTYPE=image/jpeg:https://www.eventiintoscana.it/wp-content/uploads/2019/08/patate_pixabay.jpg
END:VEVENT
BEGIN:VEVENT
DTSTART;TZID=Europe/Rome:20161016T100000
DTEND;TZID=Europe/Rome:20161016T200000
DTSTAMP:20260421T035138
CREATED:20160905T155719Z
LAST-MODIFIED:20161011T162227Z
UID:217485-1476612000-1476648000@www.eventiintoscana.it
SUMMARY:Dal bosco e dalla pietra - Festa del marrone e mostra della pietra serena - Firenzuola (Firenze)
DESCRIPTION:Domenica 16 e  domenica 23 ottobre torna a Firenzuola la 21ª edizione di ‘Dal Bosco e dalla Pietra’\, Festa del marrone e della pietra serena\nNumerosi gli stand espositivi che verranno allestiti durante le due domeniche di festa: banchi di produttori agricoli\, castanicoli e apistici\, banchi di marroni\, patate\, noci\, zucche decorative\, miele… e ancora banchini dedicati ai frutti dimenticati (meline di bosco\, giuggiole\, bacche di rosa canina\, pere volpine)\, alle candele e ai prodotti di apicoltura. Non mancheranno poi i formaggi\, i salumi\, le focacce\, i dolci di farina di castagne e altre specialità gastronomiche. \n\nIL PROGRAMMA\nDomenica 16 ottobre\nOre 9.00 – Centro storico:  Apertura degli stand espositivi\, mostra della pietra Serena di Firenzuola\, mostra mercato dei prodotti tipici locali e dell’artigianato\, apertura del polo gastronomico\, mostra mercato dei marroni\, vendita di specialità locali\, mercato straordinario \nOre 10.00 – Piazza Agnolo: Inaugurazione della manifestazione\, presentazione del progetto QR code Firenzuola 2.0\, la storia in un palmo di mano \nOre 10.30 – Museo della Pietra serena: Inaugurazione della mostra di scultura di Lando Landi \nOre 11.00 – Sala Consiliare – Presentazione del libro “Lassù\, tra i boschi di faggi” di Mario Zagni \nOre 11.30 Propositura di San Giovanni Battista\, Santa Messa in ricordo dei caduti sul lavoro \nOre 12.00 – Piazza Casini: Un  girarrosto spettacolare: girarrosto di tordi con ghiotta di patate della lunghezza di otto metri a cura di I cacciatori Firenzuola (in caso di maltempo sarà rinviato a domenica 23 ottobre) \nOre 15.00 – Biblioteca Comunale: Dentro il bosco: animazione alla lettura e laboratorio per creare insieme per bambini di tutte le età (a cura di TAM TAM Mugello) \nOre 16:00  -Piazza Agnolo: Una giornata da scout\, allestimento di giochi e attività per bambini in vere e proprie tende come in un reae campo scout \nOre 17.00 – Chiesa della SS. Annunziata: XVI Rassegna di Cori Polifonici a cura del Coro polifonico femminile Mulieris voces di Firenzuola diretto dal M° Edoardo Materassi. Partecipano i cori: St. Jacob’s Choir di Montecalvoli (Pisa) diretto dal M° Massimo Bracci; Coro “Ad Maiora” La bottega della Voce di Bologna diretto dal M° Michele Napolitano \n\n Sabato 22 ottobre\nOre 21:00 – Chiesa della SS Annunziata: Via crucis: testimoni oculari di Angelo Franchini\, a cura di Ribalta sul Santerno e Mulieris Voces. Regia: Franco Castellani; Direzione coro: Edoardo Materassi \nDomenica 23 ottobre\nOre 9.00 – Centro storico: Apertura degli stand espositivi e apertura del polo gastronomico\, mercato straordinario \nOre 15.00 – Biblioteca Comunale: Storie… e non solo. Scopriamo il mondo con gli occhi della scienza: animazione alla lettura e laboratorio per bambini e ragazzi da 9 a 14 anni \nOre 15.30 – Covigliaio: Passeggiata Sasserelli – Monte Rosso\, alla scoperta delle meraviglie dell’Oasi \nOre 17.00 – Piazza Agnolo: Armonie di fuoco e antichi giochi delle bandiere estensi: spettacolo di musici\, sbandieratori\, focolieri e gruppi armati \nLe mostre\n16 – 23 ottobre 2016\, Piazza Casini: XV Simposio internazionale di scultura “Premio Antonio Berti”: Esposizione delle sculture in pietra serena di Firenzuola realizzate dai giovani artisti che hanno partecipato al XIV Simposio di scultura “Premio Antonio Berti” organizzato dal Comune di San Piero a Sieve con la collaborazione del Comune di Firenzuola e delle aziende del settore lapideo \n16 – 23 ottobre 2016\, Museo della pietra Serena: Mostra di scultura di Lando Landi \n16 – 23 ottobre 2016\, Centro storico: “Firenzuola 2.0\, la storia in un palmo di mano” Progetto QR code a cura dell’istituto comprensivo “Don Lorenzo Milani” \n16 e 23 ottobre 2016\, Locali ex seminario – Via Villani (Ore 10.00 – 12.30 e 14.30 – 19.00): La guerra e la memoria\, Mostra permanente di materiali storico-militari. Nuovo allestimento Sala della Guerra del Pacifico e Sala della Linea Gotica. Firenzuola: la scuola fra passato e presente\, Mostra permanente della scuola dal 1800. \n16-23 ottobre 2016\, Palazzo comunale “Ex Pretura” – Piano terreno: Mostra dei lavori realizzati dagli alunni dell’Istituto Comprensivo “Don Lorenzo Milani” di Firenzuola (Scuola dell’infanzia\, scuola primaria\, scuola secondaria di I grado) \nEscursioni trekking\nDomenica 23 ottobre ore 15.30: Passeggiata Sasserelli – Monte Rosso: alla scoperta delle meraviglie dell’Oasi. Ritrovo: ore 15.30 loc Faggiotto; escursione gratuita\, adatta a tutti. Durata dell’escursione: circa 2 ore. Prenotazione obbligatoria entro sabato 22 ottobre presso: Biblioteca comunale  Tel. 055 8199434\, Pro Loco Firenzuola  Tel. 055 8199477. Per informazioni   Tel. 055 812025. \nLa gastronomia\nStand delle bruciate e del vino – Piazza Don Stefano Casini \nPer tutta la durata della festa\, le Associazioni del territorio gestiscono la distribuzione di bruciate\, vino e specialità tipiche del territorio presso gli stand gastronomici in Piazza Don Stefano Casini. \nI marroni e le delizie del bosco \nNella Piazza centrale e lungo Via Villani sapori\, aromi\, colori d’autunno per fare provvista di prodotti genuini coltivati con metodi naturali. \nGastronomia e degustazione di specialità locali \nPresso il Polo gastronomico\, in Via Villani\, le Società Sportive del territorio presentano i prodotti tipici di Firenzuola\, preparati con ingredienti semplici e appartenenti alla tradizione locale. I ristoranti e le aziende agrituristiche propongono un menù di piatti tipici con i prodotti di stagione. \nOpportunità\nMenù “Bosco e Pietra” nei vari ristoranti del centro storico \nPer i due fine settimana della manifestazione\, i Ristoranti: La Rocca\, Piccola Firenze\, Giulia’s\, Dj Pub\, Da Barba\, Pipi Pizzeria\, Rosticceria Da Paolo e Alba\, propongono vari menù a prezzo fisso sul tema “Dal bosco e dalla pietra”. \nOpere dello scalpellino \nPiazza Don S. Casini \nEsposizione dal vivo del lavoro dello scalpellino\, che anche su richiesta del pubblico\, mostrerà le varie tecniche di lavorazione e di rifinitura delle opere in pietra serena. \nContatti: \nComune di Firenzuola \nPagina Facebook Pro Loco Firenzuola 
URL:https://www.eventiintoscana.it/evento/dal-bosco-e-dalla-pietra-festa-del-marrone-e-mostra-della-pietra-serena-piazza-agnolo-firenzuola-firenze
LOCATION:Piazza Agnolo\, Firenzuola\, Toscana\, Italia
CATEGORIES:Firenze,Rassegne e Sagre
ATTACH;FMTTYPE=image/jpeg:https://www.eventiintoscana.it/wp-content/uploads/2016/09/bosco-e-pietra_650x300-min.jpg
END:VEVENT
END:VCALENDAR