BEGIN:VCALENDAR
VERSION:2.0
PRODID:-//Eventi in Toscana By Toscana Tascabile - ECPv6.15.12.2//NONSGML v1.0//EN
CALSCALE:GREGORIAN
METHOD:PUBLISH
X-WR-CALNAME:Eventi in Toscana By Toscana Tascabile
X-ORIGINAL-URL:https://www.eventiintoscana.it
X-WR-CALDESC:Eventi per Eventi in Toscana By Toscana Tascabile
REFRESH-INTERVAL;VALUE=DURATION:PT1H
X-Robots-Tag:noindex
X-PUBLISHED-TTL:PT1H
BEGIN:VTIMEZONE
TZID:Europe/Rome
BEGIN:DAYLIGHT
TZOFFSETFROM:+0100
TZOFFSETTO:+0200
TZNAME:CEST
DTSTART:20180325T010000
END:DAYLIGHT
BEGIN:STANDARD
TZOFFSETFROM:+0200
TZOFFSETTO:+0100
TZNAME:CET
DTSTART:20181028T010000
END:STANDARD
BEGIN:DAYLIGHT
TZOFFSETFROM:+0100
TZOFFSETTO:+0200
TZNAME:CEST
DTSTART:20190331T010000
END:DAYLIGHT
BEGIN:STANDARD
TZOFFSETFROM:+0200
TZOFFSETTO:+0100
TZNAME:CET
DTSTART:20191027T010000
END:STANDARD
BEGIN:DAYLIGHT
TZOFFSETFROM:+0100
TZOFFSETTO:+0200
TZNAME:CEST
DTSTART:20200329T010000
END:DAYLIGHT
BEGIN:STANDARD
TZOFFSETFROM:+0200
TZOFFSETTO:+0100
TZNAME:CET
DTSTART:20201025T010000
END:STANDARD
BEGIN:DAYLIGHT
TZOFFSETFROM:+0100
TZOFFSETTO:+0200
TZNAME:CEST
DTSTART:20210328T010000
END:DAYLIGHT
BEGIN:STANDARD
TZOFFSETFROM:+0200
TZOFFSETTO:+0100
TZNAME:CET
DTSTART:20211031T010000
END:STANDARD
END:VTIMEZONE
BEGIN:VEVENT
DTSTART;TZID=Europe/Rome:20201010T170000
DTEND;TZID=Europe/Rome:20201010T193000
DTSTAMP:20260419T164141
CREATED:20201008T083041Z
LAST-MODIFIED:20201008T083041Z
UID:287873-1602349200-1602358200@www.eventiintoscana.it
SUMMARY:Laboratorio: Il vino come esperienza - Pensione Bencistà\, Fiesole (Firenze)
DESCRIPTION:Sabato 10 ottobre presso la Pensione Bencistà di Fiesole un appuntamento tutto da scoprire in cui è il vino a farla da protagonista.\nNicola Perullo conduce infatti un laboratorio dal titolo ‘Epistenoogia. Dal conoscere il vino al conoscere con il vino. Il vino come esperienza’. \nSi tratta di un incontro con 5 vini naturali del mondo\, alla cieca. \n\n\n\n\n\n\n\n\nOrario: dalle 17 alle 19.30 \n\n\n\n\nIncontro e 5 vini € 30 \n\n\n\n\n\nPosti limitati\, prenotazione 055 59163 / whatsapp 339 1467026
URL:https://www.eventiintoscana.it/evento/laboratorio-il-vino-come-esperienza-pensione-bencista-fiesole-firenze
CATEGORIES:Firenze,Rassegne e Sagre
ATTACH;FMTTYPE=image/jpeg:https://www.eventiintoscana.it/wp-content/uploads/2020/08/vino_degustazione.jpg
END:VEVENT
BEGIN:VEVENT
DTSTART;TZID=Europe/Rome:20200321T093000
DTEND;TZID=Europe/Rome:20200323T183000
DTSTAMP:20260419T164141
CREATED:20200302T082556Z
LAST-MODIFIED:20200322T132346Z
UID:285859-1584783000-1584988200@www.eventiintoscana.it
SUMMARY:---rimandato--- Arte\, Artigianato e Agricoltura - Fattoria di Maiano\, Fiesole (Firenze)
DESCRIPTION:Arte\, Artigianato e Agricoltura è la Mostra mercato che si tiene sabato 21 e domenica 22 marzo dalle 9.30 alle 18.30 alla Fattoria di Maiano a Fiesole.\nL’antico borgo di Maiano\, i giardini e i piazzali si vestono a festa\, ospitando più di 100 espositori provenienti dalla Toscana e da tutta Italia per proporre le loro creazioni\, artigianali ed autentiche. \nPer l’occasione il ristorante Lo Spaccio si sposterà nel piazzale all’aperto e proporrà i tipici piatti della Fattoria in stile street food. \nAltro punto di ristoro sarò presso la Casa del The\, nel cuore del Botanic Garden. \nSpazio anche a villaggio medievale\, giochi antichi ed arcieri\, spettacoli di falconeria\, ex tempore di pittura. \nAperti ai visitatori il Parco con il laghetto delle Colonne\, gli animali della Fattoria didattica e.i tanti percorsi con le aree sosta per i pic nic. \n*** \nInfo; 055/599660
URL:https://www.eventiintoscana.it/evento/arte-artigianato-e-agricoltura-fattoria-di-maiano-fiesole-firenze
CATEGORIES:Fiere e Mercatini,Firenze
ATTACH;FMTTYPE=image/jpeg:https://www.eventiintoscana.it/wp-content/uploads/2020/03/arte-artigianato-agricoltura-fattoria-maiano.jpg
END:VEVENT
BEGIN:VEVENT
DTSTART;TZID=Europe/Rome:20191122T193000
DTEND;TZID=Europe/Rome:20191208T233000
DTSTAMP:20260419T164141
CREATED:20191120T175704Z
LAST-MODIFIED:20191204T092418Z
UID:281115-1574451000-1575847800@www.eventiintoscana.it
SUMMARY:Sagra delle frattaglie - Casa del Popolo\, Fiesole (Firenze)
DESCRIPTION:Nei fine settimana del 22-24 novembre\, 29 novembre-1 dicembre e 5-8 dicembre torna alla Casa del Popolo di Fiesole la Sagra delle Frattaglie.\nTutte le sere a partire dalle 19.30 sarà possibile assaggiare specialità rigorosamente a base di frattaglie come crostini ai fegatini o di poppa\, penne al lampredotto\, risotto concervello\, lampredotto\, trippa alla fiorentina\, fritto misto di frattaglie. \nInfo e prenotazioni: 055/597002
URL:https://www.eventiintoscana.it/evento/sagra-delle-frattaglie-casa-del-popolo-fiesole-firenze-2
CATEGORIES:Firenze,Rassegne e Sagre
ATTACH;FMTTYPE=image/jpeg:https://www.eventiintoscana.it/wp-content/uploads/2019/11/sagra-frattaglie-fiesole-640x299-1.jpg
END:VEVENT
BEGIN:VEVENT
DTSTART;TZID=Europe/Rome:20191001T080000
DTEND;TZID=Europe/Rome:20191001T170000
DTSTAMP:20260419T164141
CREATED:20191001T141703Z
LAST-MODIFIED:20191001T142016Z
UID:279473-1569916800-1569949200@www.eventiintoscana.it
SUMMARY:Picnic per l'A.T.T. - Fattoria di Maiano\, Fiesole (Firenze)
DESCRIPTION:Domenica 6 ottobre 2019 dalle ore 11 in poi alla Fattoria Di Maiano si tiene un Pic Nic a favore dell’ Associazione Tumori Toscana – ATT Onlus.\nGli ospiti potranno accedere al Parco Romantico della Regina con il Laghetto delle Colonne\, al Botanic Garden e alla Fattoria Laboratorio con i suoi animali e trascorrere una domenica all’aria aperta\, a contatto con la natura e immersi nei colori e nei profumi dell’autunno. \nAll’ingresso verrà consegnato il cestino preparato dal Ristorante “Lo Spaccio” con la mappa e la brochure con i punti d’interesse. \nDurante la giornata saranno organizzati laboratori ed attività per bambini – in italiano e inglese – a cura di Labsitters. \nOfferta minima Adulti 20 euro\, Bambini 15 euro (sotto i 12 anni) comprensiva di ingresso e cestino. \n 
URL:https://www.eventiintoscana.it/evento/picnic-la-t-t-fattoria-maiano-fiesole-firenze
LOCATION:Fattoria di Maiano\, Via Benedetto da Maiano 11\, FIesole (Firenze)
CATEGORIES:Firenze,Rassegne e Sagre
ATTACH;FMTTYPE=image/jpeg:https://www.eventiintoscana.it/wp-content/uploads/2019/10/pic-nic-att-fattoria-maiano.jpg
ORGANIZER;CN="ATT e Fattoria di Maiano":MAILTO:paola.neri@associazionetumoritoscana.it,  maiano@contemiarifulcis.it
END:VEVENT
BEGIN:VEVENT
DTSTART;TZID=Europe/Rome:20190906T193000
DTEND;TZID=Europe/Rome:20190922T235500
DTSTAMP:20260419T164141
CREATED:20190901T065129Z
LAST-MODIFIED:20190922T165827Z
UID:278361-1567798200-1569196500@www.eventiintoscana.it
SUMMARY:Sagra del tortello mugellano - Casa del Popolo\, Fiesole (Firenze)
DESCRIPTION:Nei tre fine settimana del 6-9\, 13-15 e 19-22 settembre\, i Volontari della Casa del Popolo di Fiesole presentano la quinta Sagra del Tortello Mugellano.\nSarà possibile assaggiare i tortelli mugellani conditi con ragù\, papero\, cinghiale\, capriolo\, al peposo\, baccalà e porri o burro e salvia. \nAppuntamento tutte le sere dalle 19.30. Possibilità di prenotazione al numero 055.597002. \nMenù della sagra (download):\nAntipasti: \n\nCrostone di fegatini\ncrostone funghi e pecorino\ncrostone fagioli\ntagliere toscano\nsolo prosciutto crudo\n\nPrimi: \n\nTortelli al papero\ntortelli al cinghiale\ntortelli al capriolo\ntortelli baccalà e porri\ntortelli al ragù\ntortelli al peposo\ntortelli al pomodoro\ntortelli burro e salvia\npenne\n\nSecondi: \n\nPorchetta cotta a legna con contorno di patate o fagioli\n\nDolci di produzione propria: \n\nCantucci e fantasia di vini liquorosi\nzuccotto\n\n  \n 
URL:https://www.eventiintoscana.it/evento/sagra-del-tortello-mugellano-casa-del-popolo-fiesole-firenze
LOCATION:Casa del Popolo di Fiesole \, Via Matteotti 27\, Fiesole (Firenze)
CATEGORIES:Firenze,Rassegne e Sagre
ATTACH;FMTTYPE=image/jpeg:https://www.eventiintoscana.it/wp-content/uploads/2019/09/Sagra-del-tortello-mugellano-casa-del-popolo-fiesole.jpg
END:VEVENT
END:VCALENDAR