BEGIN:VCALENDAR
VERSION:2.0
PRODID:-//Eventi in Toscana By Toscana Tascabile - ECPv6.15.12.2//NONSGML v1.0//EN
CALSCALE:GREGORIAN
METHOD:PUBLISH
X-ORIGINAL-URL:https://www.eventiintoscana.it
X-WR-CALDESC:Eventi per Eventi in Toscana By Toscana Tascabile
REFRESH-INTERVAL;VALUE=DURATION:PT1H
X-Robots-Tag:noindex
X-PUBLISHED-TTL:PT1H
BEGIN:VTIMEZONE
TZID:Europe/Rome
BEGIN:DAYLIGHT
TZOFFSETFROM:+0100
TZOFFSETTO:+0200
TZNAME:CEST
DTSTART:20150329T010000
END:DAYLIGHT
BEGIN:STANDARD
TZOFFSETFROM:+0200
TZOFFSETTO:+0100
TZNAME:CET
DTSTART:20151025T010000
END:STANDARD
BEGIN:DAYLIGHT
TZOFFSETFROM:+0100
TZOFFSETTO:+0200
TZNAME:CEST
DTSTART:20160327T010000
END:DAYLIGHT
BEGIN:STANDARD
TZOFFSETFROM:+0200
TZOFFSETTO:+0100
TZNAME:CET
DTSTART:20161030T010000
END:STANDARD
BEGIN:DAYLIGHT
TZOFFSETFROM:+0100
TZOFFSETTO:+0200
TZNAME:CEST
DTSTART:20170326T010000
END:DAYLIGHT
BEGIN:STANDARD
TZOFFSETFROM:+0200
TZOFFSETTO:+0100
TZNAME:CET
DTSTART:20171029T010000
END:STANDARD
BEGIN:DAYLIGHT
TZOFFSETFROM:+0100
TZOFFSETTO:+0200
TZNAME:CEST
DTSTART:20180325T010000
END:DAYLIGHT
BEGIN:STANDARD
TZOFFSETFROM:+0200
TZOFFSETTO:+0100
TZNAME:CET
DTSTART:20181028T010000
END:STANDARD
BEGIN:DAYLIGHT
TZOFFSETFROM:+0100
TZOFFSETTO:+0200
TZNAME:CEST
DTSTART:20190331T010000
END:DAYLIGHT
BEGIN:STANDARD
TZOFFSETFROM:+0200
TZOFFSETTO:+0100
TZNAME:CET
DTSTART:20191027T010000
END:STANDARD
BEGIN:DAYLIGHT
TZOFFSETFROM:+0100
TZOFFSETTO:+0200
TZNAME:CEST
DTSTART:20200329T010000
END:DAYLIGHT
BEGIN:STANDARD
TZOFFSETFROM:+0200
TZOFFSETTO:+0100
TZNAME:CET
DTSTART:20201025T010000
END:STANDARD
END:VTIMEZONE
BEGIN:VEVENT
DTSTART;TZID=Europe/Rome:20190209T093000
DTEND;TZID=Europe/Rome:20190210T190000
DTSTAMP:20260421T033933
CREATED:20190203T184814Z
LAST-MODIFIED:20190211T083101Z
UID:273612-1549704600-1549825200@www.eventiintoscana.it
SUMMARY:Fiera elettronica - Tuscany Hall\, Firenze
DESCRIPTION:Sabato 9 e domenica 10 febbraio al Tuscany Hall di Firenze (ex Obi Hall)\, dalle 9.30 alle 19\, appuntamento con una nuova edizione della Fiera elettronica organizzata da Prometeo. \nEspositori provenienti da tutta Italia proporranno prodotti che spazieranno dai consumabili per pc ( Dvd e Cd vergini\, cartucce per stampanti e kit di ricarica)\, periferiche\, accessori per pc\, lettori multimediali\, apparecchiature radio\, microcamere\, articoli per spionaggio\, lampade a led\, telefonia anche con ricambi\, ferramenta\, batterie ricaricabili\, giocattoli e gadget elettronici e tanto altro ancora. \nRispetto ai megastore di distribuzione elettronica verranno offerti prodotti di grande qualità a prezzi incredibili\, è proprio il caso di dire “Grande tecnologia a piccoli prezzi”.
URL:https://www.eventiintoscana.it/evento/fiera-elettronica-tuscany-hall-firenze
LOCATION:Tuscany Hall\, Firenze
CATEGORIES:Fiere e Mercatini,Firenze
ATTACH;FMTTYPE=image/jpeg:https://www.eventiintoscana.it/wp-content/uploads/2019/02/Fiera-elettronica-firenze.jpg
END:VEVENT
BEGIN:VEVENT
DTSTART;TZID=Europe/Rome:20170204T093000
DTEND;TZID=Europe/Rome:20170205T190000
DTSTAMP:20260421T033933
CREATED:20170104T150621Z
LAST-MODIFIED:20170206T113053Z
UID:231042-1486200600-1486321200@www.eventiintoscana.it
SUMMARY:Fiera elettronica - Obihall\, Firenze
DESCRIPTION:Appuntamento sabato 4 e domenica 5 febbraio 2017 all’Obihall di Firenze con la Fiera Elettronica\nGli espositori provengono da tutta Italia e propongono prodotti legati al mondo dell’elettronica: accessori per pc\, periferiche\, lettori multimediali\, apparecchiature radio\, microcamere\, articoli per spionaggio\, telefonia\, giocattoli e gadget elettronici… \nIl grande vantaggio della fiera dell’elettronica è quello di offrire prodotti di grande qualità a prezzi davvero vantaggiosi. \nOrari:\nAppuntamento sabato e domenica dalle 9.30 alle 19.
URL:https://www.eventiintoscana.it/evento/fiera-elettronica-obihall-firenze
LOCATION:Obihall\, Via Fabrizio De Andrè\, Firenze\, Italia
CATEGORIES:Fiere e Mercatini,Firenze
ATTACH;FMTTYPE=image/jpeg:https://www.eventiintoscana.it/wp-content/uploads/2016/03/13423__elettronica2.jpg
ORGANIZER;CN="Prometeo":MAILTO:info@prometeo.tv
END:VEVENT
BEGIN:VEVENT
DTSTART;TZID=Europe/Rome:20161022T093000
DTEND;TZID=Europe/Rome:20161023T190000
DTSTAMP:20260421T033933
CREATED:20161019T135426Z
LAST-MODIFIED:20161019T135427Z
UID:221465-1477128600-1477249200@www.eventiintoscana.it
SUMMARY:Fiera Elettronica- Firenze
DESCRIPTION:Appuntamento sabato 22 e domenica 23 ottobre 2016 all’Obihall di Firenze\nEspositori provenienti da tutta Italia proporranno prodotti che spazieranno dai consumabili per pc ( Dvd e Cd vergini\, cartucce per stampanti e kit di ricarica)\, periferiche\, accessori per pc\, lettori multimediali\, apparecchiature radio\, microcamere\, articoli per spionaggio\, lampade a led\, telefonia anche con ricambi\, ferramenta\, batterie ricaricabili\, giocattoli e gadget elettronici e tanto altro ancora. \nRispetto ai megastore di distribuzione elettronica verranno offerti prodotti di grande qualità a prezzi incredibili\, è proprio il caso di dire ‘Grande tecnologia a piccoli prezzi’. \nGUARDA IL VIDEO dell’edizione di febbraio 2016 – CLICCA QUI \nUn appuntamento imperdibile per gli appassionati di tecnologia … e per chi vuole risparmiare!\nObihall www.obihall.it si trova in Via Fabrizio De Andrè\, in posizione centrale di Firenze ma con ampi parcheggi nelle vicinanze e facilmente raggiungibile dall’uscita FIRENZE SUD dell’autostrada o con 20 minuti di bus dalla stazione Santa Maria Novella \nL’orario della manifestazione sarà 9\,30 – 19\,00 sia per il sabato che per la domenica.\nIl biglietto d’ingresso intero costa 7\,00 euro\, 5\,00 il ridotto.
URL:https://www.eventiintoscana.it/evento/fiera-elettronica-firenze
LOCATION:Obihall\, Via Fabrizio De Andrè\, Firenze\, Toscana\, IT
CATEGORIES:Fiere e Mercatini
ATTACH;FMTTYPE=image/png:https://www.eventiintoscana.it/wp-content/uploads/2016/10/fiera-elettronica-firenze_eventiintoscana-by-toscana-tascabile.png
ORGANIZER;CN="Prometeo":MAILTO:info@prometeo.tv
END:VEVENT
END:VCALENDAR