BEGIN:VCALENDAR
VERSION:2.0
PRODID:-//Eventi in Toscana By Toscana Tascabile - ECPv6.15.12.2//NONSGML v1.0//EN
CALSCALE:GREGORIAN
METHOD:PUBLISH
X-ORIGINAL-URL:https://www.eventiintoscana.it
X-WR-CALDESC:Eventi per Eventi in Toscana By Toscana Tascabile
REFRESH-INTERVAL;VALUE=DURATION:PT1H
X-Robots-Tag:noindex
X-PUBLISHED-TTL:PT1H
BEGIN:VTIMEZONE
TZID:Europe/Rome
BEGIN:DAYLIGHT
TZOFFSETFROM:+0100
TZOFFSETTO:+0200
TZNAME:CEST
DTSTART:20180325T010000
END:DAYLIGHT
BEGIN:STANDARD
TZOFFSETFROM:+0200
TZOFFSETTO:+0100
TZNAME:CET
DTSTART:20181028T010000
END:STANDARD
BEGIN:DAYLIGHT
TZOFFSETFROM:+0100
TZOFFSETTO:+0200
TZNAME:CEST
DTSTART:20190331T010000
END:DAYLIGHT
BEGIN:STANDARD
TZOFFSETFROM:+0200
TZOFFSETTO:+0100
TZNAME:CET
DTSTART:20191027T010000
END:STANDARD
BEGIN:DAYLIGHT
TZOFFSETFROM:+0100
TZOFFSETTO:+0200
TZNAME:CEST
DTSTART:20200329T010000
END:DAYLIGHT
BEGIN:STANDARD
TZOFFSETFROM:+0200
TZOFFSETTO:+0100
TZNAME:CET
DTSTART:20201025T010000
END:STANDARD
BEGIN:DAYLIGHT
TZOFFSETFROM:+0100
TZOFFSETTO:+0200
TZNAME:CEST
DTSTART:20210328T010000
END:DAYLIGHT
BEGIN:STANDARD
TZOFFSETFROM:+0200
TZOFFSETTO:+0100
TZNAME:CET
DTSTART:20211031T010000
END:STANDARD
END:VTIMEZONE
BEGIN:VEVENT
DTSTART;TZID=Europe/Rome:20200209T090000
DTEND;TZID=Europe/Rome:20200209T190000
DTSTAMP:20260424T093030
CREATED:20181002T145407Z
LAST-MODIFIED:20200120T173422Z
UID:271470-1581238800-1581274800@www.eventiintoscana.it
SUMMARY:Fiera di Oltrarno - Piazza Santo Spirito\, Firenze
DESCRIPTION:La Fiera di Oltrarno di Firenze è un mercato dell’artigianato in Oltrarno\, in Piazza Santo Spirito\, che si tiene tutte le seconde domeniche del mese dalle 9 alle 19.00.\nLa fiera non si tiene a luglio e ad agosto.
URL:https://www.eventiintoscana.it/evento/fiera-oltrarno-firenze
LOCATION:Piazza Santo Spirito\, Firenze\, Firenze\, Italia
CATEGORIES:Fiere e Mercatini,Firenze
ATTACH;FMTTYPE=image/jpeg:https://www.eventiintoscana.it/wp-content/uploads/2018/10/11854__fieradioltrarno.jpg
END:VEVENT
BEGIN:VEVENT
DTSTART;TZID=Europe/Rome:20200112T090000
DTEND;TZID=Europe/Rome:20200112T190000
DTSTAMP:20260424T093030
CREATED:20181002T145407Z
LAST-MODIFIED:20191223T075316Z
UID:278179-1578819600-1578855600@www.eventiintoscana.it
SUMMARY:Fiera di Oltrarno - Piazza Santo Spirito\, Firenze
DESCRIPTION:La Fiera di Oltrarno di Firenze è un mercato dell’artigianato in Oltrarno\, in Piazza Santo Spirito\, che si tiene tutte le seconde domeniche del mese dalle 9 alle 19.00.\nLa fiera non si tiene a luglio e ad agosto.
URL:https://www.eventiintoscana.it/evento/fiera-oltrarno-firenze-2019-12-08
LOCATION:Piazza Santo Spirito\, Firenze\, Firenze\, Italia
CATEGORIES:Fiere e Mercatini,Firenze
ATTACH;FMTTYPE=image/jpeg:https://www.eventiintoscana.it/wp-content/uploads/2018/10/11854__fieradioltrarno.jpg
END:VEVENT
BEGIN:VEVENT
DTSTART;TZID=Europe/Rome:20191208T090000
DTEND;TZID=Europe/Rome:20191208T190000
DTSTAMP:20260424T093030
CREATED:20181002T145407Z
LAST-MODIFIED:20191111T160238Z
UID:278177-1575795600-1575831600@www.eventiintoscana.it
SUMMARY:Fiera di Oltrarno - Piazza Santo Spirito\, Firenze
DESCRIPTION:La Fiera di Oltrarno di Firenze è un mercato dell’artigianato in Oltrarno\, in Piazza Santo Spirito\, che si tiene tutte le seconde domeniche del mese dalle 9 alle 19.00.\nLa fiera non si tiene a luglio e ad agosto.
URL:https://www.eventiintoscana.it/evento/fiera-oltrarno-firenze-2019-10-13
LOCATION:Piazza Santo Spirito\, Firenze\, Firenze\, Italia
CATEGORIES:Fiere e Mercatini,Firenze
ATTACH;FMTTYPE=image/jpeg:https://www.eventiintoscana.it/wp-content/uploads/2018/10/11854__fieradioltrarno.jpg
END:VEVENT
END:VCALENDAR