BEGIN:VCALENDAR
VERSION:2.0
PRODID:-//Eventi in Toscana By Toscana Tascabile - ECPv6.15.12.2//NONSGML v1.0//EN
CALSCALE:GREGORIAN
METHOD:PUBLISH
X-ORIGINAL-URL:https://www.eventiintoscana.it
X-WR-CALDESC:Eventi per Eventi in Toscana By Toscana Tascabile
REFRESH-INTERVAL;VALUE=DURATION:PT1H
X-Robots-Tag:noindex
X-PUBLISHED-TTL:PT1H
BEGIN:VTIMEZONE
TZID:Europe/Rome
BEGIN:DAYLIGHT
TZOFFSETFROM:+0100
TZOFFSETTO:+0200
TZNAME:CEST
DTSTART:20180325T010000
END:DAYLIGHT
BEGIN:STANDARD
TZOFFSETFROM:+0200
TZOFFSETTO:+0100
TZNAME:CET
DTSTART:20181028T010000
END:STANDARD
BEGIN:DAYLIGHT
TZOFFSETFROM:+0100
TZOFFSETTO:+0200
TZNAME:CEST
DTSTART:20190331T010000
END:DAYLIGHT
BEGIN:STANDARD
TZOFFSETFROM:+0200
TZOFFSETTO:+0100
TZNAME:CET
DTSTART:20191027T010000
END:STANDARD
BEGIN:DAYLIGHT
TZOFFSETFROM:+0100
TZOFFSETTO:+0200
TZNAME:CEST
DTSTART:20200329T010000
END:DAYLIGHT
BEGIN:STANDARD
TZOFFSETFROM:+0200
TZOFFSETTO:+0100
TZNAME:CET
DTSTART:20201025T010000
END:STANDARD
END:VTIMEZONE
BEGIN:VEVENT
DTSTART;TZID=Europe/Rome:20190531T160000
DTEND;TZID=Europe/Rome:20190609T200000
DTSTAMP:20260419T152042
CREATED:20190603T200310Z
LAST-MODIFIED:20190609T190109Z
UID:276556-1559318400-1560110400@www.eventiintoscana.it
SUMMARY:Fiera del gusto e del benessere - Piazza Mazzini\, Livorno
DESCRIPTION:Da venerdì 31 maggio a domenica 9 giugno torna a Livorno\, in piazza Mazzini\, la Fiera del gusto e del benessere.\nAppuntamento dalle 16 alle 24 con ristorazione\, mercatini e spettacoli.
URL:https://www.eventiintoscana.it/evento/palio-siena-siena
LOCATION:Luogo Senza Nome\, Piazza Mazzini\, Livorno
CATEGORIES:Fiere e Mercatini,Livorno
ATTACH;FMTTYPE=image/png:https://www.eventiintoscana.it/wp-content/uploads/2019/06/fiera-gusto-benessere-livorno.png
END:VEVENT
END:VCALENDAR