BEGIN:VCALENDAR
VERSION:2.0
PRODID:-//Eventi in Toscana By Toscana Tascabile - ECPv6.15.12.2//NONSGML v1.0//EN
CALSCALE:GREGORIAN
METHOD:PUBLISH
X-WR-CALNAME:Eventi in Toscana By Toscana Tascabile
X-ORIGINAL-URL:https://www.eventiintoscana.it
X-WR-CALDESC:Eventi per Eventi in Toscana By Toscana Tascabile
REFRESH-INTERVAL;VALUE=DURATION:PT1H
X-Robots-Tag:noindex
X-PUBLISHED-TTL:PT1H
BEGIN:VTIMEZONE
TZID:Europe/Rome
BEGIN:DAYLIGHT
TZOFFSETFROM:+0100
TZOFFSETTO:+0200
TZNAME:CEST
DTSTART:20180325T010000
END:DAYLIGHT
BEGIN:STANDARD
TZOFFSETFROM:+0200
TZOFFSETTO:+0100
TZNAME:CET
DTSTART:20181028T010000
END:STANDARD
BEGIN:DAYLIGHT
TZOFFSETFROM:+0100
TZOFFSETTO:+0200
TZNAME:CEST
DTSTART:20190331T010000
END:DAYLIGHT
BEGIN:STANDARD
TZOFFSETFROM:+0200
TZOFFSETTO:+0100
TZNAME:CET
DTSTART:20191027T010000
END:STANDARD
BEGIN:DAYLIGHT
TZOFFSETFROM:+0100
TZOFFSETTO:+0200
TZNAME:CEST
DTSTART:20200329T010000
END:DAYLIGHT
BEGIN:STANDARD
TZOFFSETFROM:+0200
TZOFFSETTO:+0100
TZNAME:CET
DTSTART:20201025T010000
END:STANDARD
END:VTIMEZONE
BEGIN:VEVENT
DTSTART;TZID=Europe/Rome:20190208T080000
DTEND;TZID=Europe/Rome:20190217T230000
DTSTAMP:20260420T081155
CREATED:20190127T183624Z
LAST-MODIFIED:20190218T083413Z
UID:273476-1549612800-1550444400@www.eventiintoscana.it
SUMMARY:Firenze è cioccolato. Fiera del cioccolato artigianale - Firenze
DESCRIPTION:Appuntamento dall’8 al 17 febbraio per la 15esima edizione della fiera del cioccolato artigianale di Firenze\, che si tiene in Piazza Santa Croce.\nI mastri cioccolatai portano nella bellissima piazza\, nel centro di Firenze\, ogni tipo di prelibatezza: dalle tavolette di cioccolato alle praline\, dalle creme ai liquori. \nQuesto il sito della manifestazione. \n 
URL:https://www.eventiintoscana.it/evento/firenze-cioccolato-fiera-del-cioccolato-artigianale-firenze
LOCATION:Piazza Strozzi\, Firenze\, Toscana\, Italia
CATEGORIES:Firenze,Rassegne e Sagre
ATTACH;FMTTYPE=image/jpeg:https://www.eventiintoscana.it/wp-content/uploads/2017/10/25134__cioccolato2.jpg
END:VEVENT
END:VCALENDAR