BEGIN:VCALENDAR
VERSION:2.0
PRODID:-//Eventi in Toscana By Toscana Tascabile - ECPv6.15.12.2//NONSGML v1.0//EN
CALSCALE:GREGORIAN
METHOD:PUBLISH
X-WR-CALNAME:Eventi in Toscana By Toscana Tascabile
X-ORIGINAL-URL:https://www.eventiintoscana.it
X-WR-CALDESC:Eventi per Eventi in Toscana By Toscana Tascabile
REFRESH-INTERVAL;VALUE=DURATION:PT1H
X-Robots-Tag:noindex
X-PUBLISHED-TTL:PT1H
BEGIN:VTIMEZONE
TZID:Europe/Rome
BEGIN:DAYLIGHT
TZOFFSETFROM:+0100
TZOFFSETTO:+0200
TZNAME:CEST
DTSTART:20180325T010000
END:DAYLIGHT
BEGIN:STANDARD
TZOFFSETFROM:+0200
TZOFFSETTO:+0100
TZNAME:CET
DTSTART:20181028T010000
END:STANDARD
BEGIN:DAYLIGHT
TZOFFSETFROM:+0100
TZOFFSETTO:+0200
TZNAME:CEST
DTSTART:20190331T010000
END:DAYLIGHT
BEGIN:STANDARD
TZOFFSETFROM:+0200
TZOFFSETTO:+0100
TZNAME:CET
DTSTART:20191027T010000
END:STANDARD
BEGIN:DAYLIGHT
TZOFFSETFROM:+0100
TZOFFSETTO:+0200
TZNAME:CEST
DTSTART:20200329T010000
END:DAYLIGHT
BEGIN:STANDARD
TZOFFSETFROM:+0200
TZOFFSETTO:+0100
TZNAME:CET
DTSTART:20201025T010000
END:STANDARD
END:VTIMEZONE
BEGIN:VEVENT
DTSTART;TZID=Europe/Rome:20190624T080000
DTEND;TZID=Europe/Rome:20190624T235500
DTSTAMP:20260419T190211
CREATED:20190623T210811Z
LAST-MODIFIED:20190623T210811Z
UID:277056-1561363200-1561420500@www.eventiintoscana.it
SUMMARY:Festività di San Giovanni Battista - Firenze
DESCRIPTION:Il 24 giugno è la Festa del patrono di Firenze\, San Giovanni Battista.\nCome da tradizione\, molti sono gli eventi in programma: alle 10\,30 l’offerta dei ceri nel Battistero\, con solenne corteo per le vie del centro. \nA seguire Messa Solenne in Cattedrale con concerto del Maggio Musicale. \nAlle 17 la finale del Torneo del Calcio Storico\, in piazza Santa Croce\, sempre accompagnata da una scenografica parata del Corteo Storico. \nInfine\, alle 22\, i tradizionali “Fochi”\, multicolore spettacolo pirotecnico da piazzale Michelangelo (vista ideale dai lungarni).
URL:https://www.eventiintoscana.it/evento/festivita-san-giovanni-battista-firenze
LOCATION:Luogo Senza Nome\, Firenze
CATEGORIES:Firenze,Rassegne e Sagre
ATTACH;FMTTYPE=image/jpeg:https://www.eventiintoscana.it/wp-content/uploads/2018/06/30754__ifochidisangiovanni-2.jpg
END:VEVENT
END:VCALENDAR