BEGIN:VCALENDAR
VERSION:2.0
PRODID:-//Eventi in Toscana By Toscana Tascabile - ECPv6.15.12.2//NONSGML v1.0//EN
CALSCALE:GREGORIAN
METHOD:PUBLISH
X-WR-CALNAME:Eventi in Toscana By Toscana Tascabile
X-ORIGINAL-URL:https://www.eventiintoscana.it
X-WR-CALDESC:Eventi per Eventi in Toscana By Toscana Tascabile
REFRESH-INTERVAL;VALUE=DURATION:PT1H
X-Robots-Tag:noindex
X-PUBLISHED-TTL:PT1H
BEGIN:VTIMEZONE
TZID:Europe/Rome
BEGIN:DAYLIGHT
TZOFFSETFROM:+0100
TZOFFSETTO:+0200
TZNAME:CEST
DTSTART:20160327T010000
END:DAYLIGHT
BEGIN:STANDARD
TZOFFSETFROM:+0200
TZOFFSETTO:+0100
TZNAME:CET
DTSTART:20161030T010000
END:STANDARD
BEGIN:DAYLIGHT
TZOFFSETFROM:+0100
TZOFFSETTO:+0200
TZNAME:CEST
DTSTART:20170326T010000
END:DAYLIGHT
BEGIN:STANDARD
TZOFFSETFROM:+0200
TZOFFSETTO:+0100
TZNAME:CET
DTSTART:20171029T010000
END:STANDARD
BEGIN:DAYLIGHT
TZOFFSETFROM:+0100
TZOFFSETTO:+0200
TZNAME:CEST
DTSTART:20180325T010000
END:DAYLIGHT
BEGIN:STANDARD
TZOFFSETFROM:+0200
TZOFFSETTO:+0100
TZNAME:CET
DTSTART:20181028T010000
END:STANDARD
END:VTIMEZONE
BEGIN:VEVENT
DTSTART;TZID=Europe/Rome:20170428T000000
DTEND;TZID=Europe/Rome:20170501T000000
DTSTAMP:20260421T132301
CREATED:20170323T161601Z
LAST-MODIFIED:20170502T090911Z
UID:237682-1493337600-1493596800@www.eventiintoscana.it
SUMMARY:Festival di Nova Eroica - Buonconvento (Siena)
DESCRIPTION:Dal 28 aprile al 1° maggio Buonconvento si veste a festa per il primo ‘Festival di Nova Eroica’\, singolare appuntamento che offre la possibilità di scoprire un territorio unico attraverso lo sport\, la musica e l’enogastronomia.\nLa manifestazione prevede mercati\, concerti\, street food con prodotti tipici e ancora musei aperti\, passeggiate nella natura e itinerari in bici. Le piazze e le strade del paese diventano palcoscenico per una serie di eventi il cui fil rouge è la qualità della vita. \nIl Festival sarà caratterizzato anche dal Mercato in Scena\, un curioso viaggio alla scoperta di piccoli produttori ed artigiani che raccontano l’eccellenza dei prodotti toscani e italiani. \nContemporaneamente\, accanto alla cinta muraria medioevale\, nel grande Piazzale Garibaldi\, si animerà il Mercato Eroico che presenterà il meglio di tutto quello che ha a che fare con il mondo del ciclismo.
URL:https://www.eventiintoscana.it/evento/festival-di-nuova-eroica-buonconvento-buonconvento-siena
LOCATION:Buonconvento\, Buonconvento\, Toscana\, 53022\, Italia
CATEGORIES:Rassegne e Sagre,Siena
ATTACH;FMTTYPE=image/jpeg:https://www.eventiintoscana.it/wp-content/uploads/2017/03/20891__eroica_650x300.jpg
END:VEVENT
END:VCALENDAR