BEGIN:VCALENDAR
VERSION:2.0
PRODID:-//Eventi in Toscana By Toscana Tascabile - ECPv6.15.12.2//NONSGML v1.0//EN
CALSCALE:GREGORIAN
METHOD:PUBLISH
X-ORIGINAL-URL:https://www.eventiintoscana.it
X-WR-CALDESC:Eventi per Eventi in Toscana By Toscana Tascabile
REFRESH-INTERVAL;VALUE=DURATION:PT1H
X-Robots-Tag:noindex
X-PUBLISHED-TTL:PT1H
BEGIN:VTIMEZONE
TZID:Europe/Rome
BEGIN:DAYLIGHT
TZOFFSETFROM:+0100
TZOFFSETTO:+0200
TZNAME:CEST
DTSTART:20180325T010000
END:DAYLIGHT
BEGIN:STANDARD
TZOFFSETFROM:+0200
TZOFFSETTO:+0100
TZNAME:CET
DTSTART:20181028T010000
END:STANDARD
BEGIN:DAYLIGHT
TZOFFSETFROM:+0100
TZOFFSETTO:+0200
TZNAME:CEST
DTSTART:20190331T010000
END:DAYLIGHT
BEGIN:STANDARD
TZOFFSETFROM:+0200
TZOFFSETTO:+0100
TZNAME:CET
DTSTART:20191027T010000
END:STANDARD
BEGIN:DAYLIGHT
TZOFFSETFROM:+0100
TZOFFSETTO:+0200
TZNAME:CEST
DTSTART:20200329T010000
END:DAYLIGHT
BEGIN:STANDARD
TZOFFSETFROM:+0200
TZOFFSETTO:+0100
TZNAME:CET
DTSTART:20201025T010000
END:STANDARD
END:VTIMEZONE
BEGIN:VEVENT
DTSTART;TZID=Europe/Rome:20190615T160000
DTEND;TZID=Europe/Rome:20190616T230000
DTSTAMP:20260419T142925
CREATED:20190611T082431Z
LAST-MODIFIED:20190611T082431Z
UID:276751-1560614400-1560726000@www.eventiintoscana.it
SUMMARY:Festival in Villa – Parco di Villa Severi\, Arezzo
DESCRIPTION:15 – 16 giugno 2019 al Parco di Villa Severi di Arezzo torna il Festival in Villa\nProgramma \n▶︎ Sabato 15.06.19\n•16.00 inaugurazione con spettacolo dell’Associazione Sbandieratori Arezzo e saluto delle autorità: Provincia\, Comune e Regione. \n•16.30 sotto i gazebo del centro di aggregazione relazione del Primo Rettore della Fraternità dei Laici Prof. Pier Luigi Rossi dal titolo: “Memoria e identità” \n•16.30 “Vita al campo “(per bambini dagli 8 anni in su) gestito dall’ Associazione scout CNGEI Sezione Di Arezzo. \n•17.00 spazio davanti al Teatro dell’aggeggio: Spettacolo di burattini a cura di Paolo Valenti. \n•17.30 sotto i gazebo: Associazione scrittori aretini Tagete\, presentazione libri e introduzione con Storia di Villa Severi \n•18.30 sala conferenze Villa:” Pillole diVinae “si parlerà di vino con Associazione Italiana Sommelier sez. di Arezzo. [ A.I.S. Toscana Delegazione Arezzo ] \n•19.00 sotto i gazebo del centro di aggregazione: cibo di strada panineria e birra curato da centro aggregazione sociale Villa Severi e centro Onda d’Urto. \n•20.00 davanti alla villa cena a buffet a cura di Associazione Cuochi aretini [ Cuochi Arezzo ] e Strada del vino Terre di Arezzo [ Strada del Vino Terre di Arezzo] \, su prenotazione (in caso di pioggia dentro il salone del circolo e della villa). \n•22.00 a cura del centro Onda d’Urto: musica fino alle 24 con gruppi giovani emergenti di Arezzo.\n____________________________________________________\n▶︎Domenica 16.06.19 \n•16.30 spettacolo burattini per bambini nella piazza davanti al circolo a cura del Teatro dell’Aggeggio. \n•16.00 – 18.00 “C’è avventura a Villa Severi” (per bambini dagli 8 anni in su) con gli scout CNGEI Sezione Di Arezzo. \n•17.00 sotto i mori davanti al centro di aggregazione: Mostra di funghi primaverili curata dal Gruppo Micologico sez. di Arezzo. \n•17.00 sotto i gazebo del centro di aggregazione: presentazione di libri o poesie curata da Associazione scrittori aretini Tagete \n•18.30 sala conferenze Villa:” Pillole diVinae “si parlerà di vino con Associazione Italiana Sommelier . \n•19 sotto i gazebo del centro: cibo di strada panineria e birra curato da centro aggregazione sociale Villa Severi e centro Onda d’Urto. \n•20.00 cena a buffet davanti alla villa a cura di Associazione Cuochi aretini e Strada del vino Terre di Arezzo\, su prenotazione (in caso di pioggia dentro il salone del circolo e della villa). \n•22.00 nel prato adiacente al centro a cura del centro Onda d’ urto: concerto musica fino alle 24\, chiusura dell’evento.
URL:https://www.eventiintoscana.it/evento/festival-villa-parco-villa-severi-arezzo
CATEGORIES:arezzo,Rassegne e Sagre
ATTACH;FMTTYPE=image/jpeg:https://www.eventiintoscana.it/wp-content/uploads/2019/06/festival-in-villa-arezzo.jpg
END:VEVENT
END:VCALENDAR