BEGIN:VCALENDAR
VERSION:2.0
PRODID:-//Eventi in Toscana By Toscana Tascabile - ECPv6.15.12.2//NONSGML v1.0//EN
CALSCALE:GREGORIAN
METHOD:PUBLISH
X-WR-CALNAME:Eventi in Toscana By Toscana Tascabile
X-ORIGINAL-URL:https://www.eventiintoscana.it
X-WR-CALDESC:Eventi per Eventi in Toscana By Toscana Tascabile
REFRESH-INTERVAL;VALUE=DURATION:PT1H
X-Robots-Tag:noindex
X-PUBLISHED-TTL:PT1H
BEGIN:VTIMEZONE
TZID:Europe/Rome
BEGIN:DAYLIGHT
TZOFFSETFROM:+0100
TZOFFSETTO:+0200
TZNAME:CEST
DTSTART:20190331T010000
END:DAYLIGHT
BEGIN:STANDARD
TZOFFSETFROM:+0200
TZOFFSETTO:+0100
TZNAME:CET
DTSTART:20191027T010000
END:STANDARD
BEGIN:DAYLIGHT
TZOFFSETFROM:+0100
TZOFFSETTO:+0200
TZNAME:CEST
DTSTART:20200329T010000
END:DAYLIGHT
BEGIN:STANDARD
TZOFFSETFROM:+0200
TZOFFSETTO:+0100
TZNAME:CET
DTSTART:20201025T010000
END:STANDARD
BEGIN:DAYLIGHT
TZOFFSETFROM:+0100
TZOFFSETTO:+0200
TZNAME:CEST
DTSTART:20210328T010000
END:DAYLIGHT
BEGIN:STANDARD
TZOFFSETFROM:+0200
TZOFFSETTO:+0100
TZNAME:CET
DTSTART:20211031T010000
END:STANDARD
END:VTIMEZONE
BEGIN:VEVENT
DTSTART;TZID=Europe/Rome:20200320T100000
DTEND;TZID=Europe/Rome:20200322T190000
DTSTAMP:20260423T222634
CREATED:20200226T092614Z
LAST-MODIFIED:20200226T092614Z
UID:285633-1584698400-1584903600@www.eventiintoscana.it
SUMMARY:Festival delle scoperte - Luoghi vari\, Firenze
DESCRIPTION:Dal 20 al 22 marzo Firenze ospita\, per la prima volta\, il Festiva delle Scperte: tre giorni di  conferenze\, presentazioni\, laboratori\, workshop\, installazioni\, spettacoli teatrali e musicali dedicati al piacere delle scoperte nei più vari campi del sapere.\nL’edizione 2020 del Festival delle Scoperte sarà dedicata alla dimensione in cui collochiamo il fluire degli eventi: il tempo\, inteso nelle più diverse accezioni e diverse discipline di studio e di lavoro. \nAd affrontare il tema\, tra scienze e letteratura\, filosofia e religione\, arte\, teatro e musica\, ci saranno oltre 130 ospiti\, per 120 appuntamenti dislocati in 15 luoghi diversi. \nTra i luoghi coinvolti: le Murate\, il Cenacolo di Santa Croce\, la biblioteca delle Oblate\, lo Spazio Alfieri\, l’Accademia La Colombaria\, il Museo Galileo\, l’Osservatorio Astrofisico di Arcetri e l’Osservatorio Ximeniano\, il Teatro Niccolini\, la Fondazione Scienza e Tecnica\, Santa Maria Nuova\, l’Accademia dei Georgofili\, l’Officina Profumo-Farmaceutica di Santa Maria Novella\, l’Accademia Italiana\, il Saci di Palazzo Cartelloni e le librerie Libraccio e Salvemini. \nTra gli ositi; Telmo Pievani\, Banda Osiris\, Luigi Dei\, Massimo Inguscio\, Sandra Savaglio\, Marco Malvaldi\, Roberto Vittori\, Marcello Spagnuolo\, Adrian Fartade\, Padre Bernardo etc. \nIl format è stato pensato e scelto per coinvolgere un pubblico eterogeneo che possa trovare nella “scoperta” un elemento positivo di crescita\, discussione\, confronto e condivisione: tutti sogniamo di scoprire qualcosa! Utenti individuali\, gruppi\, studenti\, famiglie con bambini\, appassionati di scienza e di arte e turisti culturali. \nIngresso libero (fino a esaurimento posti)\, necessaria l’iscrizione al form \n*** \ninfo@festivalscoperte.it
URL:https://www.eventiintoscana.it/evento/festival-delle-scoperte-luoghi-vari-firenze
CATEGORIES:Firenze,Mostra d'Arte
ATTACH;FMTTYPE=image/jpeg:https://www.eventiintoscana.it/wp-content/uploads/2020/02/festival-delle-scoperte-firenze.jpg
END:VEVENT
END:VCALENDAR