BEGIN:VCALENDAR
VERSION:2.0
PRODID:-//Eventi in Toscana By Toscana Tascabile - ECPv6.15.12.2//NONSGML v1.0//EN
CALSCALE:GREGORIAN
METHOD:PUBLISH
X-WR-CALNAME:Eventi in Toscana By Toscana Tascabile
X-ORIGINAL-URL:https://www.eventiintoscana.it
X-WR-CALDESC:Eventi per Eventi in Toscana By Toscana Tascabile
REFRESH-INTERVAL;VALUE=DURATION:PT1H
X-Robots-Tag:noindex
X-PUBLISHED-TTL:PT1H
BEGIN:VTIMEZONE
TZID:Europe/Rome
BEGIN:DAYLIGHT
TZOFFSETFROM:+0100
TZOFFSETTO:+0200
TZNAME:CEST
DTSTART:20160327T010000
END:DAYLIGHT
BEGIN:STANDARD
TZOFFSETFROM:+0200
TZOFFSETTO:+0100
TZNAME:CET
DTSTART:20161030T010000
END:STANDARD
BEGIN:DAYLIGHT
TZOFFSETFROM:+0100
TZOFFSETTO:+0200
TZNAME:CEST
DTSTART:20170326T010000
END:DAYLIGHT
BEGIN:STANDARD
TZOFFSETFROM:+0200
TZOFFSETTO:+0100
TZNAME:CET
DTSTART:20171029T010000
END:STANDARD
BEGIN:DAYLIGHT
TZOFFSETFROM:+0100
TZOFFSETTO:+0200
TZNAME:CEST
DTSTART:20180325T010000
END:DAYLIGHT
BEGIN:STANDARD
TZOFFSETFROM:+0200
TZOFFSETTO:+0100
TZNAME:CET
DTSTART:20181028T010000
END:STANDARD
END:VTIMEZONE
BEGIN:VEVENT
DTSTART;TZID=Europe/Rome:20170922T080000
DTEND;TZID=Europe/Rome:20170924T170000
DTSTAMP:20260422T204106
CREATED:20170912T143934Z
LAST-MODIFIED:20170912T143934Z
UID:248669-1506067200-1506272400@www.eventiintoscana.it
SUMMARY:Firenze rivista: Festival delle riviste - Firenze
DESCRIPTION:Ritorna Firenze Rivista\, il primo festival italiano dedicato al mondo delle riviste: dal 22 al 24 settembre\, nella splendida cornice del Museo Novecento.\nGiunto alla sua terza edizione\, si inserisce all’interno della programmazione dell’Estate Fiorentina e si terrà nella magnifica cornice del Museo Novecento\, in Piazza Santa Maria Novella\, che ospiterà gli stand delle riviste partecipanti per tutta la durata del festival. Il tema dell’edizione 2017 sarà #Ricerca. Le iscrizioni rimangono aperte sino al 15 di settembre. \nFirenze RiVista è un festival che nasce dalla collaborazione delle riviste fiorentine e toscane\, con l’obiettivo di raccontare il territorio scegliendo il punto di vista di chi\, dal basso\, porta nuove idee e contribuisce a rendere meno banale ciò che tutti i giorni viviamo\, mostrandolo sotto nuovi punti di vista e nella sua multiforme complessità. \nPROGRAMMA: \nL’edizione 2017 si apre venerdì 22 col progetto “Parole O_Stili”\, con Vera Gheno e Bruno Mastroianni\, per una maggiore consapevolezza sull’uso del linguaggio e i comportamenti online. Nel pomeriggio ci sarà un pitch editoriale a porte chiuse\, dove aspiranti scrittori potranno incontrare gli editori\, e a seguire gli esordi letterari raccontati dal Premio Calvino con Marcello Fois\, Carlo Loforti e il presidente del Premio Mauro Marchetti. Sempre per venerdì è previsto l’incontro con le riviste\, tra cui: effe\, Crapula Club\, L’indiscreto\, A Few Words e Street Book Magazine \nSi prosegue sabato 23 col consolidato appuntamento con L’Accademia della Crusca e nel pomeriggio gli incontri con Lucrezia Ercoli (Popsophia) e la giornalista scientifica Silvia Bencivelli. Incontro di punta del sabato quello con Edoardo De Angelis\, acclamato regista di Indivisibili. \nDomenica 24 sarà dato maggiore spazio al cinema\, col workshop di cinema indipendente (Collettivo John Snellinberg Film e Laura Catalano per 8 Production) e l’incontro tra l’Associazione Cinema America (Roma) e Cinema Stensen (Firenze) moderato dal collettivo In fuga dalla bocciofila (Firenze). \nIl calendario degli eventi e degli ospiti è molto più fitto e verrà pubblicato a breve sul sito del festival (www.firenzerivista.it) e sulla pagina Facebook (facebook.com/FirenzeRivista). Non mancheranno le convenzioni per i partecipanti e le serate Off Festival: sabato 24\, il Museo Novecento rimarrà aperto sino a mezzanotte\, per una serata di letture aperte e che vedrà la partecipazione di tutti gli ospiti del festival. \n*** \nFirenze RiVista rinnova l’invito alle riviste\, cartacee o online\, che si occupano di informazione\, cultura\, letteratura\, questioni sociali\, cinema e altri media\, a partecipare attivamente al festival. \nC’è tempo sino al 15 di settembre per compilare il modulo di iscrizione presente sul sito (www.firenzerivista.it/online-bando-iscrizioni-firenze-rivista-2017/). \nA ogni partecipante verrà garantito uno stand del quale disporre liberamente e dove potrà lavorare a stretto contatto con le altre riviste partecipanti al festival.
URL:https://www.eventiintoscana.it/evento/festival-delle-riviste-firenze
LOCATION:Museo Novecento\, Piazza Santa Maria Novella\, Firenze
CATEGORIES:Firenze,Mostra d'Arte
ATTACH;FMTTYPE=image/jpeg:https://www.eventiintoscana.it/wp-content/uploads/2017/09/rivista_riviste_giornali_magazine.jpg
END:VEVENT
END:VCALENDAR