BEGIN:VCALENDAR
VERSION:2.0
PRODID:-//Eventi in Toscana By Toscana Tascabile - ECPv6.15.12.2//NONSGML v1.0//EN
CALSCALE:GREGORIAN
METHOD:PUBLISH
X-WR-CALNAME:Eventi in Toscana By Toscana Tascabile
X-ORIGINAL-URL:https://www.eventiintoscana.it
X-WR-CALDESC:Eventi per Eventi in Toscana By Toscana Tascabile
REFRESH-INTERVAL;VALUE=DURATION:PT1H
X-Robots-Tag:noindex
X-PUBLISHED-TTL:PT1H
BEGIN:VTIMEZONE
TZID:Europe/Rome
BEGIN:DAYLIGHT
TZOFFSETFROM:+0100
TZOFFSETTO:+0200
TZNAME:CEST
DTSTART:20170326T010000
END:DAYLIGHT
BEGIN:STANDARD
TZOFFSETFROM:+0200
TZOFFSETTO:+0100
TZNAME:CET
DTSTART:20171029T010000
END:STANDARD
BEGIN:DAYLIGHT
TZOFFSETFROM:+0100
TZOFFSETTO:+0200
TZNAME:CEST
DTSTART:20180325T010000
END:DAYLIGHT
BEGIN:STANDARD
TZOFFSETFROM:+0200
TZOFFSETTO:+0100
TZNAME:CET
DTSTART:20181028T010000
END:STANDARD
BEGIN:DAYLIGHT
TZOFFSETFROM:+0100
TZOFFSETTO:+0200
TZNAME:CEST
DTSTART:20190331T010000
END:DAYLIGHT
BEGIN:STANDARD
TZOFFSETFROM:+0200
TZOFFSETTO:+0100
TZNAME:CET
DTSTART:20191027T010000
END:STANDARD
END:VTIMEZONE
BEGIN:VEVENT
DTSTART;TZID=Europe/Rome:20180811T080000
DTEND;TZID=Europe/Rome:20180819T230000
DTSTAMP:20260422T040308
CREATED:20180727T102300Z
LAST-MODIFIED:20180820T055437Z
UID:269038-1533974400-1534719600@www.eventiintoscana.it
SUMMARY:45ª Festa Paesana - Serrazzano\, Pomarance (Pisa)
DESCRIPTION:Torna nel bellissimo borgo di Serrazzano\, frazione del comune di Pomarance (PI)\, la Festa Paesana organizzata dal G.S. Serrazzano: appuntamento presso il Parco dei Castagni nelle giornate dell’11 e 12\, 14 e 15 e 18-19 agosto. \nOgni sera si potrà cenare con diversi menù\, dalla carne alla brace al pesce. La domenica gli stand saranno aperti anche a pranzo\, ma è il giorno 15 che si terrà il momento gastronomico più atteso con la Tortellata di Ferragosto con i tipici Tortelli Serrazzanini! Nel menù spiccano anche altre squisitezze come agnello pomarancino\, trippa e arrotolata di maiale. \nPrevisti inoltre raduni\, spettacoli e musica. \n\nProgramma completo (scarica la locandina QUI)\nSabato 11 agosto \nOre 19\,30:Apertura Festa con Pasta all´amatriciana e della nonna\, tagliatelle\, arrotolata di maiale\, carne alla brace \nOre 21\,30: Serata musicale con “I matti delle giuncaie” \n*** \nDomenica 12 agosto \nOre 13: Pranzo con linguine allo scoglio\, totani ripieni con piselli\, baccalà alla serrazzanina\, carne alla brace. \nOre 19\,30: Cena con menu come a pranzo \nOre 21\,30: Proiezione Film \n*** \nMartedì 14 agosto \nOre 19\,30: Cena con tagliatelle e penne ragù e all´arrabbiata- polenta- carne alla brace \nOre 21\,30: Serata musicale con “Jelly Rolls” \n*** \nMercoledì 15 agosto \nOre 12: Pranzo con tortellata di Ferragosto\, lasagne\, tagliatelle\, arrotolata di maiale al forno\, agnello arrosto\, trippa\, carne alla brace \nOre 19\,30 : Cena con specialità Serrazzanine \nOre 21\,30: Serata musicale con ” Blue River” \n*** \nSabato 18 agosto \nOre 19\,30: Cena con tortelli\, tagliatelle\, salciccia e fagioli\, carne alla brace \nOre 21\,30: Serata musicale con “Rock Circus” \n*** \nDomenica 19 agosto \nOre 13: Pranzo con tortelli\, tagliatelle\, trippa e carne alla brace \nOre 19\,30: Cena con polenta\, tagliatelle\, tortelli e Specialità alla brace \nOre 21: Serata giallo-rosso-blu presentazione delle squadre: Amatori e Prima Categoria \nA seguire musica con “Cherry de Mud \n*** \nA pranzo e a cena sempre presenti tagliatelle e carne alla brace. Ingresso gratuito alle serate! \nLa struttura è dotata di Defribillatore semiautomatico DAE
URL:https://www.eventiintoscana.it/evento/45a-festa-paesana-serrazzano-pomarance-pisa
LOCATION:Parco dei Castagni\, Serrazzano\, Pomarance 
CATEGORIES:Pisa,Rassegne e Sagre
ATTACH;FMTTYPE=image/jpeg:https://www.eventiintoscana.it/wp-content/uploads/2016/02/45ª-Festa-paesana-1.jpg
END:VEVENT
END:VCALENDAR