BEGIN:VCALENDAR
VERSION:2.0
PRODID:-//Eventi in Toscana By Toscana Tascabile - ECPv6.15.12.2//NONSGML v1.0//EN
CALSCALE:GREGORIAN
METHOD:PUBLISH
X-WR-CALNAME:Eventi in Toscana By Toscana Tascabile
X-ORIGINAL-URL:https://www.eventiintoscana.it
X-WR-CALDESC:Eventi per Eventi in Toscana By Toscana Tascabile
REFRESH-INTERVAL;VALUE=DURATION:PT1H
X-Robots-Tag:noindex
X-PUBLISHED-TTL:PT1H
BEGIN:VTIMEZONE
TZID:Europe/Rome
BEGIN:DAYLIGHT
TZOFFSETFROM:+0100
TZOFFSETTO:+0200
TZNAME:CEST
DTSTART:20180325T010000
END:DAYLIGHT
BEGIN:STANDARD
TZOFFSETFROM:+0200
TZOFFSETTO:+0100
TZNAME:CET
DTSTART:20181028T010000
END:STANDARD
BEGIN:DAYLIGHT
TZOFFSETFROM:+0100
TZOFFSETTO:+0200
TZNAME:CEST
DTSTART:20190331T010000
END:DAYLIGHT
BEGIN:STANDARD
TZOFFSETFROM:+0200
TZOFFSETTO:+0100
TZNAME:CET
DTSTART:20191027T010000
END:STANDARD
BEGIN:DAYLIGHT
TZOFFSETFROM:+0100
TZOFFSETTO:+0200
TZNAME:CEST
DTSTART:20200329T010000
END:DAYLIGHT
BEGIN:STANDARD
TZOFFSETFROM:+0200
TZOFFSETTO:+0100
TZNAME:CET
DTSTART:20201025T010000
END:STANDARD
END:VTIMEZONE
BEGIN:VEVENT
DTSTART;TZID=Europe/Rome:20190523T120000
DTEND;TZID=Europe/Rome:20190526T235500
DTSTAMP:20260423T232406
CREATED:20190521T143506Z
LAST-MODIFIED:20190521T143506Z
UID:275927-1558612800-1558914900@www.eventiintoscana.it
SUMMARY:Festa greca - Campi Bisenzio (Firenze)
DESCRIPTION:Nei giorni 23-24-25-26 maggio 2019 in Piazza Fra’ Ristoro a Campi Bisenzio ecco la Festa greca con mercatino\, area street food\, balli folkloristici.\nOrario : 12.00/00.00 con ingresso gratuito. \nL’evento nasce per far rivivere i colori\, i suoni\, gli odori di un Mercato artigianale ricco di cultura e storia Greca\, con prodotti tipici del territorio. Grande spazio verrà dato ai prodotti tipici enogastronomici\, valorizzando la cultura del cibo\, la sostenibilità e l’educazione a km 0. E poi\, spettacoli con artisti di strada e balli fokloristici. \nCi sarà spazio anche per lo street food “made in Grecia” \, di qualità\, con cucine on the road. Si potranno gustare le prelibatezze greche: gyros pita\, souvlaky\, bifteky e tanto altro. Il tutto accompagnato dalle migliori birre artigianali greche \, in una vera e propria “food e drink experience”.
URL:https://www.eventiintoscana.it/evento/festa-greca-campi-bisenzio-firenze
LOCATION:Luogo Senza Nome\, Piazza Fra' Ristoro \, Campi Bisenzio\, Firenze
CATEGORIES:Firenze,Rassegne e Sagre
ATTACH;FMTTYPE=image/jpeg:https://www.eventiintoscana.it/wp-content/uploads/2019/05/festa-greca-campi-bisenzio.jpg
END:VEVENT
END:VCALENDAR