BEGIN:VCALENDAR
VERSION:2.0
PRODID:-//Eventi in Toscana By Toscana Tascabile - ECPv6.15.12.2//NONSGML v1.0//EN
CALSCALE:GREGORIAN
METHOD:PUBLISH
X-ORIGINAL-URL:https://www.eventiintoscana.it
X-WR-CALDESC:Eventi per Eventi in Toscana By Toscana Tascabile
REFRESH-INTERVAL;VALUE=DURATION:PT1H
X-Robots-Tag:noindex
X-PUBLISHED-TTL:PT1H
BEGIN:VTIMEZONE
TZID:Europe/Rome
BEGIN:DAYLIGHT
TZOFFSETFROM:+0100
TZOFFSETTO:+0200
TZNAME:CEST
DTSTART:20170326T010000
END:DAYLIGHT
BEGIN:STANDARD
TZOFFSETFROM:+0200
TZOFFSETTO:+0100
TZNAME:CET
DTSTART:20171029T010000
END:STANDARD
BEGIN:DAYLIGHT
TZOFFSETFROM:+0100
TZOFFSETTO:+0200
TZNAME:CEST
DTSTART:20180325T010000
END:DAYLIGHT
BEGIN:STANDARD
TZOFFSETFROM:+0200
TZOFFSETTO:+0100
TZNAME:CET
DTSTART:20181028T010000
END:STANDARD
BEGIN:DAYLIGHT
TZOFFSETFROM:+0100
TZOFFSETTO:+0200
TZNAME:CEST
DTSTART:20190331T010000
END:DAYLIGHT
BEGIN:STANDARD
TZOFFSETFROM:+0200
TZOFFSETTO:+0100
TZNAME:CET
DTSTART:20191027T010000
END:STANDARD
END:VTIMEZONE
BEGIN:VEVENT
DTSTART;TZID=Europe/Rome:20180928T080000
DTEND;TZID=Europe/Rome:20180930T235500
DTSTAMP:20260422T081308
CREATED:20180914T155700Z
LAST-MODIFIED:20180930T224018Z
UID:270986-1538121600-1538351700@www.eventiintoscana.it
SUMMARY:Festa di San Michele e Palio dei ciuchi - Carmignano (Prato)
DESCRIPTION:La Festa di San Michele e Palio dei ciuchi si svolge a Carmignano (PO) nel fine settimana del 28-30 settembre.\nUna doppia battaglia: a colpi di sfilate di teatro di strada e di corse del Palio dei ciuchi. Il 28\, 29 e 30 settembre Carmignano si veste a festa e si immerge nelle sfide dei rioni. Le sfilate del teatro di strada vedono i quattro rioni impegnati con un tema diverso e legato al paese\, portandolo in scena con un linguaggio unico\, a cavallo tra teatro\, danza e corteo\, con colori\, musica e coreografie. \nIn ognuno dei tre giorni\, al termine delle quattro sfilate\, si corre il Palio dei ciuchi: quattro fantini\, uno per rione\, montando a pelo\, percorrono quattro giri della piazza; il fantino che arriva per primo deve sfondare con le mani un cerchio di carta posto al traguardo. Il Palio va al fantino che al termine delle tre sere ha totalizzato il punteggio maggiore. \nAppuntamento venerdì 28 alle 21 con le prime sfilate e la prima corsa del Palio\, poi sabato 29 ancora alle 21 e domenica 30 alle 15.30 con le sfide decisive e le premiazioni. Inoltre\, prima delle sfilate sono in programma le esibizioni dei gruppi storici.
URL:https://www.eventiintoscana.it/evento/festa-san-michele-palio-dei-ciuchi-carmignano-prato
LOCATION:Carmignano\, Prato
CATEGORIES:Prato,Rassegne e Sagre
ATTACH;FMTTYPE=image/jpeg:https://www.eventiintoscana.it/wp-content/uploads/2018/09/Palio-dei-ciuchi-Carmignano.jpg
END:VEVENT
END:VCALENDAR