BEGIN:VCALENDAR
VERSION:2.0
PRODID:-//Eventi in Toscana By Toscana Tascabile - ECPv6.15.12.2//NONSGML v1.0//EN
CALSCALE:GREGORIAN
METHOD:PUBLISH
X-WR-CALNAME:Eventi in Toscana By Toscana Tascabile
X-ORIGINAL-URL:https://www.eventiintoscana.it
X-WR-CALDESC:Eventi per Eventi in Toscana By Toscana Tascabile
REFRESH-INTERVAL;VALUE=DURATION:PT1H
X-Robots-Tag:noindex
X-PUBLISHED-TTL:PT1H
BEGIN:VTIMEZONE
TZID:Europe/Rome
BEGIN:DAYLIGHT
TZOFFSETFROM:+0100
TZOFFSETTO:+0200
TZNAME:CEST
DTSTART:20180325T010000
END:DAYLIGHT
BEGIN:STANDARD
TZOFFSETFROM:+0200
TZOFFSETTO:+0100
TZNAME:CET
DTSTART:20181028T010000
END:STANDARD
BEGIN:DAYLIGHT
TZOFFSETFROM:+0100
TZOFFSETTO:+0200
TZNAME:CEST
DTSTART:20190331T010000
END:DAYLIGHT
BEGIN:STANDARD
TZOFFSETFROM:+0200
TZOFFSETTO:+0100
TZNAME:CET
DTSTART:20191027T010000
END:STANDARD
BEGIN:DAYLIGHT
TZOFFSETFROM:+0100
TZOFFSETTO:+0200
TZNAME:CEST
DTSTART:20200329T010000
END:DAYLIGHT
BEGIN:STANDARD
TZOFFSETFROM:+0200
TZOFFSETTO:+0100
TZNAME:CET
DTSTART:20201025T010000
END:STANDARD
END:VTIMEZONE
BEGIN:VEVENT
DTSTART;TZID=Europe/Rome:20190927T100000
DTEND;TZID=Europe/Rome:20190929T230000
DTSTAMP:20260422T005716
CREATED:20190926T160906Z
LAST-MODIFIED:20190926T161638Z
UID:279323-1569578400-1569798000@www.eventiintoscana.it
SUMMARY:Festa dell'uva - Scansano (Grosseto)
DESCRIPTION:Da venerdì 27 a domenica 29 settembre torna a Scansano la Festa dell’uva\, quest’anno alla 51° edizione.\nProgramma \nVenerdì 27 settembre\nore 18\,00-24.00 Centro storico Apertura delle cantine storiche\nore 19.30 live music \nSabato 28 settembre\nore 09\,00-12\,00 Ritrovo di auto d’epoca con la partecipazione di Fiat Club Italia coordinamento di Manciano ?\nore 10 Mercateggiando – mercato dell’artigianato e non solo\nore 10\,00-12\,00 e 15\,30-17\,30 Visita guidata al paese e al museo (info e prenotazioni Anna 3289045690 Andrea 3331088184)\nore 12\,00-02\,00 apertura delle cantine storiche\nore 19.30 live music\n \nDomenica 29 settembre\nore 10 Mercateggiando – mercato dell’artigianato e non solo\nore 11 raduno Vespa Club a cura di vespa club Castiglione della Pescaia \nore 12\,00-24\,00 Apertura delle cantine storiche\nore 16\,00 Carosello Vespa Club \n-Sfilata Carri allegorici \n-Premiazione Miglior Cantina\n-Premiazione Miglior Carro\nore 20 live music
URL:https://www.eventiintoscana.it/evento/festa-delluva-scansano-grosseto
LOCATION:Luogo Senza Nome\, Scansano (Grosseto)
CATEGORIES:Grosseto,Rassegne e Sagre
ATTACH;FMTTYPE=image/jpeg:https://www.eventiintoscana.it/wp-content/uploads/2019/04/vino.jpg
END:VEVENT
END:VCALENDAR