BEGIN:VCALENDAR
VERSION:2.0
PRODID:-//Eventi in Toscana By Toscana Tascabile - ECPv6.15.12.2//NONSGML v1.0//EN
CALSCALE:GREGORIAN
METHOD:PUBLISH
X-WR-CALNAME:Eventi in Toscana By Toscana Tascabile
X-ORIGINAL-URL:https://www.eventiintoscana.it
X-WR-CALDESC:Eventi per Eventi in Toscana By Toscana Tascabile
REFRESH-INTERVAL;VALUE=DURATION:PT1H
X-Robots-Tag:noindex
X-PUBLISHED-TTL:PT1H
BEGIN:VTIMEZONE
TZID:Europe/Rome
BEGIN:DAYLIGHT
TZOFFSETFROM:+0100
TZOFFSETTO:+0200
TZNAME:CEST
DTSTART:20180325T010000
END:DAYLIGHT
BEGIN:STANDARD
TZOFFSETFROM:+0200
TZOFFSETTO:+0100
TZNAME:CET
DTSTART:20181028T010000
END:STANDARD
BEGIN:DAYLIGHT
TZOFFSETFROM:+0100
TZOFFSETTO:+0200
TZNAME:CEST
DTSTART:20190331T010000
END:DAYLIGHT
BEGIN:STANDARD
TZOFFSETFROM:+0200
TZOFFSETTO:+0100
TZNAME:CET
DTSTART:20191027T010000
END:STANDARD
BEGIN:DAYLIGHT
TZOFFSETFROM:+0100
TZOFFSETTO:+0200
TZNAME:CEST
DTSTART:20200329T010000
END:DAYLIGHT
BEGIN:STANDARD
TZOFFSETFROM:+0200
TZOFFSETTO:+0100
TZNAME:CET
DTSTART:20201025T010000
END:STANDARD
END:VTIMEZONE
BEGIN:VEVENT
DTSTART;TZID=Europe/Rome:20191011T163000
DTEND;TZID=Europe/Rome:20191020T200000
DTSTAMP:20260422T130747
CREATED:20191006T132938Z
LAST-MODIFIED:20191006T132938Z
UID:279702-1570811400-1571601600@www.eventiintoscana.it
SUMMARY:Festa dell'olio - Castelmuzio e Trequanda (Siena)
DESCRIPTION:Appuntamento con la Festa dell’olio dall’11 al 13 ottobre a Castelmuzio e dal 18 al 20 ottobre a Trequanda.\n\nLa Festa dell’Olio Nòvo è un appuntamento ormai classico del comune di Trequanda\, che tradizionalmente\, con questa manifestazione\, apre la serie di eventi dedicati alla nuova produzione di olio toscano. La festa è incentrata sulla nuova produzione di olio\, prodotto di punta della Valdichiana come di altre zone della Toscana. Nella festa organizzata dalla Pro loco sono previsti numerosi eventi\, tra cui incontri\, mercatini e\, ovviamente\, degustazioni di olio nòvo. \nCastelmuzio:\nVENERDÌ 11:\nOre 16.30: Visita guidata al frantoio di Castelmuzio con partenza da piazza IV Novembre e degustazione di Olio Novo\nOre 17.30: Aperitivo a base di olio EVO\, degustazione di vini e prodotti tipici e musica live a cura de La Bottega Valdichiana Eating – Trequanda presso l’ex circolino in via Santa Maria della Scala\nOre 20.00: “Tutt’unto” Cena con i produttori di olio extra vergine di oliva di Castelmuzio nei ristoranti La Locanda di CasalMustia (0577.665166) e La Cucina della Moscadella (0577.660516) – su prenotazione\nOre 20.30: Torneo di biliardo individuale nei locali in Via di Castel Mozzo 7 \nSABATO 12:\nOre 9.30: Convegno presso il Museo della Compagnia sul tema “L’olio e l’olivo\, strumenti di ieri e di oggi per la valorizzazione della cultura locale e la sostenibilità ambientale”\nOre 11.45: Inaugurazione del Giardino delle Rose\nOre 16.00: Spettacolo di Dog Dance e Obedience a cura dell’Asd Cinofilo Valdichiana con l’addestratore Enci Monica Mencarelli\nOre 16.30: Finale del torneo di biliardo individuale nei locali in Via di Castel Mozzo 7\nOre 17.00: “Booktrailers – Spettacolo della Libreria Profumi per la Mente” di Davide Ruffinengo\nOre 21.15: Spettacolo di Magia con la Maga Elena in piazza della Pieve \nDOMENICA 13: \nOre 8.30: “A passeggio tra gli olivi” Percorso di 5 km negli oliveti e colazione con fettunta\nOre 16.00: Performance creativa della stilista Eleonora Farina\nOre 16.00-19.00: Olio da Strada – Degustazione itinerante di piatti a base di Olio Novo e votazione per il concorso “L’Olio Novo più bono scelto dai consumatori”\nOre 17.00: Spettacolo itinerante dei Castle’s Drummers – Tamburini delle Serre\nMusica dal vivo in piazza con Daniele Giachi chitarra e voce \nE tante altre iniziative sono in programma il sabato e la domenica:\n– Corso con gli assaggiatori Aicoo “Percezioni sensoriali e profumi dell’olio extravergine d’oliva di qualità”\n– Mostra mercato di prodotti enogastronomici (sabato e domenica)\n– “Spazio Massimo” Area divertimento e sorprese per grandi e piccini\n– Mostre personali di pittura\, scultura e fotografia\n– Menù speciali a base di Olio Novo allo Stand Gastronomico (su prenotazione 335.5478839 Stella – 360.341597 Sergio) e nei ristoranti locali
URL:https://www.eventiintoscana.it/evento/festa-dellolio-castelmuzio-trequanda-siena
LOCATION:Luogo Senza Nome\, Castelmuzio e Trequanda (Siena)
CATEGORIES:Rassegne e Sagre,Siena
ATTACH;FMTTYPE=image/jpeg:https://www.eventiintoscana.it/wp-content/uploads/2018/11/olio.jpg
END:VEVENT
END:VCALENDAR