BEGIN:VCALENDAR
VERSION:2.0
PRODID:-//Eventi in Toscana By Toscana Tascabile - ECPv6.15.12.2//NONSGML v1.0//EN
CALSCALE:GREGORIAN
METHOD:PUBLISH
X-WR-CALNAME:Eventi in Toscana By Toscana Tascabile
X-ORIGINAL-URL:https://www.eventiintoscana.it
X-WR-CALDESC:Eventi per Eventi in Toscana By Toscana Tascabile
REFRESH-INTERVAL;VALUE=DURATION:PT1H
X-Robots-Tag:noindex
X-PUBLISHED-TTL:PT1H
BEGIN:VTIMEZONE
TZID:Europe/Rome
BEGIN:DAYLIGHT
TZOFFSETFROM:+0100
TZOFFSETTO:+0200
TZNAME:CEST
DTSTART:20190331T010000
END:DAYLIGHT
BEGIN:STANDARD
TZOFFSETFROM:+0200
TZOFFSETTO:+0100
TZNAME:CET
DTSTART:20191027T010000
END:STANDARD
BEGIN:DAYLIGHT
TZOFFSETFROM:+0100
TZOFFSETTO:+0200
TZNAME:CEST
DTSTART:20200329T010000
END:DAYLIGHT
BEGIN:STANDARD
TZOFFSETFROM:+0200
TZOFFSETTO:+0100
TZNAME:CET
DTSTART:20201025T010000
END:STANDARD
BEGIN:DAYLIGHT
TZOFFSETFROM:+0100
TZOFFSETTO:+0200
TZNAME:CEST
DTSTART:20210328T010000
END:DAYLIGHT
BEGIN:STANDARD
TZOFFSETFROM:+0200
TZOFFSETTO:+0100
TZNAME:CET
DTSTART:20211031T010000
END:STANDARD
END:VTIMEZONE
BEGIN:VEVENT
DTSTART;TZID=Europe/Rome:20201018T153000
DTEND;TZID=Europe/Rome:20201025T200000
DTSTAMP:20260422T174044
CREATED:20201016T140051Z
LAST-MODIFIED:20201016T140051Z
UID:287993-1603035000-1603656000@www.eventiintoscana.it
SUMMARY:Festa della castagna - San Giovanni alla Vena (Pisa)
DESCRIPTION:Torna la sagra della castagna a San Giovanni alla Vena\, organizzata dalla Parrocchia\, domenica 18 e domenica 25 ottobre\, in Piazza della Repubblica.\n\nL’edizione di quest’anno ha\, forzatamente\, un programma diverso e ridotto rispetto a quello degli anni precedenti quando c’erano cene\, pranzi\, spettacoli e intrattenimento.\n\nMa gli organizzatori\, nel pieno rispetto della normativa antiCovid\, hanno voluto comunque continuare e garantire questa bella tradizione sangiovannese e offrire ai cittadini e visitatori la possibilità di degustare le castagne\, tutte le delizie a base di castagna\, anche per l’asporto\, e altre bontà.\n\nGli stand gastronomici saranno aperti\, nelle due giornate\, dalle 15.30 alle 20.00.
URL:https://www.eventiintoscana.it/evento/festa-della-castagna-san-giovanni-alla-vena-pisa
CATEGORIES:Pisa,Rassegne e Sagre
ATTACH;FMTTYPE=image/jpeg:https://www.eventiintoscana.it/wp-content/uploads/2020/10/festa-della-castagna-san-giovanni-alla-vena.jpg
END:VEVENT
END:VCALENDAR