BEGIN:VCALENDAR
VERSION:2.0
PRODID:-//Eventi in Toscana By Toscana Tascabile - ECPv6.15.12.2//NONSGML v1.0//EN
CALSCALE:GREGORIAN
METHOD:PUBLISH
X-ORIGINAL-URL:https://www.eventiintoscana.it
X-WR-CALDESC:Eventi per Eventi in Toscana By Toscana Tascabile
REFRESH-INTERVAL;VALUE=DURATION:PT1H
X-Robots-Tag:noindex
X-PUBLISHED-TTL:PT1H
BEGIN:VTIMEZONE
TZID:Europe/Rome
BEGIN:DAYLIGHT
TZOFFSETFROM:+0100
TZOFFSETTO:+0200
TZNAME:CEST
DTSTART:20180325T010000
END:DAYLIGHT
BEGIN:STANDARD
TZOFFSETFROM:+0200
TZOFFSETTO:+0100
TZNAME:CET
DTSTART:20181028T010000
END:STANDARD
BEGIN:DAYLIGHT
TZOFFSETFROM:+0100
TZOFFSETTO:+0200
TZNAME:CEST
DTSTART:20190331T010000
END:DAYLIGHT
BEGIN:STANDARD
TZOFFSETFROM:+0200
TZOFFSETTO:+0100
TZNAME:CET
DTSTART:20191027T010000
END:STANDARD
BEGIN:DAYLIGHT
TZOFFSETFROM:+0100
TZOFFSETTO:+0200
TZNAME:CEST
DTSTART:20200329T010000
END:DAYLIGHT
BEGIN:STANDARD
TZOFFSETFROM:+0200
TZOFFSETTO:+0100
TZNAME:CET
DTSTART:20201025T010000
END:STANDARD
END:VTIMEZONE
BEGIN:VEVENT
DTSTART;TZID=Europe/Rome:20190607T190000
DTEND;TZID=Europe/Rome:20190609T230000
DTSTAMP:20260421T161020
CREATED:20190418T175234Z
LAST-MODIFIED:20190609T191240Z
UID:275168-1559934000-1560121200@www.eventiintoscana.it
SUMMARY:Festa della birra - Brozzi\, Firenze
DESCRIPTION:Dal 7 al 9 giugno (l’evento era inizialmente previsto per il 17-19 maggio ma è stato posticipato a causa del maltempo) il Circolo Libertas di Quaracchi ci aspetta con la festa della birra e tre serate di musica dal vivo.\nGli stand gastronomici aprono alle 19\, la musica parte alle 21! \nSul palco: \nVenerdì 7 Julia Station\, cover band Royal Blood\, Muse\, Alanis Morisette\, Artic Monkeys\, Kasabian\, Offspring \nSabato 8 Empatia\, cover band Ligabue\, Vasco Rossi\, Queen\, Guns’n Roses\, Toto\, Bonjovi\, Eagles \nDomenica 9 Maidens\, Iron Maden Tribute Band \n 
URL:https://www.eventiintoscana.it/evento/festa-della-birra-brozzi-firenze
LOCATION:Circolo Libertas Quaracchi\, Via di Brozzi 97a\, Brozzi\, Firenze
CATEGORIES:Firenze
ATTACH;FMTTYPE=image/jpeg:https://www.eventiintoscana.it/wp-content/uploads/2019/04/Festa-birra-Brozzi.jpg
END:VEVENT
END:VCALENDAR