BEGIN:VCALENDAR
VERSION:2.0
PRODID:-//Eventi in Toscana By Toscana Tascabile - ECPv6.15.12.2//NONSGML v1.0//EN
CALSCALE:GREGORIAN
METHOD:PUBLISH
X-WR-CALNAME:Eventi in Toscana By Toscana Tascabile
X-ORIGINAL-URL:https://www.eventiintoscana.it
X-WR-CALDESC:Eventi per Eventi in Toscana By Toscana Tascabile
REFRESH-INTERVAL;VALUE=DURATION:PT1H
X-Robots-Tag:noindex
X-PUBLISHED-TTL:PT1H
BEGIN:VTIMEZONE
TZID:Europe/Rome
BEGIN:DAYLIGHT
TZOFFSETFROM:+0100
TZOFFSETTO:+0200
TZNAME:CEST
DTSTART:20160327T010000
END:DAYLIGHT
BEGIN:STANDARD
TZOFFSETFROM:+0200
TZOFFSETTO:+0100
TZNAME:CET
DTSTART:20161030T010000
END:STANDARD
BEGIN:DAYLIGHT
TZOFFSETFROM:+0100
TZOFFSETTO:+0200
TZNAME:CEST
DTSTART:20170326T010000
END:DAYLIGHT
BEGIN:STANDARD
TZOFFSETFROM:+0200
TZOFFSETTO:+0100
TZNAME:CET
DTSTART:20171029T010000
END:STANDARD
BEGIN:DAYLIGHT
TZOFFSETFROM:+0100
TZOFFSETTO:+0200
TZNAME:CEST
DTSTART:20180325T010000
END:DAYLIGHT
BEGIN:STANDARD
TZOFFSETFROM:+0200
TZOFFSETTO:+0100
TZNAME:CET
DTSTART:20181028T010000
END:STANDARD
END:VTIMEZONE
BEGIN:VEVENT
DTSTART;TZID=Europe/Rome:20170212T000000
DTEND;TZID=Europe/Rome:20170212T000000
DTSTAMP:20260423T115712
CREATED:20170124T114317Z
LAST-MODIFIED:20170213T094306Z
UID:233362-1486857600-1486857600@www.eventiintoscana.it
SUMMARY:Chianti Lovers - Fortezza da Basso\, Firenze
DESCRIPTION:Chainti lovers 2017\nTorna a Firenze il ‘Chianti lovers’\, l’evento pensato non solo per gli addetti ai lavori\, ma anche per gli  amanti del buon vino\, il 12 febbraio al Padiglione Cavaniglia della Fortezza da Basso. Dalle 9.30 alle 16 l’apertura sarà riservata agli addetti ai lavori\, mentre dalle 16 alle 21 si aprono le porte al pubblico che potrà acquistare il biglietto tramite il circuito BoxOffice. \nOltre 100 le aziende dalle province di Arezzo\, Firenze\, Pistoia\, Pisa\, Prato e Siena presenteranno il Chianti d’annata 2016 e il Chianti Riserva 2014\, ovvero le novità in commercio nel 2017. Come ha dichiarato il Presidente del Consorzio Vino Chianti Giovanni Busi\, l’obiettivo del Consorzio è consolidarsi nel Paese e concentrarsi parallelamente sui mercati stranieri. In programma anche un aperitivo con degustazioni di vino abbinate al cibo e dj set. L’intera inziativa è organizzata dal Consorzio Vino Chianti\, in collaborazione con Camera di Commercio\, Promofirenze e Regione Toscana.
URL:https://www.eventiintoscana.it/evento/chianti-lovers-12-febbraio-2017-fortezza-da-basso-firenze
LOCATION:Fortezza da Basso\, Viale Filippo Strozzi\, Firenze\, Toscana\, IT
CATEGORIES:Firenze
ATTACH;FMTTYPE=image/jpeg:https://www.eventiintoscana.it/wp-content/uploads/2017/01/CHIANTI-LOVERS2.jpg
END:VEVENT
END:VCALENDAR