BEGIN:VCALENDAR
VERSION:2.0
PRODID:-//Eventi in Toscana By Toscana Tascabile - ECPv6.15.12.2//NONSGML v1.0//EN
CALSCALE:GREGORIAN
METHOD:PUBLISH
X-WR-CALNAME:Eventi in Toscana By Toscana Tascabile
X-ORIGINAL-URL:https://www.eventiintoscana.it
X-WR-CALDESC:Eventi per Eventi in Toscana By Toscana Tascabile
REFRESH-INTERVAL;VALUE=DURATION:PT1H
X-Robots-Tag:noindex
X-PUBLISHED-TTL:PT1H
BEGIN:VTIMEZONE
TZID:Europe/Rome
BEGIN:DAYLIGHT
TZOFFSETFROM:+0100
TZOFFSETTO:+0200
TZNAME:CEST
DTSTART:20170326T010000
END:DAYLIGHT
BEGIN:STANDARD
TZOFFSETFROM:+0200
TZOFFSETTO:+0100
TZNAME:CET
DTSTART:20171029T010000
END:STANDARD
BEGIN:DAYLIGHT
TZOFFSETFROM:+0100
TZOFFSETTO:+0200
TZNAME:CEST
DTSTART:20180325T010000
END:DAYLIGHT
BEGIN:STANDARD
TZOFFSETFROM:+0200
TZOFFSETTO:+0100
TZNAME:CET
DTSTART:20181028T010000
END:STANDARD
BEGIN:DAYLIGHT
TZOFFSETFROM:+0100
TZOFFSETTO:+0200
TZNAME:CEST
DTSTART:20190331T010000
END:DAYLIGHT
BEGIN:STANDARD
TZOFFSETFROM:+0200
TZOFFSETTO:+0100
TZNAME:CET
DTSTART:20191027T010000
END:STANDARD
END:VTIMEZONE
BEGIN:VEVENT
DTSTART;VALUE=DATE:20180520
DTEND;VALUE=DATE:20180521
DTSTAMP:20260421T112902
CREATED:20180502T200019Z
LAST-MODIFIED:20180516T094136Z
UID:265631-1526774400-1526860799@www.eventiintoscana.it
SUMMARY:Mangia...longa: passeggiata nell'eccellenza enogastronomica - Pontedera (PI)
DESCRIPTION:14esima edizione per la Mangia… longa di Pontedera: appuntamento domenica 20 maggio con la passeggiata nell’eccellenza enogastronomica sulle colline e tra i borghi del Pontedera.\nLe iscrizioni sono aperte fino al 15 maggio. La quota di partecipazione è di € 20\,00;per i bambini dai 6 ai 10 anni di € 10\,00; per i bambini fino a 5 anni la partecipazione è gratuita. \nPartenze ore 10.40\, 11\,11.20\, 11.40\, 12 dal Parco Fluviale di La Rotta \nProgramma:\n1a TAPPA La Rotta – Parco Fluviale con i sapori della casa e la patata di Santa Maria a Monte.\n1° Banco assaggio vini bianchi\, rosati e bollicine. \n2a TAPPA La Rotta – Fattoria Degli Azzoni con le selezioni delle eccellenze norcine. Degustazione vini parco produttivo enologico Fattoria Azzoni. \n3a TAPPA Borgo di Montecastello Zuppa di cavolo delle cuoche di Treggiaia.\n2° Banco assaggio vini rossi giovani autoctoni. \n4a TAPPA Montecastello Villa Torrigiani Malaspina con i giganti del formaggio e l’olio del Marchese.\n3° Banco assaggio vini parco rossi giovani allogeni e blend. \n5a TAPPA Montecastello località Val di Lama con dadolata con olio extra vergine d’oliva di Val di Lama e degustazione chiocciole di Treggiaia .\nDegustazione 2 venti del podere Anima Munda. \n6a TAPPA Treggiaia Chiesa Madonna di Ripaia con bruschetta con olio extra vergine d’oliva di Col di Conca. \n7a TAPPA Borgo di Treggiaia cacciucco di maiale rosa.\n4° Banco assaggio vini rossi affinati – Bus navetta per il ritorno. Oppure\, su prenotazione\, possibilità di chiudere l’anello ( km. 6) passando attraverso il\nBosco della Val di Gello-Gallina Vecchia ( con guide CAI). \n8a TAPPA La Rotta – Parco Fluviale La ciliegia di Lari e i Frati del Gruppo Culturale \n*** \nQuota di partecipazione: € 20\,00 – Bambini da 6 a 10 anni € 10\,00 Bambini fino a 5 anni gratis\nInformazioni e Iscrizioni: Ufficio Turistico Viale Rinaldo Piaggio\, 82 – Pontedera (PI) (apertura h.10:30)\nTel.  388 758 3081 – ufficioturistico@comune.pontedera.pi.it\nTel. 0587 299250 – 0587 299605 – mangialonga@comune.pontedera.pi.it \nNota degli organizzatori:\nIn caso di pioggia l’organizzazione si riserva la facoltà di decidere sulla partenza o meno della Mangia….longa.\nQualora sia annullata la partenza\,sarà comunicato attraverso il sito del Comune di Pontedera e la manifestazione sarà rimandata a domenica 3 giugno 2018.\nLe quote d’iscrizione non saranno restituite
URL:https://www.eventiintoscana.it/evento/mangia-longa-pontedera-pi
LOCATION:Colline e borghi di Pontedera\, Pontedera\, Pisa
CATEGORIES:Rassegne e Sagre,Siena
ATTACH;FMTTYPE=image/jpeg:https://www.eventiintoscana.it/wp-content/uploads/2018/05/mangialonga-pontedera_2.jpg
END:VEVENT
END:VCALENDAR