BEGIN:VCALENDAR
VERSION:2.0
PRODID:-//Eventi in Toscana By Toscana Tascabile - ECPv6.15.12.2//NONSGML v1.0//EN
CALSCALE:GREGORIAN
METHOD:PUBLISH
X-ORIGINAL-URL:https://www.eventiintoscana.it
X-WR-CALDESC:Eventi per Eventi in Toscana By Toscana Tascabile
REFRESH-INTERVAL;VALUE=DURATION:PT1H
X-Robots-Tag:noindex
X-PUBLISHED-TTL:PT1H
BEGIN:VTIMEZONE
TZID:Europe/Rome
BEGIN:DAYLIGHT
TZOFFSETFROM:+0100
TZOFFSETTO:+0200
TZNAME:CEST
DTSTART:20170326T010000
END:DAYLIGHT
BEGIN:STANDARD
TZOFFSETFROM:+0200
TZOFFSETTO:+0100
TZNAME:CET
DTSTART:20171029T010000
END:STANDARD
BEGIN:DAYLIGHT
TZOFFSETFROM:+0100
TZOFFSETTO:+0200
TZNAME:CEST
DTSTART:20180325T010000
END:DAYLIGHT
BEGIN:STANDARD
TZOFFSETFROM:+0200
TZOFFSETTO:+0100
TZNAME:CET
DTSTART:20181028T010000
END:STANDARD
BEGIN:DAYLIGHT
TZOFFSETFROM:+0100
TZOFFSETTO:+0200
TZNAME:CEST
DTSTART:20190331T010000
END:DAYLIGHT
BEGIN:STANDARD
TZOFFSETFROM:+0200
TZOFFSETTO:+0100
TZNAME:CET
DTSTART:20191027T010000
END:STANDARD
END:VTIMEZONE
BEGIN:VEVENT
DTSTART;VALUE=DATE:20181202
DTEND;VALUE=DATE:20181203
DTSTAMP:20260421T223340
CREATED:20181202T150533Z
LAST-MODIFIED:20181202T150533Z
UID:272948-1543708800-1543795199@www.eventiintoscana.it
SUMMARY:Aspettando il Natale - Calcinaia (Pisa)
DESCRIPTION:Aspettando il Natale a Calcinaia è una giornata di eventi natalizi in programma domenica 2 dicembre al Centro Commerciale Naturale. \nL’atmosfera natalizia avvolge il paese per tutto il pomeriggio\, tra mercatini di arti e mestieri\, stand gastronomici\, spettacoli\, presepi\, laboratori e\, per la gioia dei bambini\, la Casetta di Babbo Natale. \nGli spettacoli\nCome detto\, Aspettando il Natale a Calcinaia comincia nel primo pomeriggio: alle 15\, infatti\, aprono i laboratori creativi in cui gli Elfi\, aiutanti di Babbo Natale\, aiuteranno i bambini a realizzare addobbi e decorazioni che poi potranno portare a casa come ricordo di questa giornata. Contemporaneamente\, ci sarà l’esibizione degli allievi della scuola di danza “La vie en Rose”. Alle 15.30\, invece\, iniziano gli spettacoli in piazza Umberto I\, seguiti dalle animazione e dai giochi per i bambini. I piccoli non vorranno perdere la possibilità di fare una foto con i personaggi Disney che arriveranno a Calcinaia per questa piccola festa\, di divertirsi al Truccabimbi e di ricevere una piccola opera d’arte fatta con i palloncini dagli artisti di strada. \nArtigianato\, enogastronomia e presepe\nDalle 15 fino a sera ci saranno anche gli stand enogastronomici con pasta fritta\, bomboloni\, valdostane\, cioccolata calda e vin brulè. \nNell’area Fornace Coccapani potrete ammirare “Presepe in cammino”\, mentre gli zampognari allieteranno la vostra passeggiate con musiche natalizie e Babbo Natale raccoglierà le letterine dei bambini. Infine\, chi avrà voglia di sfidare la fortuna ci sarà il gioco “Pesca e Vinci”. \nPer informazioni su Aspettando il Natale a Calcinaia\, andate qui. Per altri eventi come questo\, andate qui. \n 
URL:https://www.eventiintoscana.it/evento/natale-a-calcinaia-pisa
LOCATION:Comune di Calcinaia\, Calcinaia\, Toscana\, 56012\, Italia
CATEGORIES:Fiere e Mercatini,Pisa
ATTACH;FMTTYPE=image/jpeg:https://www.eventiintoscana.it/wp-content/uploads/2018/12/natale5.jpg
END:VEVENT
END:VCALENDAR