BEGIN:VCALENDAR
VERSION:2.0
PRODID:-//Eventi in Toscana By Toscana Tascabile - ECPv6.15.12.2//NONSGML v1.0//EN
CALSCALE:GREGORIAN
METHOD:PUBLISH
X-ORIGINAL-URL:https://www.eventiintoscana.it
X-WR-CALDESC:Eventi per Eventi in Toscana By Toscana Tascabile
REFRESH-INTERVAL;VALUE=DURATION:PT1H
X-Robots-Tag:noindex
X-PUBLISHED-TTL:PT1H
BEGIN:VTIMEZONE
TZID:Europe/Rome
BEGIN:DAYLIGHT
TZOFFSETFROM:+0100
TZOFFSETTO:+0200
TZNAME:CEST
DTSTART:20150329T010000
END:DAYLIGHT
BEGIN:STANDARD
TZOFFSETFROM:+0200
TZOFFSETTO:+0100
TZNAME:CET
DTSTART:20151025T010000
END:STANDARD
BEGIN:DAYLIGHT
TZOFFSETFROM:+0100
TZOFFSETTO:+0200
TZNAME:CEST
DTSTART:20160327T010000
END:DAYLIGHT
BEGIN:STANDARD
TZOFFSETFROM:+0200
TZOFFSETTO:+0100
TZNAME:CET
DTSTART:20161030T010000
END:STANDARD
BEGIN:DAYLIGHT
TZOFFSETFROM:+0100
TZOFFSETTO:+0200
TZNAME:CEST
DTSTART:20170326T010000
END:DAYLIGHT
BEGIN:STANDARD
TZOFFSETFROM:+0200
TZOFFSETTO:+0100
TZNAME:CET
DTSTART:20171029T010000
END:STANDARD
BEGIN:DAYLIGHT
TZOFFSETFROM:+0100
TZOFFSETTO:+0200
TZNAME:CEST
DTSTART:20180325T010000
END:DAYLIGHT
BEGIN:STANDARD
TZOFFSETFROM:+0200
TZOFFSETTO:+0100
TZNAME:CET
DTSTART:20181028T010000
END:STANDARD
BEGIN:DAYLIGHT
TZOFFSETFROM:+0100
TZOFFSETTO:+0200
TZNAME:CEST
DTSTART:20190331T010000
END:DAYLIGHT
BEGIN:STANDARD
TZOFFSETFROM:+0200
TZOFFSETTO:+0100
TZNAME:CET
DTSTART:20191027T010000
END:STANDARD
END:VTIMEZONE
BEGIN:VEVENT
DTSTART;TZID=Europe/Rome:20181007T080000
DTEND;TZID=Europe/Rome:20181028T230000
DTSTAMP:20260421T190334
CREATED:20180920T201620Z
LAST-MODIFIED:20181007T213859Z
UID:271019-1538899200-1540767600@www.eventiintoscana.it
SUMMARY:Sagra della castagna - Montieri (Grosseto)
DESCRIPTION:Nel corso di tre domeniche di ottobre\, il 7\, 14 e 28\, l’Associazione Calcio Montieri in collaborazione con l’Amministrazione comunale organizza la 35esima edizione della Sagra della castagna.\nQuesto il programma:\nDomenica 07 Ottobre\n– ore 8\,30…Apertura stand gastronomici e vendita di schiacce e castagnaccio\n– ore 9\,00… Piazza XXV Aprile partenza della 14a ed. di “MONTIERI IN QUAD” e 7a ed. della ‘Motocavalcata del Prugnolo’\, organizzata da Montieri in Quad e Motoclub Garganella di Colle V.E.- 12\,00…Apertura ristorante con menu tipico locale\n– ore 14\,00…Alla “Pista Florida” si mangiano le caldarroste e si beve il vino novo\n– ore 16\,00…Intrattenimento musicale con canzoni popolari e folcloristiche\nDomenica 14 Ottobre\n– ore  8\,30…Apertura stand gastronomici e vendita di schiacce e castagnaccio ….\n– ore 10\,00… SpeleoTrekking e a seguire laboratorio di ArcheoMetallurgia organizzati e\ncurati da Cooperativa Colline Metallifere (Prenotazione obbligatoria 0566/902289)\n– ore 12\,00…Apertura ristorante con menu tipico locale\n– ore 14\,00…Alla “Pista Florida” si mangiano le caldarroste e si beve il vino novo\n– ore  16\,00… Intrattenimento con i “RacCantaStorie” canzoni popolari e folcloristiche\n**Inoltre per tutta la giornata sarà presente la CRI con propria Unità Mobile\, per effettuazione gratuita di Ecodoppler vasi epiaortici\, e vari altri screening** \nDomenica 28 Ottobre\n– ore 8\,30…Apertura stand gastronomici e vendita di schiacce e castagnaccio ….\n– ore 12\,00…Apertura ristorante con menu tipico locale\n– ore 14\,00…Alla “Pista Florida” si mangiano le caldarroste e si beve il vino novo\n– ore  16\,00…Intrattenimento musicale di canzoni popolari e folcloristiche \nDurante tutte le giornate di sagra sarà possibile esporre i propri manufatti di artigianato\, antiquariato ecc. negli appositi spazi allo scopo adibiti. (Per qualsiasi info Tel. 366/7462626 – 371/3072469 – 331/9012281)
URL:https://www.eventiintoscana.it/evento/sagra-della-castagna-montieri-grosseto-2
LOCATION:Luogo Senza Nome\, Montieri\, Grosseto
CATEGORIES:Grosseto,Rassegne e Sagre
ATTACH;FMTTYPE=image/jpeg:https://www.eventiintoscana.it/wp-content/uploads/2018/09/sagra-castagna-montieri.jpg
END:VEVENT
BEGIN:VEVENT
DTSTART;TZID=Europe/Rome:20171008T080000
DTEND;TZID=Europe/Rome:20171029T230000
DTSTAMP:20260421T190334
CREATED:20171002T082836Z
LAST-MODIFIED:20171030T085526Z
UID:250540-1507449600-1509318000@www.eventiintoscana.it
SUMMARY:Sagra della castagna - Montieri (Grosseto)
DESCRIPTION:L’Ass. Calcio Montieri\, in collaborazione con l’Amm. Comunale\, organizza nelle tre domeniche 8\, 15 e 29 ottobre la 34ª edizione della sagra della castagna.\nPROGRAMMA: \nDomenica 29 Ottobre \nOre 8\,30 Apertura stand gastronomici e vendita di schiacce e castagnaccio… \n Ore 10\,30 Visita guidata ‘CUNICOLI E ANTICHE MINIERE’ nei dintorni di Montieri dai quali si sono estratti per secoli i minerali tipici di questa zona. Prenotazioni obbligatorie ed info 0566/902289 o info@coopcollinemetallifere.it \nOre 12\,00  Apertura ristorante con menu tipico locale \nOre 14\,00  Alla ‘Pista Florida’ si mangiano le caldarroste e si beve il vino novo \nOre 14\,30 Incontro di calcio IIa Cat. Gir. ‘F’ – MONTIERI – RIBOLLA \n Ore 16\,00 Intrattenimento musicale con DIXIE SWING CHIC BAND \nDurante le giornate di sagra sarà possibile esporre i propri manufatti di artigianato\, antiquariato etc in appositi spazi allo scopo predisposti; per info: 366/7462626 – 335/7388866 – 331/9012281 \nCLICCA QUI PER SCARICARE LA LOCANDINA \n*** \nprogramma passato: \nDomenica 8 Ottobre\n8\,30 Apertura stand gastronomici e vendita di schiacce e castagnaccio… \n Ore 11\,00 Orienteering urbano: a caccia di indizi con mappa e bussola nel centro storico di Montieri (per grandi e piccoli) Prenotazioni obbligatorie ed info 0566/902289 o info@coopcollinemetallifere.it \nOre 12\,00 Apertura ristorante con menu tipico locale \n Ore 14\,00 Alla ‘Pista Florida’ si mangiano le caldarroste e si beve il vino novo \n Ore 16\,00 Intrattenimento musicale con la ‘BANDA ANIMATA’ di Roccatederighi \nDomenica 15 Ottobre \nOre 8\,30 Apertura stand gastronomici e vendita di schiacce e castagnaccio… \n Ore 9\,30 Trekking guidato ‘Castagni ed antichi seccatoi’\, passeggiata dedicata ai boschi di castagno ed alla loro storia ed importanza come fonte di cibo per generazioni. (Rientro ora di pranzo) Prenotazioni obbligatorie ed info 0566/902289 o info@coopcollinemetallifere.it \nOre 12\,00 Apertura ristorante con menu tipico locale \n Ore 14\,00 Alla ‘Pista Florida’ si mangiano le caldarroste e si beve il vino novo \n Ore 15\,30 Incontro di calcio IIa Cat. Gir. ‘F’ – MONTIERI – BRACCAGNI \n Ore 16\,00 Intrattenimento musicale
URL:https://www.eventiintoscana.it/evento/sagra-della-castagna-montieri-grosseto
LOCATION:Luogo Senza Nome\, Montieri\, Grosseto
CATEGORIES:Grosseto,Rassegne e Sagre
ATTACH;FMTTYPE=image/jpeg:https://www.eventiintoscana.it/wp-content/uploads/2016/09/17126__castagne18.jpg
END:VEVENT
BEGIN:VEVENT
DTSTART;TZID=Europe/Rome:20161003T080000
DTEND;TZID=Europe/Rome:20161030T170000
DTSTAMP:20260421T190334
CREATED:20161003T100302Z
LAST-MODIFIED:20161011T090436Z
UID:219878-1475481600-1477846800@www.eventiintoscana.it
SUMMARY:Sagra della castagna - Montieri (Grosseto)
DESCRIPTION:Appuntamento a Montieri (GR) con la 33ª sagra della castagna organizzata dall’Associazione Calcio Montieri per le tre domeniche del  9\, 16 e 30 ottobre 2016\n  \nDomenica 9 ottobre\nSi comincia fin dalle 8.30 di mattina con l’apertura degli stand gastronomici e la vendita di schiacce e castagnaccio; alle 12 apre il ristorante con menù tipico locale\, mentre dalle 14 alla ‘Pista Florida’ si mangiano le caldarroste e si beve il vino novo. \nAlle 15.30 incontro di calcio IIª Ca. Gir. F – Montieri – Altamaremma\, mentre alle 16 intrattenimento musicale con i Pettirossi di Roccastrada. \nL’Associazione 75° Avventura con Spazio Pony ed equitazione per tutti \nScarica la locandina cliccando QUI \nDomenica 16 ottobre\nAlle 8.30 di mattina aprono gli stand gastronomici e comincia la vendita di schiacce e castagnaccio; alle 9.30 via alle iscrizioni per l’Autoraduno d’epoca (prenotazioni al 331/9012281). Alle 12 apre il ristorante con menù tipico locale. Alle 16 intrattenimento musicale con la Banda Animata di Roccatederighi. \nL’Associazione 75° Avventura con Il giro della Polendina: trekking a peidi\, escursione sugli antichi sentieri della castagna con guida autorizzata e ricca mangiata finale (info al 339/8291356) \n  \nDomenica 30 ottobre\n8.30 di mattina con l’apertura degli stand gastronomici e la vendita di schiacce e castagnaccio. Alle 12 apertura del ristorante con menù tipico locale e alle 14 appuntamento alla Pista Florida\, dove si mangiano le caldarroste e si beve il vino novo. Alle 16 poi intrattenimento musicale con la banda G. Verdi di Montieri. \nNella giornata l’Associazione Asini a Prata sarà presente con i propri asinelli per la gioia di tutti i bambini \nScarica la locandina cliccando QUI \n  \nDurante le giornate di sagra sarà possibile esporre i propri manufatti di artigianato\, antiquariato etc\, mentre il mercato straordinario verrà effettuato solamente nelle giornate del 9 e del 30 \nPer qualsiasi info: 366/7462626 – 335/7388866 – 331/9012281 – 333/2424878
URL:https://www.eventiintoscana.it/evento/sagra-della-castagna-montieri-gr
LOCATION:Montieri\, Montieri\, Italia
CATEGORIES:Grosseto,Rassegne e Sagre
ATTACH;FMTTYPE=image/jpeg:https://www.eventiintoscana.it/wp-content/uploads/2016/10/Sagra-castagna-Montieri-Eventiintoscana.jpg
END:VEVENT
END:VCALENDAR