BEGIN:VCALENDAR
VERSION:2.0
PRODID:-//Eventi in Toscana By Toscana Tascabile - ECPv6.15.12.2//NONSGML v1.0//EN
CALSCALE:GREGORIAN
METHOD:PUBLISH
X-WR-CALNAME:Eventi in Toscana By Toscana Tascabile
X-ORIGINAL-URL:https://www.eventiintoscana.it
X-WR-CALDESC:Eventi per Eventi in Toscana By Toscana Tascabile
REFRESH-INTERVAL;VALUE=DURATION:PT1H
X-Robots-Tag:noindex
X-PUBLISHED-TTL:PT1H
BEGIN:VTIMEZONE
TZID:Europe/Rome
BEGIN:DAYLIGHT
TZOFFSETFROM:+0100
TZOFFSETTO:+0200
TZNAME:CEST
DTSTART:20170326T010000
END:DAYLIGHT
BEGIN:STANDARD
TZOFFSETFROM:+0200
TZOFFSETTO:+0100
TZNAME:CET
DTSTART:20171029T010000
END:STANDARD
BEGIN:DAYLIGHT
TZOFFSETFROM:+0100
TZOFFSETTO:+0200
TZNAME:CEST
DTSTART:20180325T010000
END:DAYLIGHT
BEGIN:STANDARD
TZOFFSETFROM:+0200
TZOFFSETTO:+0100
TZNAME:CET
DTSTART:20181028T010000
END:STANDARD
BEGIN:DAYLIGHT
TZOFFSETFROM:+0100
TZOFFSETTO:+0200
TZNAME:CEST
DTSTART:20190331T010000
END:DAYLIGHT
BEGIN:STANDARD
TZOFFSETFROM:+0200
TZOFFSETTO:+0100
TZNAME:CET
DTSTART:20191027T010000
END:STANDARD
END:VTIMEZONE
BEGIN:VEVENT
DTSTART;TZID=Europe/Rome:20181013T080000
DTEND;TZID=Europe/Rome:20181021T230000
DTSTAMP:20260420T005901
CREATED:20181006T172336Z
LAST-MODIFIED:20181006T172336Z
UID:271748-1539417600-1540162800@www.eventiintoscana.it
SUMMARY:Festa della castagna - Bacchereto\, Carmignano (Prato)
DESCRIPTION:37ª edizione per la festa della castagna di Bacchereto\, sulle colline di Carmignano\, nei due fine settimana 13-14 e 20-21 ottobre.  \nSarà possibile assaggiare specialità locali e autunnali come necci con ricotta e nutella\, castagne bruciate o ballotte\, castagnaccio\, frittelle micce\, migliaccio…. sarà anche l’occasione per acquistare i tipici fichi secchi e per assaggiare i covaccini con i ciccioli\, la minestra di pane e la polenta ai funghi.  \nAppuntamento nel centro del paese il sabato dalle 16\, la domenica dalle 15; la festa è organizzata dalla Polisportiva Bacchereto.  \n 
URL:https://www.eventiintoscana.it/evento/festa-della-castagna-bacchereto-carmignano-prato
LOCATION:Luogo Senza Nome\, Bacchereto - Carmignano (Prato)
CATEGORIES:Prato,Rassegne e Sagre
ATTACH;FMTTYPE=image/jpeg:https://www.eventiintoscana.it/wp-content/uploads/2017/10/25117__castagne2.jpg
END:VEVENT
END:VCALENDAR