BEGIN:VCALENDAR
VERSION:2.0
PRODID:-//Eventi in Toscana By Toscana Tascabile - ECPv6.15.12.2//NONSGML v1.0//EN
CALSCALE:GREGORIAN
METHOD:PUBLISH
X-ORIGINAL-URL:https://www.eventiintoscana.it
X-WR-CALDESC:Eventi per Eventi in Toscana By Toscana Tascabile
REFRESH-INTERVAL;VALUE=DURATION:PT1H
X-Robots-Tag:noindex
X-PUBLISHED-TTL:PT1H
BEGIN:VTIMEZONE
TZID:Europe/Rome
BEGIN:DAYLIGHT
TZOFFSETFROM:+0100
TZOFFSETTO:+0200
TZNAME:CEST
DTSTART:20170326T010000
END:DAYLIGHT
BEGIN:STANDARD
TZOFFSETFROM:+0200
TZOFFSETTO:+0100
TZNAME:CET
DTSTART:20171029T010000
END:STANDARD
BEGIN:DAYLIGHT
TZOFFSETFROM:+0100
TZOFFSETTO:+0200
TZNAME:CEST
DTSTART:20180325T010000
END:DAYLIGHT
BEGIN:STANDARD
TZOFFSETFROM:+0200
TZOFFSETTO:+0100
TZNAME:CET
DTSTART:20181028T010000
END:STANDARD
BEGIN:DAYLIGHT
TZOFFSETFROM:+0100
TZOFFSETTO:+0200
TZNAME:CEST
DTSTART:20190331T010000
END:DAYLIGHT
BEGIN:STANDARD
TZOFFSETFROM:+0200
TZOFFSETTO:+0100
TZNAME:CET
DTSTART:20191027T010000
END:STANDARD
END:VTIMEZONE
BEGIN:VEVENT
DTSTART;TZID=Europe/Rome:20180930T170000
DTEND;TZID=Europe/Rome:20180930T235500
DTSTAMP:20260421T211958
CREATED:20180920T195649Z
LAST-MODIFIED:20180925T080740Z
UID:271014-1538326800-1538351700@www.eventiintoscana.it
SUMMARY:Inaugurazione del Birrifio Agricolo Baldi - Casalguidi\, Serravalle Pistoiese (Pistoia)
DESCRIPTION:Domenica 30 settembre alle 17 al Podere Santa Rita di Casalguidi\, frazione di Serravalle Pistoiese (Pistoia)\, si inaugura il primo birrificio agricolo della città\, il Birrificio Agricolo Baldi. \nAi partecipanti verranno presentate le tre birre del birrificio agricolo: Pale Ale\, Stout e la birra speciale di ispirazione trappista\, Abbazia. Tutte realizzate con il malto dell’orzo coltivato a Canapale! La prima bottiglia di birra\, a scelta tra Pale Ale e Stout\, verrà offerta dal birrificio. \nInfo sulla pagina Facebook del Birrificio.
URL:https://www.eventiintoscana.it/evento/inaugurazione-del-birrifio-agricolo-baldi-pistoia
LOCATION:Podere Santa Rita\, Casalguidi\, Serravalle Pistoiese - Pistoia
CATEGORIES:Pistoia,Rassegne e Sagre
ATTACH;FMTTYPE=image/jpeg:https://www.eventiintoscana.it/wp-content/uploads/2018/09/birrificio-agricolo-baldi.jpg
END:VEVENT
END:VCALENDAR