BEGIN:VCALENDAR
VERSION:2.0
PRODID:-//Eventi in Toscana By Toscana Tascabile - ECPv6.15.12.2//NONSGML v1.0//EN
CALSCALE:GREGORIAN
METHOD:PUBLISH
X-ORIGINAL-URL:https://www.eventiintoscana.it
X-WR-CALDESC:Eventi per Eventi in Toscana By Toscana Tascabile
REFRESH-INTERVAL;VALUE=DURATION:PT1H
X-Robots-Tag:noindex
X-PUBLISHED-TTL:PT1H
BEGIN:VTIMEZONE
TZID:Europe/Rome
BEGIN:DAYLIGHT
TZOFFSETFROM:+0100
TZOFFSETTO:+0200
TZNAME:CEST
DTSTART:20190331T010000
END:DAYLIGHT
BEGIN:STANDARD
TZOFFSETFROM:+0200
TZOFFSETTO:+0100
TZNAME:CET
DTSTART:20191027T010000
END:STANDARD
BEGIN:DAYLIGHT
TZOFFSETFROM:+0100
TZOFFSETTO:+0200
TZNAME:CEST
DTSTART:20200329T010000
END:DAYLIGHT
BEGIN:STANDARD
TZOFFSETFROM:+0200
TZOFFSETTO:+0100
TZNAME:CET
DTSTART:20201025T010000
END:STANDARD
BEGIN:DAYLIGHT
TZOFFSETFROM:+0100
TZOFFSETTO:+0200
TZNAME:CEST
DTSTART:20210328T010000
END:DAYLIGHT
BEGIN:STANDARD
TZOFFSETFROM:+0200
TZOFFSETTO:+0100
TZNAME:CET
DTSTART:20211031T010000
END:STANDARD
END:VTIMEZONE
BEGIN:VEVENT
DTSTART;VALUE=DATE:20201031
DTEND;VALUE=DATE:20201102
DTSTAMP:20260420T082007
CREATED:20201007T085433Z
LAST-MODIFIED:20201101T103325Z
UID:287845-1604102400-1604275199@www.eventiintoscana.it
SUMMARY:---annullato--- Effetto Giallo: weekend di Halloween con delitto in prima persona - Firenze
DESCRIPTION:Sabato 31 ottobre e domenica 1 novembre all’Antico Spedale del Bigallo si tiene un evento del collettivo Effetto Giallo: il format in prima persona immergerà i partecipanti totalmente all’interno della trama\, facendo loro interpretare uno dei personaggi coinvolti.\n\nRiprendono le attività del collettivo di scrittori\, master e giocatori fiorentini Effetto Giallo. Il loro format originale prevede una esperienza immersiva  di una o più giornate\, nella quale ciascun giocatore interpreta in prima persona il personaggio di una storia gialla ed è chiamato poi a risolverne il mistero. \nIl prossimo evento si terrà  il 31 ottobre e 1 novembre all’Antico Spedale del Bigallo\, un antico edificio alle porte di Firenze\, dove già dal XIII secolo pellegrini e viandanti cercavano un riparo. Oggi\, restaurato e adibito a strutture ricettiva\, resta un’esperienza di viaggio unico\, mantenendo la sua caratteristica atmosfera medievale. \n\nL’esperienza è adatta a tutti\, basta essere disposti a mettersi in gioco con un po’ di ironia e molta intelligenza. Il dipanarsi della trama porta al disvelamento di indizi importanti che tutti i partecipanti sono invitati ad usare per ricostruire il vero avvicendarsi degli eventi. \nLe storie disponibili\, tutte scritte dai componenti del gruppo\, spaziano dal classico giallo anni ‘20 in stile Agatha Christie\, agli eccessi delle rock band anni ‘80\, fino ai misteriosi segreti di un monastero medievale. \nIl collettivo Effetto Giallo mette a disposizione le sue storie sia per eventi privati che in convenzione con strutture ricettive. Li contraddistingue una scelta raffinata della location\, poiché l’atmosfera suggestiva è un elemento importante del gioco. \nInfo: www.effettogiallo.it – www.facebook.com/effettogiallo/
URL:https://www.eventiintoscana.it/evento/effetto-giallo-weekend-di-halloween-con-delitto-in-prima-persona-firenze
CATEGORIES:Feste e Folklore,Firenze
ATTACH;FMTTYPE=image/jpeg:https://www.eventiintoscana.it/wp-content/uploads/2020/10/effetto-giallo_weekend-con-delitto.jpg
END:VEVENT
END:VCALENDAR