BEGIN:VCALENDAR
VERSION:2.0
PRODID:-//Eventi in Toscana By Toscana Tascabile - ECPv6.15.12.2//NONSGML v1.0//EN
CALSCALE:GREGORIAN
METHOD:PUBLISH
X-WR-CALNAME:Eventi in Toscana By Toscana Tascabile
X-ORIGINAL-URL:https://www.eventiintoscana.it
X-WR-CALDESC:Eventi per Eventi in Toscana By Toscana Tascabile
REFRESH-INTERVAL;VALUE=DURATION:PT1H
X-Robots-Tag:noindex
X-PUBLISHED-TTL:PT1H
BEGIN:VTIMEZONE
TZID:Europe/Rome
BEGIN:DAYLIGHT
TZOFFSETFROM:+0100
TZOFFSETTO:+0200
TZNAME:CEST
DTSTART:20170326T010000
END:DAYLIGHT
BEGIN:STANDARD
TZOFFSETFROM:+0200
TZOFFSETTO:+0100
TZNAME:CET
DTSTART:20171029T010000
END:STANDARD
BEGIN:DAYLIGHT
TZOFFSETFROM:+0100
TZOFFSETTO:+0200
TZNAME:CEST
DTSTART:20180325T010000
END:DAYLIGHT
BEGIN:STANDARD
TZOFFSETFROM:+0200
TZOFFSETTO:+0100
TZNAME:CET
DTSTART:20181028T010000
END:STANDARD
BEGIN:DAYLIGHT
TZOFFSETFROM:+0100
TZOFFSETTO:+0200
TZNAME:CEST
DTSTART:20190331T010000
END:DAYLIGHT
BEGIN:STANDARD
TZOFFSETFROM:+0200
TZOFFSETTO:+0100
TZNAME:CET
DTSTART:20191027T010000
END:STANDARD
END:VTIMEZONE
BEGIN:VEVENT
DTSTART;VALUE=DATE:20181201
DTEND;VALUE=DATE:20181224
DTSTAMP:20260421T204645
CREATED:20180522T073907Z
LAST-MODIFIED:20181209T125433Z
UID:266152-1543622400-1545609599@www.eventiintoscana.it
SUMMARY:EatPrato
DESCRIPTION:EatPrato si tiene nei quattro fine settimana di dicembre\, per un mese intero dedicato alla grande tradizione della pasticceria pratese. \nLa festa della pasticceria\nUna città dal cuore dolce con un’eccellente generazione di pastry chef\, pasticceri artigianali e maestri cioccolatieri che fanno di Prato la capitale della sweet valley italiana\, nota a tutti per un unicum della pasticceria di tradizione ottocentesca\, le pesche di Prato. Senza dimenticare il biscotto di Prato\, noto anche ai più come cantuccio. Oltre 60 le pasticcerie\, i biscottifici e i forni presenti in città e immediati dintorni. Un record! \nE in un momento in cui la pasticceria\, sempre più gourmet ma anche attenta ai prodotti locali\, alla filiera corta\, alla leggerezza\, non è mai stata tanto amata dai millennial\, i riflettori si accendono su Prato\, Maestra Pasticcera. \nQuattro fine settimana di buon cibo\nTutti i weekend di dicembre la città toscana racchiusa dalle splendide mura trecentesche e circondata dalle montagne della Calvana\, oasi naturale protetta\, quest’anno vedrà una vera costellazione di appuntamenti around the food organizzati dal Comune di Prato e dalla Strada dei Vini di Carmignano e dei Sapori Tipici Pratesi. \nE siccome siamo a Natale\, sarà soprattutto il profumo dei dolci appena sfornati a guidare tra forni\, pasticcerie e cioccolaterie di una città che ha fatto del gusto una chiave di lettura del buon vivere. Uno stile di vita. A cominciare dal primo mattino\, tanto che uno degli appuntamenti clou sono proprio le colazioni ad arte o colazioni d’autore della domenica. \nI dolci della tradizione\nE non è casuale l’appuntamento del risveglio goloso a Prato dal momento che qui la prima colazione è un vero e proprio rito\, un piccolo capolavoro di golosità che si consuma tra forni e pasticcerie. Dallo “scendiletto”\, la sfoglia farcita di crema pasticcera servita ancora leggermente calda al berlingozzo\, e poi pan brioche\, biscotti della salute\, pan con l’uva\, crostate\, zuccherini di Vernio\, mantovana\, Giulebbe ai fichi di Carmignano\, torte da credenza e dolci di farina di castagne\, sono soltanto alcuni dei tanti dolci della tradizione pratese. \nE che dire del pan di ramerino pratese con uva sultanina e rosmarino\, mix garbato di dolce e salato di origine medievale\, da gustare per l’aperitivo insieme a quella mortadella di Prato IGP\, Presidio Slow Food frutto del connubio di alchermes e spezie e in abbinamento al Vermouth Bianco di Prato artigianale. \nI dolci del maestro Paolo Sacchetti\nDalla tradizione alla creatività contemporanea con il maestro pasticcere Paolo Sacchetti che\, dopo avere presentato quest’estate un dolce eatPrato\, totalmente inedito\, sabato 15 dicembre nel suo laboratorio lancia il dolce eatPRATO Winter che andrà ad arricchire un repertorio di nuovi dolci testimonial di una nuova collezione di signature cake contemporanei rappresentativi della città. \nNon solo cibo\nNon solo food\, però\, perché eatPRATO che quest’estate nell’Anno del Cibo aveva coniugato il gusto per i buoni sapori con il gusto del bello\, il cibo con l’arte\, anche per l’edizione Winter coinvolge\, aprendoli al mondo foodie e facendoli oggetto di un trekking goloso\, i musei più importanti della città e del territorio\, intrecciando degustazioni e visite guidate\, creando affascinanti contaminazioni tra le opere d’arte e l’enogastronomia di qualità made in Prato e dintorni. Come lungo la strada dei vini e dei sapori dove protagonista è il Carmignano DOCG\, la più antica e la più piccola (con solo 200 ettari) denominazione al mondo\, vino che sposa mirabilmente piatti come il peposo o il sedano alla pratese. \nUna città d’arte\nPerché Prato è dolci ma non solo\, e vanta una cucina sontuosa ideale proprio per i mesi più freddi da scoprire nei tanti ristoranti storici\, trattorie di nuova generazione e bistrot contemporanei. Così come Prato è città fooding ma non solo però! \nA due passi da Firenze\, eppure con una personalità\, un fascino e una bellezza assolutamente inconfondibili. Un centro antico\, intimo e raccolto\, facilmente percorribile a piedi che all’interno delle mura trecentesche custodisce veri e propri gioielli d’arte e architettura da scoprire lungo affascinanti percorsi d’arte sempre però alternati a piccole soste per un aperitivo\, uno shopping goloso\, una cena gourmet. Una città che invita a trattenersi\, o al massimo concede piccole fughe\, come quella a due passi a Poggio a Caiano\, la Villa Medicea Patrimonio mondiale Unesco con il Museo della Natura Morta: 184 capolavori tra 1500 e 1700\, anche loro da gustare meditando ancora una volta proprio su arte e cibo. \nPer informazioni su eatPrato\, andate qui. Per altri eventi come questo\, andate qui.
URL:https://www.eventiintoscana.it/evento/eatprato
LOCATION:Prato\, Prato\, Prato\, Italia
CATEGORIES:Prato,Rassegne e Sagre
ATTACH;FMTTYPE=image/jpeg:https://www.eventiintoscana.it/wp-content/uploads/2018/05/eatprato.jpg
ORGANIZER;CN="Strada dei Vini di Carmignano":MAILTO:info@stradavinicarmignano.it
END:VEVENT
END:VCALENDAR