BEGIN:VCALENDAR
VERSION:2.0
PRODID:-//Eventi in Toscana By Toscana Tascabile - ECPv6.15.12.2//NONSGML v1.0//EN
CALSCALE:GREGORIAN
METHOD:PUBLISH
X-ORIGINAL-URL:https://www.eventiintoscana.it
X-WR-CALDESC:Eventi per Eventi in Toscana By Toscana Tascabile
REFRESH-INTERVAL;VALUE=DURATION:PT1H
X-Robots-Tag:noindex
X-PUBLISHED-TTL:PT1H
BEGIN:VTIMEZONE
TZID:Europe/Rome
BEGIN:DAYLIGHT
TZOFFSETFROM:+0100
TZOFFSETTO:+0200
TZNAME:CEST
DTSTART:20180325T010000
END:DAYLIGHT
BEGIN:STANDARD
TZOFFSETFROM:+0200
TZOFFSETTO:+0100
TZNAME:CET
DTSTART:20181028T010000
END:STANDARD
BEGIN:DAYLIGHT
TZOFFSETFROM:+0100
TZOFFSETTO:+0200
TZNAME:CEST
DTSTART:20190331T010000
END:DAYLIGHT
BEGIN:STANDARD
TZOFFSETFROM:+0200
TZOFFSETTO:+0100
TZNAME:CET
DTSTART:20191027T010000
END:STANDARD
BEGIN:DAYLIGHT
TZOFFSETFROM:+0100
TZOFFSETTO:+0200
TZNAME:CEST
DTSTART:20200329T010000
END:DAYLIGHT
BEGIN:STANDARD
TZOFFSETFROM:+0200
TZOFFSETTO:+0100
TZNAME:CET
DTSTART:20201025T010000
END:STANDARD
END:VTIMEZONE
BEGIN:VEVENT
DTSTART;TZID=Europe/Rome:20190607T190000
DTEND;TZID=Europe/Rome:20190609T230000
DTSTAMP:20260420T205918
CREATED:20190523T071541Z
LAST-MODIFIED:20190523T071541Z
UID:276008-1559934000-1560121200@www.eventiintoscana.it
SUMMARY:Du' Pici sotto le stelle - Chianciano T.me (Siena)
DESCRIPTION:Dal 7 al 9 giugno 5° edizione di Du’ Pici sotto le stelle in piazzolina dei soldati all’interno del centro storico di Chianciano Terme (SI)\, dalle ore 19 in poi.\n Sarà possibile gustare i veri pici fatti a mano dai volontari dell’associazione che verranno conditi con ragù di Chianina\, ragù di nana (anatra) e con l’aglione di produzione locale ….il tutto preparato con passione e dedizione da soci e volontari! \nNovità del 2019\, sabato 8 giugno il centro storico di Chianciano Terme sarà inoltre animato dal concerto della band BIT Live Music che si svolgerà in Piazzolina delle Mordole dalle ore 21. \nL’evento è organizzato da Associazione Amatori Pici Chianciano.
URL:https://www.eventiintoscana.it/evento/du-pici-le-stelle-chianciano-t-siena
LOCATION:Luogo Senza Nome\, Piazzolina dei soldati\, Chianciano Terme\, Siena
CATEGORIES:Rassegne e Sagre,Siena
ATTACH;FMTTYPE=image/jpeg:https://www.eventiintoscana.it/wp-content/uploads/2019/05/bunner-du-pici-sotto-le-stelle-2019.jpg
END:VEVENT
END:VCALENDAR