BEGIN:VCALENDAR
VERSION:2.0
PRODID:-//Eventi in Toscana By Toscana Tascabile - ECPv6.15.12.2//NONSGML v1.0//EN
CALSCALE:GREGORIAN
METHOD:PUBLISH
X-ORIGINAL-URL:https://www.eventiintoscana.it
X-WR-CALDESC:Eventi per Eventi in Toscana By Toscana Tascabile
REFRESH-INTERVAL;VALUE=DURATION:PT1H
X-Robots-Tag:noindex
X-PUBLISHED-TTL:PT1H
BEGIN:VTIMEZONE
TZID:Europe/Rome
BEGIN:DAYLIGHT
TZOFFSETFROM:+0100
TZOFFSETTO:+0200
TZNAME:CEST
DTSTART:20180325T010000
END:DAYLIGHT
BEGIN:STANDARD
TZOFFSETFROM:+0200
TZOFFSETTO:+0100
TZNAME:CET
DTSTART:20181028T010000
END:STANDARD
BEGIN:DAYLIGHT
TZOFFSETFROM:+0100
TZOFFSETTO:+0200
TZNAME:CEST
DTSTART:20190331T010000
END:DAYLIGHT
BEGIN:STANDARD
TZOFFSETFROM:+0200
TZOFFSETTO:+0100
TZNAME:CET
DTSTART:20191027T010000
END:STANDARD
BEGIN:DAYLIGHT
TZOFFSETFROM:+0100
TZOFFSETTO:+0200
TZNAME:CEST
DTSTART:20200329T010000
END:DAYLIGHT
BEGIN:STANDARD
TZOFFSETFROM:+0200
TZOFFSETTO:+0100
TZNAME:CET
DTSTART:20201025T010000
END:STANDARD
END:VTIMEZONE
BEGIN:VEVENT
DTSTART;TZID=Europe/Rome:20191013T110000
DTEND;TZID=Europe/Rome:20191013T230000
DTSTAMP:20260419T225330
CREATED:20191006T121956Z
LAST-MODIFIED:20191008T134022Z
UID:279684-1570964400-1571007600@www.eventiintoscana.it
SUMMARY:Dit'Unto. Festival del mangiar con le mani - Villa a Sesta (Castelnuovo B.ga\, Siena)
DESCRIPTION:Domenica 13 ottobre torna a Villa a Sesta il Festival del mangiar con le mani dit’Unto\, una giornata di festa dedicata al cibo di strada: dal cibo di tradizione\, venduto dall’ambulante che tiene viva la consuetudine locale o di famiglia\, alla pietanza preparata per l’occasione\, e spesso sul posto\, da un ristorante Stella Michel.\nE ancora giocolieri\, artisti di strada e street band sfileranno per le vie del borgo. \nLa giornata sarà aperta dall’Associazione Trekking Gruppo Escursionisti Berardenga che propone una camminata nei dintorni del borgo\, con partenza alle ore 09\,00. \nL’ “UntoBus” effettuerà 3 partenze da Siena.
URL:https://www.eventiintoscana.it/evento/ditunto-festival-del-mangiar-le-mani-villa-sesta-castelnuovo-b-ga-siena
LOCATION:Luogo Senza Nome\, Villa a Sesta (Castelnuovo B.ga\, Siena)
CATEGORIES:Rassegne e Sagre,Siena
ATTACH;FMTTYPE=image/jpeg:https://www.eventiintoscana.it/wp-content/uploads/2019/10/ditunto-villa-a-sesta.jpg
END:VEVENT
END:VCALENDAR