BEGIN:VCALENDAR
VERSION:2.0
PRODID:-//Eventi in Toscana By Toscana Tascabile - ECPv6.15.12.2//NONSGML v1.0//EN
CALSCALE:GREGORIAN
METHOD:PUBLISH
X-ORIGINAL-URL:https://www.eventiintoscana.it
X-WR-CALDESC:Eventi per Eventi in Toscana By Toscana Tascabile
REFRESH-INTERVAL;VALUE=DURATION:PT1H
X-Robots-Tag:noindex
X-PUBLISHED-TTL:PT1H
BEGIN:VTIMEZONE
TZID:Europe/Rome
BEGIN:DAYLIGHT
TZOFFSETFROM:+0100
TZOFFSETTO:+0200
TZNAME:CEST
DTSTART:20190331T010000
END:DAYLIGHT
BEGIN:STANDARD
TZOFFSETFROM:+0200
TZOFFSETTO:+0100
TZNAME:CET
DTSTART:20191027T010000
END:STANDARD
BEGIN:DAYLIGHT
TZOFFSETFROM:+0100
TZOFFSETTO:+0200
TZNAME:CEST
DTSTART:20200329T010000
END:DAYLIGHT
BEGIN:STANDARD
TZOFFSETFROM:+0200
TZOFFSETTO:+0100
TZNAME:CET
DTSTART:20201025T010000
END:STANDARD
BEGIN:DAYLIGHT
TZOFFSETFROM:+0100
TZOFFSETTO:+0200
TZNAME:CEST
DTSTART:20210328T010000
END:DAYLIGHT
BEGIN:STANDARD
TZOFFSETFROM:+0200
TZOFFSETTO:+0100
TZNAME:CET
DTSTART:20211031T010000
END:STANDARD
END:VTIMEZONE
BEGIN:VEVENT
DTSTART;TZID=Europe/Rome:20200315T090000
DTEND;TZID=Europe/Rome:20200315T180000
DTSTAMP:20260421T225041
CREATED:20170825T081657Z
LAST-MODIFIED:20200303T082712Z
UID:247595-1584262800-1584295200@www.eventiintoscana.it
SUMMARY:Mercatino del piccolo antiquariato - Dicomano (Firenze)
DESCRIPTION:Ogni terza domenica del mese per le vie del centro storico di Dicomano si tiene il Mercatino del piccolo antiquariato e opere del proprio ingegno. \n*** \nhttp://www.comune.dicomano.fi.it/
URL:https://www.eventiintoscana.it/evento/mercatino-del-piccolo-antiquariato-via-dante-alighieri-e-piazza-buonamici-dicomano-firenze
LOCATION:Via Dante Alighieri e piazza Buonamici\, Dicomano\, Toscana\, 50062\, Italia
CATEGORIES:Fiere e Mercatini,Firenze
ATTACH;FMTTYPE=image/jpeg:https://www.eventiintoscana.it/wp-content/uploads/2018/10/antiquariato_unplash.jpg
END:VEVENT
END:VCALENDAR