BEGIN:VCALENDAR
VERSION:2.0
PRODID:-//Eventi in Toscana By Toscana Tascabile - ECPv6.15.12.2//NONSGML v1.0//EN
CALSCALE:GREGORIAN
METHOD:PUBLISH
X-WR-CALNAME:Eventi in Toscana By Toscana Tascabile
X-ORIGINAL-URL:https://www.eventiintoscana.it
X-WR-CALDESC:Eventi per Eventi in Toscana By Toscana Tascabile
REFRESH-INTERVAL;VALUE=DURATION:PT1H
X-Robots-Tag:noindex
X-PUBLISHED-TTL:PT1H
BEGIN:VTIMEZONE
TZID:Europe/Rome
BEGIN:DAYLIGHT
TZOFFSETFROM:+0100
TZOFFSETTO:+0200
TZNAME:CEST
DTSTART:20160327T010000
END:DAYLIGHT
BEGIN:STANDARD
TZOFFSETFROM:+0200
TZOFFSETTO:+0100
TZNAME:CET
DTSTART:20161030T010000
END:STANDARD
BEGIN:DAYLIGHT
TZOFFSETFROM:+0100
TZOFFSETTO:+0200
TZNAME:CEST
DTSTART:20170326T010000
END:DAYLIGHT
BEGIN:STANDARD
TZOFFSETFROM:+0200
TZOFFSETTO:+0100
TZNAME:CET
DTSTART:20171029T010000
END:STANDARD
BEGIN:DAYLIGHT
TZOFFSETFROM:+0100
TZOFFSETTO:+0200
TZNAME:CEST
DTSTART:20180325T010000
END:DAYLIGHT
BEGIN:STANDARD
TZOFFSETFROM:+0200
TZOFFSETTO:+0100
TZNAME:CET
DTSTART:20181028T010000
END:STANDARD
END:VTIMEZONE
BEGIN:VEVENT
DTSTART;TZID=Europe/Rome:20170223T080000
DTEND;TZID=Europe/Rome:20170226T170000
DTSTAMP:20260423T052131
CREATED:20170220T105253Z
LAST-MODIFIED:20170227T092506Z
UID:234718-1487836800-1488128400@www.eventiintoscana.it
SUMMARY:Danza in Fiera - Fortezza da Basso\, Firenze
DESCRIPTION:Dal 23 al 26 di febbraio Firenze ospita la 12ª edizione di ‘Danzainfiera’\nTema guida della rassegna di quest’anno sarà ‘Dance Inside Out’\, un messaggio d’amore per la danza intesa sia come forma d’arte che come stile di vita. \nMolto ampia la proposta della quattro giorni: gare tra crew di Street Dance\, sfide in pista tra ballerini di standard e caraibici\, concorsi\, rassegne e spettacoli di musical\, burlesque\, flamenco\, tip tap… \nDue le nuove rassegne tematiche: una dedicata allo swing (‘Swingati’) con Open Class\, una gara di improvvisazione e uno spettacolare Showcase; e una (‘Flamencoinfiera‘) con stage e rassegna dedicati al ballo spagnolo. \n2ª edizione poi per il Pop Tap Festival\, con esibizioni e lezioni dei professionisti della Tap Dance tra cui i D’Angelo Bros. \nTra i ‘big‘ presenti a Firenze il direttore artistico di ‘X Factor’ Luca Tommassini\, l’insegnante di ‘Amici’ Alessandra Celentano\, l’étoile de l’Opéra de Paris Dorothée Gilbert. I principianti potranno cimentarsi in tutti i generi di danza grazie alle 200 ore di lezione in programma (iscrizioni solo online). \nAmpio lo spazio fieristico – leggi qui \nInfo: 0574.575618 – www.danzainfiera.it
URL:https://www.eventiintoscana.it/evento/danza-fiera-fortezza-basso-firenze
LOCATION:Fortezza da Basso\, viale strozzi\, 1\, Firenze
CATEGORIES:Firenze,Musica e festival
ATTACH;FMTTYPE=image/jpeg:https://www.eventiintoscana.it/wp-content/uploads/2017/02/danza_ballo_balletto.jpg
END:VEVENT
END:VCALENDAR