BEGIN:VCALENDAR
VERSION:2.0
PRODID:-//Eventi in Toscana By Toscana Tascabile - ECPv6.15.12.2//NONSGML v1.0//EN
CALSCALE:GREGORIAN
METHOD:PUBLISH
X-WR-CALNAME:Eventi in Toscana By Toscana Tascabile
X-ORIGINAL-URL:https://www.eventiintoscana.it
X-WR-CALDESC:Eventi per Eventi in Toscana By Toscana Tascabile
REFRESH-INTERVAL;VALUE=DURATION:PT1H
X-Robots-Tag:noindex
X-PUBLISHED-TTL:PT1H
BEGIN:VTIMEZONE
TZID:Europe/Rome
BEGIN:DAYLIGHT
TZOFFSETFROM:+0100
TZOFFSETTO:+0200
TZNAME:CEST
DTSTART:20180325T010000
END:DAYLIGHT
BEGIN:STANDARD
TZOFFSETFROM:+0200
TZOFFSETTO:+0100
TZNAME:CET
DTSTART:20181028T010000
END:STANDARD
BEGIN:DAYLIGHT
TZOFFSETFROM:+0100
TZOFFSETTO:+0200
TZNAME:CEST
DTSTART:20190331T010000
END:DAYLIGHT
BEGIN:STANDARD
TZOFFSETFROM:+0200
TZOFFSETTO:+0100
TZNAME:CET
DTSTART:20191027T010000
END:STANDARD
BEGIN:DAYLIGHT
TZOFFSETFROM:+0100
TZOFFSETTO:+0200
TZNAME:CEST
DTSTART:20200329T010000
END:DAYLIGHT
BEGIN:STANDARD
TZOFFSETFROM:+0200
TZOFFSETTO:+0100
TZNAME:CET
DTSTART:20201025T010000
END:STANDARD
END:VTIMEZONE
BEGIN:VEVENT
DTSTART;TZID=Europe/Rome:20190906T080000
DTEND;TZID=Europe/Rome:20190908T230000
DTSTAMP:20260422T203349
CREATED:20190821T143921Z
LAST-MODIFIED:20190821T143921Z
UID:278020-1567756800-1567983600@www.eventiintoscana.it
SUMMARY:Cookstock - Pontassieve (Firenze)
DESCRIPTION:Da venerdì 6 a domenica 8 settembre torna a Pontassieve Cookstock. Ove la Sieve al gusto si confonde\, l’evento gastronomico (e non solo) all’insegna dei sapori\, con il vino ad accompagnare i piatti della tradizione.\nIl centro storico riapre le sue porte al gusto per un fine settimana denso di eventi e iniziative enogastronomiche. Quest’anno i luoghi e le piazze di Cookstock avranno un nuovo sapore\, andando a proporre abbinamenti di vino con piatti tradizionali. \n\n\n\n\nConferme importanti per i foodtruck e gli artigiani del gusto in piazza Vittorio Emanuele II; una grande griglia stuzzicherà i palati e l’olfatto in piazza Boetani; piazza XIV Martiri si conferma la terrazza sul Ponte Mediceo dove troveranno spazio laboratori di pasta fatta in casa e tutta la bontà di quei piatti che profumano della “cucina delle nostre nonne”; immancabili le visite alle Cantine Ruffino\, in un percorso che guida dentro una storia che è sinonimo di vino in Toscana\, che vive a Pontassieve dal 1877. \nSotto la direzione artistica di Leonardo Romanelli tornano anche gli eventi con dimostrazioni di cucina condivisa sul Ponte Mediceo\, con le mani sapienti di grandi chef che creano sul ponte simbolo di Pontassieve\, con le degustazioni che invece si faranno “spazio” nella Sala delle Colonne del palazzo Comunale. \nIl programma completo sul sito ufficiale della manifestazione
URL:https://www.eventiintoscana.it/evento/cookstock-pontassieve-firenze
LOCATION:Luogo Senza Nome\, Pontassieve (Firenze)
CATEGORIES:Firenze,Rassegne e Sagre
ATTACH;FMTTYPE=image/jpeg:https://www.eventiintoscana.it/wp-content/uploads/2019/08/Cookstock-Pontassieve.jpg
END:VEVENT
END:VCALENDAR