BEGIN:VCALENDAR
VERSION:2.0
PRODID:-//Eventi in Toscana By Toscana Tascabile - ECPv6.15.12.2//NONSGML v1.0//EN
CALSCALE:GREGORIAN
METHOD:PUBLISH
X-ORIGINAL-URL:https://www.eventiintoscana.it
X-WR-CALDESC:Eventi per Eventi in Toscana By Toscana Tascabile
REFRESH-INTERVAL;VALUE=DURATION:PT1H
X-Robots-Tag:noindex
X-PUBLISHED-TTL:PT1H
BEGIN:VTIMEZONE
TZID:Europe/Rome
BEGIN:DAYLIGHT
TZOFFSETFROM:+0100
TZOFFSETTO:+0200
TZNAME:CEST
DTSTART:20190331T010000
END:DAYLIGHT
BEGIN:STANDARD
TZOFFSETFROM:+0200
TZOFFSETTO:+0100
TZNAME:CET
DTSTART:20191027T010000
END:STANDARD
BEGIN:DAYLIGHT
TZOFFSETFROM:+0100
TZOFFSETTO:+0200
TZNAME:CEST
DTSTART:20200329T010000
END:DAYLIGHT
BEGIN:STANDARD
TZOFFSETFROM:+0200
TZOFFSETTO:+0100
TZNAME:CET
DTSTART:20201025T010000
END:STANDARD
BEGIN:DAYLIGHT
TZOFFSETFROM:+0100
TZOFFSETTO:+0200
TZNAME:CEST
DTSTART:20210328T010000
END:DAYLIGHT
BEGIN:STANDARD
TZOFFSETFROM:+0200
TZOFFSETTO:+0100
TZNAME:CET
DTSTART:20211031T010000
END:STANDARD
BEGIN:DAYLIGHT
TZOFFSETFROM:+0100
TZOFFSETTO:+0200
TZNAME:CEST
DTSTART:20220327T010000
END:DAYLIGHT
BEGIN:STANDARD
TZOFFSETFROM:+0200
TZOFFSETTO:+0100
TZNAME:CET
DTSTART:20221030T010000
END:STANDARD
END:VTIMEZONE
BEGIN:VEVENT
DTSTART;TZID=Europe/Rome:20201031T100000
DTEND;TZID=Europe/Rome:20210123T180000
DTSTAMP:20260419T151226
CREATED:20210105T203452Z
LAST-MODIFIED:20210109T103406Z
UID:288450-1604138400-1611424800@www.eventiintoscana.it
SUMMARY:Contrappunti - Villa Rospigliosi\, Prato
DESCRIPTION:La cornice della settecentesca villa Rospigliosi ospita una serie di incontri e progetti estetici che intendono stimolare una riflessione sull’arte e sullo spazio che da essa può essere abitato.\nCome questo progetto ‘site specific’ realizzato dall’artista siciliano Giovanni Termini (classe 1972) negli spazi esterni della villa e curato da Riccardo Farinelli. Sono quattro i ‘Contrappunti’ concepiti dall’artista. \nInterventi leggeri\, quasi invisibili\, che richiedono una attenta osservazione. Opere che invitano alla sosta\, sottolineano ambiguità\, sospensione\, alimentano attesa. \nI quattro ‘Contrappunti’ sono: un getto d’acqua che segue il percorso di un cerchio\, un’opera mutilata con accanto una protesi mobile\, un lungo drappo cardato composto di cenci e infine bagliori e suoni indistinti che trapelano dai vetri smerigliati della rimessa. \nSi accede all’area espositiva solo con la mascherina\, per garantire il rispetto delle distanze interpersonali sono disposti a terra dei segnali visivi. \nIngresso libero. Orario: tuti i giorni 10-12 e 15-18. \n\nPrato \nGiardini di villa Rospigliosi \nVia Firenze\, 83 \nInfo: 348.7814430 – 332.740656
URL:https://www.eventiintoscana.it/evento/contrappunti-villa-rospigliosi-prato
CATEGORIES:Mostra d'Arte,Prato
ATTACH;FMTTYPE=image/jpeg:https://www.eventiintoscana.it/wp-content/uploads/2021/01/contrappunti.jpg
END:VEVENT
END:VCALENDAR