BEGIN:VCALENDAR
VERSION:2.0
PRODID:-//Eventi in Toscana By Toscana Tascabile - ECPv6.15.12.2//NONSGML v1.0//EN
CALSCALE:GREGORIAN
METHOD:PUBLISH
X-WR-CALNAME:Eventi in Toscana By Toscana Tascabile
X-ORIGINAL-URL:https://www.eventiintoscana.it
X-WR-CALDESC:Eventi per Eventi in Toscana By Toscana Tascabile
REFRESH-INTERVAL;VALUE=DURATION:PT1H
X-Robots-Tag:noindex
X-PUBLISHED-TTL:PT1H
BEGIN:VTIMEZONE
TZID:Europe/Rome
BEGIN:DAYLIGHT
TZOFFSETFROM:+0100
TZOFFSETTO:+0200
TZNAME:CEST
DTSTART:20190331T010000
END:DAYLIGHT
BEGIN:STANDARD
TZOFFSETFROM:+0200
TZOFFSETTO:+0100
TZNAME:CET
DTSTART:20191027T010000
END:STANDARD
BEGIN:DAYLIGHT
TZOFFSETFROM:+0100
TZOFFSETTO:+0200
TZNAME:CEST
DTSTART:20200329T010000
END:DAYLIGHT
BEGIN:STANDARD
TZOFFSETFROM:+0200
TZOFFSETTO:+0100
TZNAME:CET
DTSTART:20201025T010000
END:STANDARD
BEGIN:DAYLIGHT
TZOFFSETFROM:+0100
TZOFFSETTO:+0200
TZNAME:CEST
DTSTART:20210328T010000
END:DAYLIGHT
BEGIN:STANDARD
TZOFFSETFROM:+0200
TZOFFSETTO:+0100
TZNAME:CET
DTSTART:20211031T010000
END:STANDARD
END:VTIMEZONE
BEGIN:VEVENT
DTSTART;TZID=Europe/Rome:20200809T080000
DTEND;TZID=Europe/Rome:20200920T130000
DTSTAMP:20260422T055810
CREATED:20200802T101653Z
LAST-MODIFIED:20200802T101653Z
UID:287013-1596960000-1600606800@www.eventiintoscana.it
SUMMARY:Colazione al Museo - Museo Archeologico\, Murlo (Siena)
DESCRIPTION:Dal 9 al 23 agosto e poi dal 6 al 20 settembre\, presso il Museo Archeologico di Murlo\, si tiene l’iniziativa ‘Colazione al Museo’.\nIn occasione di questi appuntamenti sarà possibile partecipare ad un concerto\, fare una buona colazione e vedere in anteprima alcuni reperti mai esposti. \nPrezzo completo € 15; colazione + visita al Museo € 12; concerto + visita al Museo € 10. \nPosti limitati\, prenotazione obbligatoria al 0577/814099\, poggiocivitate@museisenesi.org
URL:https://www.eventiintoscana.it/evento/colazione-al-museo-museo-archeologico-murlo-siena
CATEGORIES:Mostra d'Arte,Siena
ATTACH;FMTTYPE=image/jpeg:https://www.eventiintoscana.it/wp-content/uploads/2020/08/colazione-al-museo-murlo.jpg
END:VEVENT
END:VCALENDAR