BEGIN:VCALENDAR
VERSION:2.0
PRODID:-//Eventi in Toscana By Toscana Tascabile - ECPv6.15.12.2//NONSGML v1.0//EN
CALSCALE:GREGORIAN
METHOD:PUBLISH
X-WR-CALNAME:Eventi in Toscana By Toscana Tascabile
X-ORIGINAL-URL:https://www.eventiintoscana.it
X-WR-CALDESC:Eventi per Eventi in Toscana By Toscana Tascabile
REFRESH-INTERVAL;VALUE=DURATION:PT1H
X-Robots-Tag:noindex
X-PUBLISHED-TTL:PT1H
BEGIN:VTIMEZONE
TZID:Europe/Rome
BEGIN:DAYLIGHT
TZOFFSETFROM:+0100
TZOFFSETTO:+0200
TZNAME:CEST
DTSTART:20190331T010000
END:DAYLIGHT
BEGIN:STANDARD
TZOFFSETFROM:+0200
TZOFFSETTO:+0100
TZNAME:CET
DTSTART:20191027T010000
END:STANDARD
BEGIN:DAYLIGHT
TZOFFSETFROM:+0100
TZOFFSETTO:+0200
TZNAME:CEST
DTSTART:20200329T010000
END:DAYLIGHT
BEGIN:STANDARD
TZOFFSETFROM:+0200
TZOFFSETTO:+0100
TZNAME:CET
DTSTART:20201025T010000
END:STANDARD
BEGIN:DAYLIGHT
TZOFFSETFROM:+0100
TZOFFSETTO:+0200
TZNAME:CEST
DTSTART:20210328T010000
END:DAYLIGHT
BEGIN:STANDARD
TZOFFSETFROM:+0200
TZOFFSETTO:+0100
TZNAME:CET
DTSTART:20211031T010000
END:STANDARD
END:VTIMEZONE
BEGIN:VEVENT
DTSTART;TZID=Europe/Rome:20200329T090000
DTEND;TZID=Europe/Rome:20200329T175900
DTSTAMP:20260425T235212
CREATED:20181002T145406Z
LAST-MODIFIED:20200323T111659Z
UID:271468-1585472400-1585504740@www.eventiintoscana.it
SUMMARY:---sospeso--- Ciompi mensile antiquariato - Firenze
DESCRIPTION:Il mercatino Ciompi Mensile Antiquariato di Firenze si svolge ogni ultima domenica del mese\, in mostra ci sono oggetti di antiquariato\, libri\, quadri\, oggetti da collezione e tanto altro ancora.\nIl mercato giornaliero è trasferito in Piazza Annigoni\, il mercato mensile è trasferito in Piazza Ghiberti. \nOrario: 9-18.
URL:https://www.eventiintoscana.it/evento/ciompi-mensile-antiquariato-firenze
LOCATION:Piazza Lorenzo Ghiberti\, Firenze\, Toscana\, 50122\, Italia
CATEGORIES:Fiere e Mercatini,Firenze
ATTACH;FMTTYPE=image/jpeg:https://www.eventiintoscana.it/wp-content/uploads/2018/10/antiquariato_unplash.jpg
END:VEVENT
END:VCALENDAR