BEGIN:VCALENDAR
VERSION:2.0
PRODID:-//Eventi in Toscana By Toscana Tascabile - ECPv6.15.12.2//NONSGML v1.0//EN
CALSCALE:GREGORIAN
METHOD:PUBLISH
X-WR-CALNAME:Eventi in Toscana By Toscana Tascabile
X-ORIGINAL-URL:https://www.eventiintoscana.it
X-WR-CALDESC:Eventi per Eventi in Toscana By Toscana Tascabile
REFRESH-INTERVAL;VALUE=DURATION:PT1H
X-Robots-Tag:noindex
X-PUBLISHED-TTL:PT1H
BEGIN:VTIMEZONE
TZID:Europe/Rome
BEGIN:DAYLIGHT
TZOFFSETFROM:+0100
TZOFFSETTO:+0200
TZNAME:CEST
DTSTART:20200329T010000
END:DAYLIGHT
BEGIN:STANDARD
TZOFFSETFROM:+0200
TZOFFSETTO:+0100
TZNAME:CET
DTSTART:20201025T010000
END:STANDARD
BEGIN:DAYLIGHT
TZOFFSETFROM:+0100
TZOFFSETTO:+0200
TZNAME:CEST
DTSTART:20210328T010000
END:DAYLIGHT
BEGIN:STANDARD
TZOFFSETFROM:+0200
TZOFFSETTO:+0100
TZNAME:CET
DTSTART:20211031T010000
END:STANDARD
BEGIN:DAYLIGHT
TZOFFSETFROM:+0100
TZOFFSETTO:+0200
TZNAME:CEST
DTSTART:20220327T010000
END:DAYLIGHT
BEGIN:STANDARD
TZOFFSETFROM:+0200
TZOFFSETTO:+0100
TZNAME:CET
DTSTART:20221030T010000
END:STANDARD
END:VTIMEZONE
BEGIN:VEVENT
DTSTART;TZID=Europe/Rome:20210324T083000
DTEND;TZID=Europe/Rome:20210519T193000
DTSTAMP:20260422T080055
CREATED:20210421T203037Z
LAST-MODIFIED:20210421T203037Z
UID:289237-1616574600-1621452600@www.eventiintoscana.it
SUMMARY:Cieli Neri di Alice Visentin - Manifattura Tabacchi\, Firenze
DESCRIPTION:Continua la programmazione di TOAST Project Space\, lo spazio indipendente nato nell’ex casotto della portineria di Manifattura Tabacchi\, che questa volta dal 24 marzo al 19 maggio accoglie l’installazione ‘Cieli Neri’\, accessibile e visitabile dal pubblico dal Cortile della Ciminiera.\nRealizzata da Alice Visentin nel corso di una residenza presso Toast\, l’installazione comprende disegni su larga scala\, dipinti ad acquerello e pastelli a cera. \nL’artista torinese (classe 1993) crea composizioni intricate che si sviluppano lungo due rotoli di carta da 1.3 x 12 metri ciascuno\, restituendo una struttura intercambiabile e modulare. \nIn questo “piccolo mondo intero” l’acqua e i pigmenti colorati si fondono all’interno di forme in cui compaiono personaggi stilizzati\, ori e piante ma anche piccole frasi o parole\, quasi a voler attribuire alla carta il potere di darci dei consigli. \nNelle forme dei volti\, nei colori e nelle scritte esistono infinite storie e influenze: l’orto botanico di Firenze chiuso\, ma raccontato da un passante; l’uso del colore mescolato con acqua che imita lo scorrere del fiume Arno; le architetture decorate che ipotizzano il contenuto di palazzi impenetrabili. \nIngresso libero. Orario: lun-dom 8.30-18.30. \nFirenze \nManifattura Tabacchi \nVia delle Cascine 33 \nInfo: www.toastprojectspace.com – www.manifatturatabacchi.com
URL:https://www.eventiintoscana.it/evento/cieli-neri-di-alice-visentin-manifattura-tabacchi-firenze
CATEGORIES:Firenze,Mostra d'Arte
ATTACH;FMTTYPE=image/jpeg:https://www.eventiintoscana.it/wp-content/uploads/2021/04/Cieli-Neri-di-Alice-Visentin.jpg
END:VEVENT
END:VCALENDAR