BEGIN:VCALENDAR
VERSION:2.0
PRODID:-//Eventi in Toscana By Toscana Tascabile - ECPv6.15.12.2//NONSGML v1.0//EN
CALSCALE:GREGORIAN
METHOD:PUBLISH
X-ORIGINAL-URL:https://www.eventiintoscana.it
X-WR-CALDESC:Eventi per Eventi in Toscana By Toscana Tascabile
REFRESH-INTERVAL;VALUE=DURATION:PT1H
X-Robots-Tag:noindex
X-PUBLISHED-TTL:PT1H
BEGIN:VTIMEZONE
TZID:Europe/Rome
BEGIN:DAYLIGHT
TZOFFSETFROM:+0100
TZOFFSETTO:+0200
TZNAME:CEST
DTSTART:20180325T010000
END:DAYLIGHT
BEGIN:STANDARD
TZOFFSETFROM:+0200
TZOFFSETTO:+0100
TZNAME:CET
DTSTART:20181028T010000
END:STANDARD
BEGIN:DAYLIGHT
TZOFFSETFROM:+0100
TZOFFSETTO:+0200
TZNAME:CEST
DTSTART:20190331T010000
END:DAYLIGHT
BEGIN:STANDARD
TZOFFSETFROM:+0200
TZOFFSETTO:+0100
TZNAME:CET
DTSTART:20191027T010000
END:STANDARD
BEGIN:DAYLIGHT
TZOFFSETFROM:+0100
TZOFFSETTO:+0200
TZNAME:CEST
DTSTART:20200329T010000
END:DAYLIGHT
BEGIN:STANDARD
TZOFFSETFROM:+0200
TZOFFSETTO:+0100
TZNAME:CET
DTSTART:20201025T010000
END:STANDARD
END:VTIMEZONE
BEGIN:VEVENT
DTSTART;TZID=Europe/Rome:20191116T100000
DTEND;TZID=Europe/Rome:20191226T183000
DTSTAMP:20260421T202833
CREATED:20191025T091749Z
LAST-MODIFIED:20191025T091749Z
UID:280089-1573898400-1577385000@www.eventiintoscana.it
SUMMARY:Christmas Brick - Parco Il Parco\, Arezzo
DESCRIPTION:C’è un grande villaggio Lego ad Arezzo in occasione dei Mercatini di Natale.\nDal 16 novembre al 26 dicembre torna Arezzo Christmas Brick\, oltre 600 mq di esposizioni\, laboratori\, animazioni e costruzioni Lego per grandi piccini presso il Parco Il Prato. Un villaggio magico con shop\, sculture e laboratori a tema Lego. Scopri Arezzo\, visita Christmas Brick! \nDal 16 novembre\, orario 10-13 e 14-18.30.\n16-17-23-24-30 novembre 2019\n1-7-8-14-15-21-22-23-24-25-26 dicembre 2019 \nEsposizione e collezioni private\nLaboratori di costruzioni\nCostruisci la Tua Lego natalizia\nIl gioco dell’oca\nPista macchine radiocomandate\nMosaico\nPick and Build\nShop official\nSelfie con Babbo Natale\nLaboratorio mattoncini\nIn collaborazione con Il Club del mattoncino \n*** \nInfo:\nteameventi@confcommercio.ar.it (3316466780) \n 
URL:https://www.eventiintoscana.it/evento/christmas-brick-parco-il-parco-arezzo
CATEGORIES:arezzo,Feste e Folklore
ATTACH;FMTTYPE=image/jpeg:https://www.eventiintoscana.it/wp-content/uploads/2019/10/Christmas-Brick-Arezzo.jpg
END:VEVENT
END:VCALENDAR