BEGIN:VCALENDAR
VERSION:2.0
PRODID:-//Eventi in Toscana By Toscana Tascabile - ECPv6.15.12.2//NONSGML v1.0//EN
CALSCALE:GREGORIAN
METHOD:PUBLISH
X-WR-CALNAME:Eventi in Toscana By Toscana Tascabile
X-ORIGINAL-URL:https://www.eventiintoscana.it
X-WR-CALDESC:Eventi per Eventi in Toscana By Toscana Tascabile
REFRESH-INTERVAL;VALUE=DURATION:PT1H
X-Robots-Tag:noindex
X-PUBLISHED-TTL:PT1H
BEGIN:VTIMEZONE
TZID:Europe/Rome
BEGIN:DAYLIGHT
TZOFFSETFROM:+0100
TZOFFSETTO:+0200
TZNAME:CEST
DTSTART:20190331T010000
END:DAYLIGHT
BEGIN:STANDARD
TZOFFSETFROM:+0200
TZOFFSETTO:+0100
TZNAME:CET
DTSTART:20191027T010000
END:STANDARD
BEGIN:DAYLIGHT
TZOFFSETFROM:+0100
TZOFFSETTO:+0200
TZNAME:CEST
DTSTART:20200329T010000
END:DAYLIGHT
BEGIN:STANDARD
TZOFFSETFROM:+0200
TZOFFSETTO:+0100
TZNAME:CET
DTSTART:20201025T010000
END:STANDARD
BEGIN:DAYLIGHT
TZOFFSETFROM:+0100
TZOFFSETTO:+0200
TZNAME:CEST
DTSTART:20210328T010000
END:DAYLIGHT
BEGIN:STANDARD
TZOFFSETFROM:+0200
TZOFFSETTO:+0100
TZNAME:CET
DTSTART:20211031T010000
END:STANDARD
END:VTIMEZONE
BEGIN:VEVENT
DTSTART;TZID=Europe/Rome:20200105T090000
DTEND;TZID=Europe/Rome:20200106T200000
DTSTAMP:20260420T031820
CREATED:20200102T103612Z
LAST-MODIFIED:20200102T103612Z
UID:283829-1578214800-1578340800@www.eventiintoscana.it
SUMMARY:Cerreto Ciok - Cerreto Guidi (Firenze)
DESCRIPTION:Domenica 5 e lunedì 6 gennaio si tiene in Piazza Umberto I a Cerreto Guidi Cerreto Ciok\, i due giorni all’insegna del cioccolato e dei dolci in tutte le loro sfumature.\nLe vie del centro sono addobbate a festa\, ogni angolo ospita uno dei tanti presepi che rendono Cerreto Guidi una meta unica nel periodo natalizio: dal presepe all’uncinetto a quello in legno\, dal presepe fatto con gli antichi ingranaggi meccanici a quello formato da conchiglie. \nIn piazza poi tanti banchi con pasticceri e cioccolatai: cioccolata\, biscotti\, dolci\, miele\, liquori\, pasticcini\, caffè e chi più ne ha più ne metta. \nGiocolieri\, cantastorie e l’immancabile befana faranno divertire i più piccoli. \nInoltre delle degustazioni a tema renderanno l’atmosfera magica anche per gli adulti.
URL:https://www.eventiintoscana.it/evento/cerreto-ciok-cerreto-guidi-firenze
CATEGORIES:Firenze,Rassegne e Sagre
ATTACH;FMTTYPE=image/jpeg:https://www.eventiintoscana.it/wp-content/uploads/2020/01/Cerreto-Ciok-Cerreto-Guidi.jpg
END:VEVENT
END:VCALENDAR