BEGIN:VCALENDAR
VERSION:2.0
PRODID:-//Eventi in Toscana By Toscana Tascabile - ECPv6.15.12.2//NONSGML v1.0//EN
CALSCALE:GREGORIAN
METHOD:PUBLISH
X-WR-CALNAME:Eventi in Toscana By Toscana Tascabile
X-ORIGINAL-URL:https://www.eventiintoscana.it
X-WR-CALDESC:Eventi per Eventi in Toscana By Toscana Tascabile
REFRESH-INTERVAL;VALUE=DURATION:PT1H
X-Robots-Tag:noindex
X-PUBLISHED-TTL:PT1H
BEGIN:VTIMEZONE
TZID:Europe/Rome
BEGIN:DAYLIGHT
TZOFFSETFROM:+0100
TZOFFSETTO:+0200
TZNAME:CEST
DTSTART:20190331T010000
END:DAYLIGHT
BEGIN:STANDARD
TZOFFSETFROM:+0200
TZOFFSETTO:+0100
TZNAME:CET
DTSTART:20191027T010000
END:STANDARD
BEGIN:DAYLIGHT
TZOFFSETFROM:+0100
TZOFFSETTO:+0200
TZNAME:CEST
DTSTART:20200329T010000
END:DAYLIGHT
BEGIN:STANDARD
TZOFFSETFROM:+0200
TZOFFSETTO:+0100
TZNAME:CET
DTSTART:20201025T010000
END:STANDARD
BEGIN:DAYLIGHT
TZOFFSETFROM:+0100
TZOFFSETTO:+0200
TZNAME:CEST
DTSTART:20210328T010000
END:DAYLIGHT
BEGIN:STANDARD
TZOFFSETFROM:+0200
TZOFFSETTO:+0100
TZNAME:CET
DTSTART:20211031T010000
END:STANDARD
END:VTIMEZONE
BEGIN:VEVENT
DTSTART;TZID=Europe/Rome:20200913T153000
DTEND;TZID=Europe/Rome:20200913T180000
DTSTAMP:20260423T045309
CREATED:20200910T121425Z
LAST-MODIFIED:20200910T121704Z
UID:287398-1600011000-1600020000@www.eventiintoscana.it
SUMMARY:Passeggiata con visita ad Asciano\, Centro delle Crete Senesi - Asciano (Siena)
DESCRIPTION:Domenica 13 settembre\, nell’ambito della manifestazione (R)Estate in Toscana\, si tiene una passeggiata alla scoperto di Asciano\, Centro delle Crete Senesi.\nA spasso tra cappelle di via\, chiese e vicoli per conoscere le storie di pittori\, pellegrini e promotori d’arte. Oggetto della visita cappelle\, chiese e luoghi di pellegrinaggio  in cui si sono espresse delle interessanti personalità artistiche . \nSarà possibile vedere la cappella di San Sebastiano che accoglie dei dipinti votivi\, Sant’Agostino in cui sono stati recentemente scoperti affreschi trecenteschi\, la Basilica di Sant’Agata che ospita alcuni interessanti affreschi del ‘500 per concludere a San Francesco\, ricchissima di testimonianze artistiche tra Medioevo e Rinascimento. \nAppuntamento alle 15.30 al posteggio sotto Porta Senese.  \nCosto 10€
URL:https://www.eventiintoscana.it/evento/passeggiata-con-visita-ad-asciano-centro-delle-crete-senesi-asciano-siena
CATEGORIES:Mostra d'Arte,Natura e Sport,Siena
ATTACH;FMTTYPE=image/jpeg:https://www.eventiintoscana.it/wp-content/uploads/2020/09/ASCIANO-CENTRO-DELLE-CRETE-SENESI_13-09-20.jpg
END:VEVENT
END:VCALENDAR