BEGIN:VCALENDAR
VERSION:2.0
PRODID:-//Eventi in Toscana By Toscana Tascabile - ECPv6.15.12.2//NONSGML v1.0//EN
CALSCALE:GREGORIAN
METHOD:PUBLISH
X-ORIGINAL-URL:https://www.eventiintoscana.it
X-WR-CALDESC:Eventi per Eventi in Toscana By Toscana Tascabile
REFRESH-INTERVAL;VALUE=DURATION:PT1H
X-Robots-Tag:noindex
X-PUBLISHED-TTL:PT1H
BEGIN:VTIMEZONE
TZID:Europe/Rome
BEGIN:DAYLIGHT
TZOFFSETFROM:+0100
TZOFFSETTO:+0200
TZNAME:CEST
DTSTART:20190331T010000
END:DAYLIGHT
BEGIN:STANDARD
TZOFFSETFROM:+0200
TZOFFSETTO:+0100
TZNAME:CET
DTSTART:20191027T010000
END:STANDARD
BEGIN:DAYLIGHT
TZOFFSETFROM:+0100
TZOFFSETTO:+0200
TZNAME:CEST
DTSTART:20200329T010000
END:DAYLIGHT
BEGIN:STANDARD
TZOFFSETFROM:+0200
TZOFFSETTO:+0100
TZNAME:CET
DTSTART:20201025T010000
END:STANDARD
BEGIN:DAYLIGHT
TZOFFSETFROM:+0100
TZOFFSETTO:+0200
TZNAME:CEST
DTSTART:20210328T010000
END:DAYLIGHT
BEGIN:STANDARD
TZOFFSETFROM:+0200
TZOFFSETTO:+0100
TZNAME:CET
DTSTART:20211031T010000
END:STANDARD
END:VTIMEZONE
BEGIN:VEVENT
DTSTART;TZID=Europe/Rome:20201009T090000
DTEND;TZID=Europe/Rome:20201011T200000
DTSTAMP:20260423T075833
CREATED:20201007T082821Z
LAST-MODIFIED:20201007T082914Z
UID:287838-1602234000-1602446400@www.eventiintoscana.it
SUMMARY:Mostra mercato dischi\, cd e fumetti - Centro*Empoli\, Empoli (Firenze)
DESCRIPTION:Da venerdì 9 a domenica 11 ottobre si tiene al Centro Empoli di Empoli la mostra mercato e scambio di dishi\, cd\, fumetti ma anche giochi\, giocattoli e vintage.\nChi abbia in soffitta o cantina fumetti o dischi\, ma anche vecchi balocchi\, può portarli a vendere\, scambiare o semplicemente a farli valutare da esperti del settore. \nOre: 9-20 \n\nInfo: info@fumettiedintorni.it – 3484410579
URL:https://www.eventiintoscana.it/evento/mostra-mercato-dischi-cd-e-fumetti-centroempoli-empoli-firenze
CATEGORIES:Fiere e Mercatini,Firenze
ATTACH;FMTTYPE=image/jpeg:https://www.eventiintoscana.it/wp-content/uploads/2020/10/Mostra-mercato-dischi-cd-e-fumetti-CentroEmpoli-Empoli-Firenze.jpg
END:VEVENT
END:VCALENDAR