BEGIN:VCALENDAR
VERSION:2.0
PRODID:-//Eventi in Toscana By Toscana Tascabile - ECPv6.15.12.2//NONSGML v1.0//EN
CALSCALE:GREGORIAN
METHOD:PUBLISH
X-ORIGINAL-URL:https://www.eventiintoscana.it
X-WR-CALDESC:Eventi per Eventi in Toscana By Toscana Tascabile
REFRESH-INTERVAL;VALUE=DURATION:PT1H
X-Robots-Tag:noindex
X-PUBLISHED-TTL:PT1H
BEGIN:VTIMEZONE
TZID:Europe/Rome
BEGIN:DAYLIGHT
TZOFFSETFROM:+0100
TZOFFSETTO:+0200
TZNAME:CEST
DTSTART:20190331T010000
END:DAYLIGHT
BEGIN:STANDARD
TZOFFSETFROM:+0200
TZOFFSETTO:+0100
TZNAME:CET
DTSTART:20191027T010000
END:STANDARD
BEGIN:DAYLIGHT
TZOFFSETFROM:+0100
TZOFFSETTO:+0200
TZNAME:CEST
DTSTART:20200329T010000
END:DAYLIGHT
BEGIN:STANDARD
TZOFFSETFROM:+0200
TZOFFSETTO:+0100
TZNAME:CET
DTSTART:20201025T010000
END:STANDARD
BEGIN:DAYLIGHT
TZOFFSETFROM:+0100
TZOFFSETTO:+0200
TZNAME:CEST
DTSTART:20210328T010000
END:DAYLIGHT
BEGIN:STANDARD
TZOFFSETFROM:+0200
TZOFFSETTO:+0100
TZNAME:CET
DTSTART:20211031T010000
END:STANDARD
END:VTIMEZONE
BEGIN:VEVENT
DTSTART;TZID=Europe/Rome:20200125T100000
DTEND;TZID=Europe/Rome:20200126T190000
DTSTAMP:20260421T140158
CREATED:20200121T162410Z
LAST-MODIFIED:20200121T162410Z
UID:284026-1579946400-1580065200@www.eventiintoscana.it
SUMMARY:Mostra mercato disco\, cd e dvd - Centro Affari e Convegni\, Arezzo
DESCRIPTION:Sabato 25 e Domenica 26 gennaio si tiene ad Arezzo\, al Centro Affari di Via Spallanzani\, la Mostra mercato del disco\, cd e dvd.\nGiunta alla 22° edizione\, la mostra mercato è una affermata manifestazione per quel che riguarda il collezionismo musicale e fumettistico\,  con oltre 150 espositori da tutta Italia. \nAllestita nel grande padiglione del Centro Affari di Arezzo\, in Via Spallanzani\, la mostra mercato è divenuta un appuntamento immancabile per gli appassionati e i moltissimi visitatori \norario: entrambi i giorni dalle ore 10.00 alle ore 19.00
URL:https://www.eventiintoscana.it/evento/mostra-mercato-disco-cd-e-dvd-centro-affari-e-convegni-arezzo
CATEGORIES:arezzo,Fiere e Mercatini
ATTACH;FMTTYPE=image/jpeg:https://www.eventiintoscana.it/wp-content/uploads/2020/01/mostra-mercato-disco-cd-e-dvd-arezzo.jpg
END:VEVENT
END:VCALENDAR