BEGIN:VCALENDAR
VERSION:2.0
PRODID:-//Eventi in Toscana By Toscana Tascabile - ECPv6.15.12.2//NONSGML v1.0//EN
CALSCALE:GREGORIAN
METHOD:PUBLISH
X-WR-CALNAME:Eventi in Toscana By Toscana Tascabile
X-ORIGINAL-URL:https://www.eventiintoscana.it
X-WR-CALDESC:Eventi per Eventi in Toscana By Toscana Tascabile
REFRESH-INTERVAL;VALUE=DURATION:PT1H
X-Robots-Tag:noindex
X-PUBLISHED-TTL:PT1H
BEGIN:VTIMEZONE
TZID:Europe/Rome
BEGIN:DAYLIGHT
TZOFFSETFROM:+0100
TZOFFSETTO:+0200
TZNAME:CEST
DTSTART:20180325T010000
END:DAYLIGHT
BEGIN:STANDARD
TZOFFSETFROM:+0200
TZOFFSETTO:+0100
TZNAME:CET
DTSTART:20181028T010000
END:STANDARD
BEGIN:DAYLIGHT
TZOFFSETFROM:+0100
TZOFFSETTO:+0200
TZNAME:CEST
DTSTART:20190331T010000
END:DAYLIGHT
BEGIN:STANDARD
TZOFFSETFROM:+0200
TZOFFSETTO:+0100
TZNAME:CET
DTSTART:20191027T010000
END:STANDARD
BEGIN:DAYLIGHT
TZOFFSETFROM:+0100
TZOFFSETTO:+0200
TZNAME:CEST
DTSTART:20200329T010000
END:DAYLIGHT
BEGIN:STANDARD
TZOFFSETFROM:+0200
TZOFFSETTO:+0100
TZNAME:CET
DTSTART:20201025T010000
END:STANDARD
END:VTIMEZONE
BEGIN:VEVENT
DTSTART;TZID=Europe/Rome:20190824T180000
DTEND;TZID=Europe/Rome:20190907T235500
DTSTAMP:20260420T073123
CREATED:20190805T134115Z
LAST-MODIFIED:20190825T172904Z
UID:277963-1566669600-1567900500@www.eventiintoscana.it
SUMMARY:Carrara Bier Fest - CarraraFiere\, Marina di Carrara (Massa-Carrara)
DESCRIPTION:Da sabato 24 agosto a sabato 7 settembre appuntamento negli spazi di CarraraFiere\, a Marina di Carrara\, per il Carrara Bier Fest.\nAd ingresso gratuito\, la Festa della birra bavarese aspetta i partecipanti tutti i giorni dalle 18 alle 24 con un’ampia proposta di birre\, cibo e spettacoli bavaresi. \nIl menù propone: stinco di maiale\, manzo con insalata di patate\, wurstel con crauti\, salsiccia alla contadina con crauti\, speck con pane nero\, insalata di wurstel\, formaggio Emmentaler\, Obazter/Crema di formaggio\, insalata di patate\, crauti rossi\, patate fritte\, strudel\, ciambella bavarese\, ciambella di mele\, brezel. \nNata nel 1976 quale scambio cultural-gastronomico in nome dell’amicizia fra Carrara e Ingolstadt\, la storica Festa della Birra diventa – con la gestione diretta di IMM/CarraraFiere – Carrara Bier Fest. \nAppuntamento dunque dal 24 Agosto all’ 7 Settembre 2019 davanti a un boccale di birra\, rigorosamente proveniente da Ingolstadt\, e come da tradizione ingresso gratuito e… “I boccali in alto!!!”.
URL:https://www.eventiintoscana.it/evento/carrara-bier-fest-carrarafiere-marina-carrara-massa-carrara
LOCATION:CarraraFiere\, Marina di Carrara (Massa-Carrara)
CATEGORIES:Massa e Carrara,Rassegne e Sagre
ATTACH;FMTTYPE=image/jpeg:https://www.eventiintoscana.it/wp-content/uploads/2019/08/carrara-bier-fest2-1.jpg
ORGANIZER;CN="Carrara Fiere":MAILTO:info@carrarafiere.it
END:VEVENT
END:VCALENDAR