BEGIN:VCALENDAR
VERSION:2.0
PRODID:-//Eventi in Toscana By Toscana Tascabile - ECPv6.15.12.2//NONSGML v1.0//EN
CALSCALE:GREGORIAN
METHOD:PUBLISH
X-ORIGINAL-URL:https://www.eventiintoscana.it
X-WR-CALDESC:Eventi per Eventi in Toscana By Toscana Tascabile
REFRESH-INTERVAL;VALUE=DURATION:PT1H
X-Robots-Tag:noindex
X-PUBLISHED-TTL:PT1H
BEGIN:VTIMEZONE
TZID:Europe/Rome
BEGIN:DAYLIGHT
TZOFFSETFROM:+0100
TZOFFSETTO:+0200
TZNAME:CEST
DTSTART:20160327T010000
END:DAYLIGHT
BEGIN:STANDARD
TZOFFSETFROM:+0200
TZOFFSETTO:+0100
TZNAME:CET
DTSTART:20161030T010000
END:STANDARD
BEGIN:DAYLIGHT
TZOFFSETFROM:+0100
TZOFFSETTO:+0200
TZNAME:CEST
DTSTART:20170326T010000
END:DAYLIGHT
BEGIN:STANDARD
TZOFFSETFROM:+0200
TZOFFSETTO:+0100
TZNAME:CET
DTSTART:20171029T010000
END:STANDARD
BEGIN:DAYLIGHT
TZOFFSETFROM:+0100
TZOFFSETTO:+0200
TZNAME:CEST
DTSTART:20180325T010000
END:DAYLIGHT
BEGIN:STANDARD
TZOFFSETFROM:+0200
TZOFFSETTO:+0100
TZNAME:CET
DTSTART:20181028T010000
END:STANDARD
BEGIN:DAYLIGHT
TZOFFSETFROM:+0100
TZOFFSETTO:+0200
TZNAME:CEST
DTSTART:20190331T010000
END:DAYLIGHT
BEGIN:STANDARD
TZOFFSETFROM:+0200
TZOFFSETTO:+0100
TZNAME:CET
DTSTART:20191027T010000
END:STANDARD
BEGIN:DAYLIGHT
TZOFFSETFROM:+0100
TZOFFSETTO:+0200
TZNAME:CEST
DTSTART:20200329T010000
END:DAYLIGHT
BEGIN:STANDARD
TZOFFSETFROM:+0200
TZOFFSETTO:+0100
TZNAME:CET
DTSTART:20201025T010000
END:STANDARD
END:VTIMEZONE
BEGIN:VEVENT
DTSTART;VALUE=DATE:20190210
DTEND;VALUE=DATE:20190218
DTSTAMP:20260422T005655
CREATED:20170124T203924Z
LAST-MODIFIED:20190127T190611Z
UID:233415-1549756800-1550447999@www.eventiintoscana.it
SUMMARY:Carnevale di Cecina - Cecina (Livorno)
DESCRIPTION:Tre giorni di Carnevale a Cecina: 10\, 12 e 17 febbraio\nTorna per due domeniche di febbraio lo storico carnevale Targa Cecina\, che a partire dalle 14.30 vedrà sfilare i suoi grandi carri nel centro del comune. Inoltre sarà possibile trovare trucca bimbi\, baby dance\, palloncini\, stelle filanti e coriandoli\, animazione per grandi e piccini\, gioco della pentolaccia. L’ingresso al Carnevale è gratuito.
URL:https://www.eventiintoscana.it/evento/carnevale-di-cecina-cecina-cecina-livorno
LOCATION:Cecina\, Cecina\, Livorno\, Italia
CATEGORIES:Livorno
ATTACH;FMTTYPE=image/jpeg:https://www.eventiintoscana.it/wp-content/uploads/2017/01/19794__carnevale3.jpg
END:VEVENT
BEGIN:VEVENT
DTSTART;TZID=Europe/Rome:20170219T080000
DTEND;TZID=Europe/Rome:20170226T170000
DTSTAMP:20260422T005655
CREATED:20170131T164551Z
LAST-MODIFIED:20170131T164551Z
UID:233765-1487491200-1488128400@www.eventiintoscana.it
SUMMARY:Carnevale di Stia - Stia (AR)
DESCRIPTION:Arriva a Stia l’atteso appuntamento con il Carnevale nelle due domeniche del 19 e 26 febbraio 2017\nOrganizzata dalla Società del Carnevale di Stia\,  la festa torna nelle due date di domenica 19 febbraio e di domenica 26 febbraio\, dalle ore 15 alle ore 19: la sfilata partirà da via Montalbano (la pace) fino ad arrivare in Piazza Tanucci\, tradizionale e bellissima location dell’evento. \nQuest’anno la grande novità sarà il ritorno della ‘Maschera D’oro’\, la storica sfilata in costume che si articola in due sessioni\, domenica 19 febbraio e domenica 26 febbraio. Il Contest Cosplay avrà luogo domenica 26 febbraio ed i costumi indossati dai partecipanti alla gara dovranno essere attinenti al mondo dell’animazione\, del fumetto\, del cinema\, dei telefilm\, della musica\, dei videogiochi e dei libri. \nDurante il percorso e all’interno della piazza stessa i partecipanti potranno esibirsi nelle forme ritenute opportune in modo tale che la giuria possa esprimere il proprio voto compiutamente. \nI vincitori dei due concorsi saranno decretati Domenica 26 alla ore 18 da una giuria composta da esperti e appassionati competenti nelle varie tipologie di costumi\, che assegnerà i seguenti premi: maschera d’oro\, maschera d’argento e maschera di bronzo ai primi tre classificati di ogni categoria (gruppo\, maschera singola). \nTra i due vincitori della maschera d’oro verrà eletto un primo assoluto al quale verranno assegnati\, come premio speciale\, 400 euro. \nPer partecipare alla gara è necessaria l’iscrizione on-line tramite e-mail\, carnevale.stia@gmail.com\, o tramite fax\, 0575/581171\, inviando il modulo di iscrizione scaricabile al seguente link http://www.logicacacomunicazione.it/carnevalecosplaystia2017/iscrizioneconcorso.zip.
URL:https://www.eventiintoscana.it/evento/carnevale-stia-stia-ar
LOCATION:Stia\, Arezzo
CATEGORIES:Firenze,Rassegne e Sagre
ATTACH;FMTTYPE=image/jpeg:https://www.eventiintoscana.it/wp-content/uploads/2017/01/carnevale-stia.jpg
ORGANIZER;CN="Societ%C3%A0 del Carnevale di Stia":MAILTO:carnevale.stia@gmail.com,
END:VEVENT
BEGIN:VEVENT
DTSTART;TZID=Europe/Rome:20170219T000000
DTEND;TZID=Europe/Rome:20170226T000000
DTSTAMP:20260422T005655
CREATED:20170124T203926Z
LAST-MODIFIED:20170127T160516Z
UID:233416-1487462400-1488067200@www.eventiintoscana.it
SUMMARY:Festa di Carnevale - Sesto Fiorentino (Firenze)
DESCRIPTION:Appuntamento a Sesto Fiorentino (FI) il 19 e il 26 febbraio 2017\nDue domeniche per festeggiare il Carnevale\, a Sesto F.no: in entrambe le giornate si terranno corsi mascherati per le strade del paese e sarà possibile approffitare dei negozi aperti per l’occasione (che potranno partecipare al concorso per la vetrina più bella). \nSi terranno inoltre un concorso per la mascherina migliore e una lotteria del Carnevale. Sabato 25 alla Villa di Colonnata/Gerini si terrà un veglione in maschera\, proprio come quelli di una volta\, allietato ovviamente da musica e dalla possibilità di cenare in loco.
URL:https://www.eventiintoscana.it/evento/festa-di-carnevale-sesto-fiorentino-sesto-fiorentino-firenze
LOCATION:Sesto Fiorentino\, Sesto Fiorentino\, Toscana\, 50019\, Italia
CATEGORIES:Firenze
ATTACH;FMTTYPE=image/jpeg:https://www.eventiintoscana.it/wp-content/uploads/2017/01/19783__carnevale8.jpg
END:VEVENT
BEGIN:VEVENT
DTSTART;TZID=Europe/Rome:20170212T000000
DTEND;TZID=Europe/Rome:20170226T000000
DTSTAMP:20260422T005655
CREATED:20170125T094133Z
LAST-MODIFIED:20170130T162719Z
UID:233487-1486857600-1488067200@www.eventiintoscana.it
SUMMARY:Carnevale follonichese - Follonica (Grosseto)
DESCRIPTION:Appuntamento a Follonica il 12\, 19 e 26 febbraio 2017\nLa partenza del Carnevale è prevista tutte le domeniche alle 14.30; il 12 si comincia con la prima sfilata dei carri allegorici e delle mascherate a terra sul circuito cittadino sul lungomare Carducci\, mentre il 19 si prosegue anche in serata con la cena libera-giro pizza alle 19.30 e il veglionissimo delle Reginette alle 21 all’Hotel Letizia. \nSi chiude il 26\, con anche la partecipazione della Filarmonica ‘G. Puccini’ di Follonica\, del Gruppo Follonichese ‘Carnevalando’ e con la premiazione del miglior carro e migliore mascherata a terra; alle 17.30 arriva anche il rogo di Re Carnevale sul Mare e alle 18.30 spettacolo pirotecnico della 50ª edizione alla foce della Gora. In caso di maltempo si terrà una sfilata supplementare il 5 marzo (o nelle domeniche successive).
URL:https://www.eventiintoscana.it/evento/carnevale-follonichese-follonica-follonica-grosseto
LOCATION:Follonica\, Follonica\, Toscana\, Italia
CATEGORIES:Grosseto
ATTACH;FMTTYPE=image/jpeg:https://www.eventiintoscana.it/wp-content/uploads/2017/01/19800__carnevalefollonica.jpg
END:VEVENT
BEGIN:VEVENT
DTSTART;TZID=Europe/Rome:20170212T000000
DTEND;TZID=Europe/Rome:20170226T000000
DTSTAMP:20260422T005655
CREATED:20170121T102052Z
LAST-MODIFIED:20170127T161631Z
UID:233001-1486857600-1488067200@www.eventiintoscana.it
SUMMARY:Carnevale di San Mauro - San Mauro a Signa (Firenze)
DESCRIPTION:Appuntamento per le vie di San Mauro a Signa per tre domeniche di festa e divertimento\, il 12\, 19 e 26 febbraio 2017\nOrganizzata dal Comitato Carnevale\, torna per il 51° anno la manifestazione che a ingresso gratuito (le eventuali offerte libere saranno devolute per la realizzazione del Carnevale 2018 e per le opere parrocchiali) vedrà sfilare carri allegorici e trenini (su cui i bimbi potranno salire) per il divertimento di tutti i presenti. \nDurante le tre domeniche sarà inoltre aperto uno stand gastronomico con specialità tipiche di carnevale come frittelle di riso\, roventini e tanto altro.
URL:https://www.eventiintoscana.it/evento/festa-di-carnevale-san-mauro-a-signa-signa-firenze
LOCATION:San Mauro a Signa\, Signa\, Toscana\, US
CATEGORIES:Firenze
ATTACH;FMTTYPE=image/png:https://www.eventiintoscana.it/wp-content/uploads/2017/01/carnevale-san-mauro-a-signa.png
END:VEVENT
END:VCALENDAR